Workbook

Sheet розрахунки
A1: Вхідні дані | F1: Витрати на оформлення | P1: 1
P2: 2 | R2: 12
A3: Вартість автомобіля, грн | B3: 0 | F3: Аванс, грн | G3: =IF(AND(B3>0,B3>=B5),(1-(B5/B3)),"-") -> - | P3: 3 | R3: 24
A4: Сума кредного ліміту, грн | B4: 200000 | F4: Разова комісія, грн | G4: =B4*B8 -> 5000 | P4: 4 | R4: 36
A5: Сума кредиту за договором, грн | B5: =IF(AND(G8="ні",G12="ні"),B4,IF(AND(G8="ні",G12="так"),B4+G4,IF(AND(G8="так",G12="так"),B4+B3*B9+G4,B4+B3*B9))) -> 200000 | C5: =IF(B2<=0.7," ","сума кредиту не може бути більше 70% від вартості авто") | F5: Оцінка авто, грн | G5: 0 | P5: 5 | R5: 48
A6: Строк | B6: 12 | F6: Нотаріус, грн (орієнтовно) | G6: 0 | P6: 6 | R6: 60
A7: Процетна ставка | B7: 0.52 | F7: КАСКО, грн | G7: =IF(G8="да",0,B3*B9) -> 0 | P7: 7
A8: Разова комісія | B8: 0.025 | F8: додати КАСКО за 1-ий рік в кредит? | G8: ні | P8: 8
A9: Страхування автомобіля, % від вартості | B9: 0 | F9: Всього витрат | G9: =SUM(G3:G8) -> 5000 | P9: 9
P10: 10 | R10: так
A11: Щомісячна комісія | B11: 0 | F11: Місячній платіж | G11: =-PMT(B7/12,B6,B5)+B5*B11 -> 21724.626 | P11: 11 | R11: ні
F12: додати разову комісію в кредит? | G12: ні | P12: 12
A13: Страхування життя позичальника | B13: 0 | P13: 13 | Q13: 12 | R13: 0.2626 | S13: 0.2499 | T13: 0.2099 | U13: =IF($B$4<=49%,R13,IF($B$4<70%,S13,T13)) -> 0.2099
P14: 14 | Q14: 24 | R14: 0.2626 | S14: 0.2499 | T14: 0.2099 | U14: =IF($B$4<=49%,R14,IF($B$4<70%,S14,T14)) -> 0.2099
A15: IRR | B15: =IF(B5=0,"-",IRR(графік!F20:F140)*12) -> 0.44433085 | P15: 15 | Q15: 36 | R15: 0.2755 | S15: 0.2626 | T15: 0.2255 | U15: =IF($B$4<=49%,R15,IF($B$4<70%,S15,T15)) -> 0.2255
A16: Денна ставка | B16: =IF(B5=0,"-",(графік!T20-графік!D4)/графік!D4/графік!F3) -> 0.0011884128 | P16: 16 | Q16: 48 | R16: 0.2799 | S16: 0.2699 | T16: 0.2323 | U16: =IF($B$4<=49%,R16,IF($B$4<70%,S16,T16)) -> 0.2323
A17: XIRR | B17: =графік!S20 -> 0.54769989 | P17: 17 | Q17: 60 | R17: 0.2855 | S17: 0.2755 | T17: 0.2399 | U17: =IF($B$4<=49%,R17,IF($B$4<70%,S17,T17)) -> 0.2399
P18: 18
P19: 19
P20: 20
P21: 21
P22: 22
P23: 23
P24: 24
P25: 25
P26: 26
P27: 27
P28: 28
P29: 29
... P135: 135

Sheet графік
G1: так
B2: Дата надання | D2: =TODAY() -> 45806 | F2: =EDATE(D2,D3) -> 46171 | G2: ні | AA2: да
B3: строк | D3: =розрахунки!B6 -> 12 | F3: =F2-D2 -> 365 | G3: =SUM(G21:G89) -> 200000 | AA3: нет
B4: сума кредиту | D4: =розрахунки!B5 -> 200000
C5: сума кредита на руки | D5: =розрахунки!B4 -> 200000
B6: процентна ставка | D6: =розрахунки!B7 -> 0.52 | E6: 1e-06
B7: щомісячна комісія | D7: =розрахунки!B11 -> 0
B8: разова комісія | D8: =розрахунки!B8 -> 0.025 | F8: нет
B9: вартість застави | D9: =розрахунки!B3 -> 0
B10: страхування застави | D10: =розрахунки!B9 -> 0
B11: страхування позичальника | D11: =розрахунки!B13 -> 0
B12: дата погашення | D12: =EDATE(D2,D3) -> 46171
B13: Платіж у місяць | D13: =-PMT(D6/12,D3,D4) -> 21724.626
B14: знижена ставка на пільговий період | D14: ні | F14: 0.36
B15: № з/п | C15: Дата видачі кредиту/дата платежу | D15: Кількість днів у розрахунковому періоді | E15: Сума заборгованості | F15: Чиста сума кредиту/сума платежу за розрахунковий період, грн. | G15: Види платежів за кредитом | S15: Реальна річна процентна ставка, % | T15: Загальна вартість кредиту, грн | U15: Загальні витрати
G16: сума кредиту за договором | H16: проценти за користування кредитом | I16: платежі за додаткові та супутні послуги | AD16: =XIRR(F20:F32,C20:C32) -> 0.54769989
I17: банку | M17: кредитного посередника | O17: третіх осіб
I18: за обслуговування кредитної заборгованості | J18: розрахунково-касове обслуговування | K18: комісія за надання кредиту | L18: інші послуги банку | M18: комісійний збір | N18: інша плата за послуги кредитного посередника | O18: послуги нотаріуса | P18: послуги оцінювача | Q18: послуги страховика | R18: інші послуги третіх осіб
B19: 1 | C19: 2 | D19: 3 | F19: 4 | G19: 5 | H19: 6 | I19: 7 | J19: 8 | K19: 9 | L19: 10 | M19: 11 | N19: 12 | O19: 13 | P19: 14 | Q19: 15 | R19: 16 | S19: 17 | T19: 18
B20: 0 | C20: =D2 -> 45806 | E20: =$D$4 -> 200000 | F20: =-D4+K20+J20+L20+M20+N20+O20+P20+Q20+R20 -> -195000 | K20: =розрахунки!G4 -> 5000 | O20: =розрахунки!G6 -> 0 | P20: =розрахунки!G5 -> 0 | Q20: =IF($D$3=B20,0,$D$10*($D$9)+$D$11*E20) -> 0 | S20: =SUM(U23:U191) -> 0.54769989 | T20: =SUM(F21:F140)+K20+O20+P20+Q20 -> 286754.13 | U20: =T20-D4 -> 86754.132 | AH20: =T20-E20 -> 86754.132
B21: 1 | C21: =EDATE(C20,1) -> 45837 | D21: =C21-C20 -> 31 | E21: =IF(C21=" "," ",E20-G21) -> 200000 | F21: =G21+H21+I21 -> 0.016986301 | G21: 0 | H21: =IF(C21=" "," ",IF($D$14="ні",E20*$E$6*D21/(DATE(YEAR(C21),12,31)-DATE(YEAR(C21),1,1)+1),E20*$F$14*D21/(DATE(YEAR(C21),12,31)-DATE(YEAR(C21),1,1)+1))) -> 0.016986301 | I21: =IF(C21=" "," ",IF($F$8="нет",$D$7*$D$4,($D$4*(1+$D$8))*$D$7)) -> 0 | L21: 0 | AG21: =DATE(YEAR(C21),12,31)-DATE(YEAR(C21),1,1)+1 -> 365
B22: 2 | C22: =IF(B21>=$D$3, " ", EDATE(C21,1)) -> 45867 | D22: =IF(C22=" "," ",(C22-C21)) -> 30 | E22: =IF(C22=" "," ",E21-G22) -> 198000 | F22: =IF(C22=" "," ",G22+H22+I22+L22) -> 2000.0164 | G22: =E21*1% -> 2000 | H22: =IF(C22=" "," ",IF($D$14="ні",E21*$E$6*D22/(DATE(YEAR(C22),12,31)-DATE(YEAR(C22),1,1)+1),E21*$F$14*D22/(DATE(YEAR(C22),12,31)-DATE(YEAR(C22),1,1)+1))) -> 0.016438356 | I22: =IF(C22=" "," ",IF($F$8="нет",$D$7*$D$4,($D$4*(1+$D$8))*$D$7)) -> 0 | U22: =IF(B21=$D$3,XIRR($F$20:F21,$C$20:C21)," ") | AG22: =DATE(YEAR(C22),12,31)-DATE(YEAR(C22),1,1)+1 -> 365
B23: =IF(C23 =" "," ",B22+1) -> 3 | C23: =IF(B22>=$D$3, " ", EDATE(C22,1)) -> 45898 | D23: =IF(C23=" "," ",(C23-C22)) -> 31 | E23: =IF(C23=" "," ",E22-G23) -> 196020 | F23: =IF(C23=" "," ",G23+H23+I23+L23) -> 10724.548 | G23: =E22*1% -> 1980 | H23: =IF(C23=" "," ",IF($D$14="ні",E22*$D$6*D23/(DATE(YEAR(C23),12,31)-DATE(YEAR(C23),1,1)+1),E22*$F$14*D23/(DATE(YEAR(C23),12,31)-DATE(YEAR(C23),1,1)+1))) -> 8744.5479 | I23: =IF(C23=" "," ",IF($F$8="нет",$D$7*$D$4,($D$4*(1+$D$8))*$D$7)) -> 0 | U23: =IF(B22=$D$3,XIRR($F$20:F22,$C$20:C22)," ") | AG23: =DATE(YEAR(C23),12,31)-DATE(YEAR(C23),1,1)+1 -> 365
B24: =IF(C24 =" "," ",B23+1) -> 4 | C24: =IF(B23>=$D$3, " ", EDATE(C23,1)) -> 45929 | D24: =IF(C24=" "," ",(C24-C23)) -> 31 | E24: =IF(C24=" "," ",E23-G24) -> 194059.8 | F24: =IF(C24=" "," ",G24+H24+I24+L24) -> 10617.302 | G24: =E23*1% -> 1960.2 | H24: =IF(C24=" "," ",IF($D$14="ні",E23*$D$6*D24/(DATE(YEAR(C24),12,31)-DATE(YEAR(C24),1,1)+1),E23*$F$14*D24/(DATE(YEAR(C24),12,31)-DATE(YEAR(C24),1,1)+1))) -> 8657.1025 | I24: =IF(C24=" "," ",IF($F$8="нет",$D$7*$D$4,($D$4*(1+$D$8))*$D$7)) -> 0 | U24: =IF(B23=$D$3,XIRR($F$20:F23,$C$20:C23)," ") | AG24: =DATE(YEAR(C24),12,31)-DATE(YEAR(C24),1,1)+1 -> 365
B25: =IF(C25 =" "," ",B24+1) -> 5 | C25: =IF(B24>=$D$3, " ", EDATE(C24,1)) -> 45959 | D25: =IF(C25=" "," ",(C25-C24)) -> 30 | E25: =IF(C25=" "," ",E24-G25) -> 192119.2 | F25: =IF(C25=" "," ",G25+H25+I25+L25) -> 10234.661 | G25: =E24*1% -> 1940.598 | H25: =IF(C25=" "," ",IF($D$14="ні",E24*$D$6*D25/(DATE(YEAR(C25),12,31)-DATE(YEAR(C25),1,1)+1),E24*$F$14*D25/(DATE(YEAR(C25),12,31)-DATE(YEAR(C25),1,1)+1))) -> 8294.0627 | I25: =IF(C25=" "," ",IF($F$8="нет",$D$7*$D$4,($D$4*(1+$D$8))*$D$7)) -> 0 | U25: =IF(B24=$D$3,XIRR($F$20:F24,$C$20:C24)," ") | AG25: =DATE(YEAR(C25),12,31)-DATE(YEAR(C25),1,1)+1 -> 365
B26: =IF(C26 =" "," ",B25+1) -> 6 | C26: =IF(B25>=$D$3, " ", EDATE(C25,1)) -> 45990 | D26: =IF(C26=" "," ",(C26-C25)) -> 31 | E26: =IF(C26=" "," ",E25-G26) -> 190198.01 | F26: =IF(C26=" "," ",G26+H26+I26+L26) -> 10406.018 | G26: =E25*1% -> 1921.192 | H26: =IF(C26=" "," ",IF($D$14="ні",E25*$D$6*D26/(DATE(YEAR(C26),12,31)-DATE(YEAR(C26),1,1)+1),E25*$F$14*D26/(DATE(YEAR(C26),12,31)-DATE(YEAR(C26),1,1)+1))) -> 8484.8261 | I26: =IF(C26=" "," ",IF($F$8="нет",$D$7*$D$4,($D$4*(1+$D$8))*$D$7)) -> 0 | U26: =IF(B25=$D$3,XIRR($F$20:F25,$C$20:C25)," ") | AG26: =DATE(YEAR(C26),12,31)-DATE(YEAR(C26),1,1)+1 -> 365
B27: =IF(C27 =" "," ",B26+1) -> 7 | C27: =IF(B26>=$D$3, " ", EDATE(C26,1)) -> 46020 | D27: =IF(C27=" "," ",(C27-C26)) -> 30 | E27: =IF(C27=" "," ",E26-G27) -> 188296.03 | F27: =IF(C27=" "," ",G27+H27+I27+L27) -> 10030.991 | G27: =E26*1% -> 1901.9801 | H27: =IF(C27=" "," ",IF($D$14="ні",E26*$D$6*D27/(DATE(YEAR(C27),12,31)-DATE(YEAR(C27),1,1)+1),E26*$F$14*D27/(DATE(YEAR(C27),12,31)-DATE(YEAR(C27),1,1)+1))) -> 8129.0108 | I27: =IF(C27=" "," ",IF($F$8="нет",$D$7*$D$4,($D$4*(1+$D$8))*$D$7)) -> 0 | U27: =IF(B26=$D$3,XIRR($F$20:F26,$C$20:C26)," ") | AG27: =DATE(YEAR(C27),12,31)-DATE(YEAR(C27),1,1)+1 -> 365
B28: =IF(C28 =" "," ",B27+1) -> 8 | C28: =IF(B27>=$D$3, " ", EDATE(C27,1)) -> 46051 | D28: =IF(C28=" "," ",(C28-C27)) -> 31 | E28: =IF(C28=" "," ",E27-G28) -> 186413.07 | F28: =IF(C28=" "," ",G28+H28+I28+L28) -> 10198.938 | G28: =E27*1% -> 1882.9603 | H28: =IF(C28=" "," ",IF($D$14="ні",E27*$D$6*D28/(DATE(YEAR(C28),12,31)-DATE(YEAR(C28),1,1)+1),E27*$F$14*D28/(DATE(YEAR(C28),12,31)-DATE(YEAR(C28),1,1)+1))) -> 8315.9781 | I28: =IF(C28=" "," ",IF($F$8="нет",$D$7*$D$4,($D$4*(1+$D$8))*$D$7)) -> 0 | U28: =IF(B27=$D$3,XIRR($F$20:F27,$C$20:C27)," ") | AG28: =DATE(YEAR(C28),12,31)-DATE(YEAR(C28),1,1)+1 -> 365
B29: =IF(C29 =" "," ",B28+1) -> 9 | C29: =IF(B28>=$D$3, " ", EDATE(C28,1)) -> 46081 | D29: =IF(C29=" "," ",(C29-C28)) -> 30 | E29: =IF(C29=" "," ",E28-G29) -> 184548.94 | F29: =IF(C29=" "," ",G29+H29+I29+L29) -> 9831.3742 | G29: =E28*1% -> 1864.1307 | H29: =IF(C29=" "," ",IF($D$14="ні",E28*$D$6*D29/(DATE(YEAR(C29),12,31)-DATE(YEAR(C29),1,1)+1),E28*$F$14*D29/(DATE(YEAR(C29),12,31)-DATE(YEAR(C29),1,1)+1))) -> 7967.2435 | I29: =IF(C29=" "," ",IF($F$8="нет",$D$7*$D$4,($D$4*(1+$D$8))*$D$7)) -> 0 | U29: =IF(B28=$D$3,XIRR($F$20:F28,$C$20:C28)," ") | AG29: =DATE(YEAR(C29),12,31)-DATE(YEAR(C29),1,1)+1 -> 365
B30: =IF(C30 =" "," ",B29+1) -> 10 | C30: =IF(B29>=$D$3, " ", EDATE(C29,1)) -> 46109 | D30: =IF(C30=" "," ",(C30-C29)) -> 28 | E30: =IF(C30=" "," ",E29-G30) -> 182703.45 | F30: =IF(C30=" "," ",G30+H30+I30+L30) -> 9207.2224 | G30: =E29*1% -> 1845.4894 | H30: =IF(C30=" "," ",IF($D$14="ні",E29*$D$6*D30/(DATE(YEAR(C30),12,31)-DATE(YEAR(C30),1,1)+1),E29*$F$14*D30/(DATE(YEAR(C30),12,31)-DATE(YEAR(C30),1,1)+1))) -> 7361.733 | I30: =IF(C30=" "," ",IF($F$8="нет",$D$7*$D$4,($D$4*(1+$D$8))*$D$7)) -> 0 | U30: =IF(B29=$D$3,XIRR($F$20:F29,$C$20:C29)," ") | AG30: =DATE(YEAR(C30),12,31)-DATE(YEAR(C30),1,1)+1 -> 365
B31: =IF(C31 =" "," ",B30+1) -> 11 | C31: =IF(B30>=$D$3, " ", EDATE(C30,1)) -> 46140 | D31: =IF(C31=" "," ",(C31-C30)) -> 31 | E31: =IF(C31=" "," ",E30-G31) -> 180876.42 | F31: =IF(C31=" "," ",G31+H31+I31+L31) -> 9896.0197 | G31: =E30*1% -> 1827.0345 | H31: =IF(C31=" "," ",IF($D$14="ні",E30*$D$6*D31/(DATE(YEAR(C31),12,31)-DATE(YEAR(C31),1,1)+1),E30*$F$14*D31/(DATE(YEAR(C31),12,31)-DATE(YEAR(C31),1,1)+1))) -> 8068.9852 | I31: =IF(C31=" "," ",IF($F$8="нет",$D$7*$D$4,($D$4*(1+$D$8))*$D$7)) -> 0 | U31: =IF(B30=$D$3,XIRR($F$20:F30,$C$20:C30)," ") | AG31: =DATE(YEAR(C31),12,31)-DATE(YEAR(C31),1,1)+1 -> 365
B32: =IF(C32 =" "," ",B31+1) -> 12 | C32: =IF(B31>=$D$3, " ", EDATE(C31,1)) -> 46170 | D32: =IF(C32=" "," ",(C32-C31)) -> 30 | E32: =IF(C32=" "," ",E31-G32) -> 0 | F32: =IF(C32=" "," ",G32+H32+I32+L32) -> 188607.02 | G32: =E31 -> 180876.42 | H32: =IF(C32=" "," ",IF($D$14="ні",E31*$D$6*D32/(DATE(YEAR(C32),12,31)-DATE(YEAR(C32),1,1)+1),E31*$F$14*D32/(DATE(YEAR(C32),12,31)-DATE(YEAR(C32),1,1)+1))) -> 7730.6084 | I32: =IF(C32=" "," ",IF($F$8="нет",$D$7*$D$4,($D$4*(1+$D$8))*$D$7)) -> 0 | Q32: =IF($D$3=B32,0,IF(C32=" "," ",$D$10*$D$9*0.95+$D$11*E32)) -> 0 | U32: =IF(B31=$D$3,XIRR($F$20:F31,$C$20:C31)," ") | AG32: =DATE(YEAR(C32),12,31)-DATE(YEAR(C32),1,1)+1 -> 365
B33: =IF(C33 =" "," ",B32+1) | C33: =IF(B32>=$D$3, " ", EDATE(C32,1)) | D33: =IF(C33=" "," ",(C33-C32)) | E33: =IF(C33=" "," ",E32-G33) | F33: =IF(C33=" "," ",G33+H33+I33+Q33) | G33: =IF(C33=" "," ",IF(C33=$D$12,$D$4-SUM($G$21:G32),($D$13-H33))) | H33: =IF(C33=" "," ",IF($D$14="ні",E32*$D$6*D33/(DATE(YEAR(C33),12,31)-DATE(YEAR(C33),1,1)+1),E32*$F$14*D33/(DATE(YEAR(C33),12,31)-DATE(YEAR(C33),1,1)+1))) | I33: =IF(C33=" "," ",IF($F$8="нет",$D$7*$D$4,($D$4*(1+$D$8))*$D$7)) | U33: =IF(B32=$D$3,XIRR($F$20:F32,$C$20:C32)," ") -> 0.54769989 | AG33: =DATE(YEAR(C33),12,31)-DATE(YEAR(C33),1,1)+1 -> #VALUE!
B34: =IF(C34 =" "," ",B33+1) | C34: =IF(B33>=$D$3, " ", EDATE(C33,1)) | D34: =IF(C34=" "," ",(C34-C33)) | E34: =IF(C34=" "," ",E33-G34) | F34: =IF(C34=" "," ",G34+H34+I34+Q34) | G34: =IF(C34=" "," ",IF(C34=$D$12,$D$4-SUM($G$21:G33),($D$13-H34))) | H34: =IF(C34=" "," ",IF($D$14="ні",E33*$D$6*D34/(DATE(YEAR(C34),12,31)-DATE(YEAR(C34),1,1)+1),E33*$F$14*D34/(DATE(YEAR(C34),12,31)-DATE(YEAR(C34),1,1)+1))) | I34: =IF(C34=" "," ",IF($F$8="нет",$D$7*$D$4,($D$4*(1+$D$8))*$D$7)) | U34: =IF(B33=$D$3,XIRR($F$20:F33,$C$20:C33)," ") | AG34: =DATE(YEAR(C34),12,31)-DATE(YEAR(C34),1,1)+1 -> #VALUE!
B35: =IF(C35 =" "," ",B34+1) | C35: =IF(B34>=$D$3, " ", EDATE(C34,1)) | D35: =IF(C35=" "," ",(C35-C34)) | E35: =IF(C35=" "," ",E34-G35) | F35: =IF(C35=" "," ",G35+H35+I35+Q35) | G35: =IF(C35=" "," ",IF(C35=$D$12,$D$4-SUM($G$21:G34),($D$13-H35))) | H35: =IF(C35=" "," ",IF($D$14="ні",E34*$D$6*D35/(DATE(YEAR(C35),12,31)-DATE(YEAR(C35),1,1)+1),E34*$F$14*D35/(DATE(YEAR(C35),12,31)-DATE(YEAR(C35),1,1)+1))) | I35: =IF(C35=" "," ",IF($F$8="нет",$D$7*$D$4,($D$4*(1+$D$8))*$D$7)) | U35: =IF(B34=$D$3,XIRR($F$20:F34,$C$20:C34)," ") | AG35: =DATE(YEAR(C35),12,31)-DATE(YEAR(C35),1,1)+1 -> #VALUE!
B36: =IF(C36 =" "," ",B35+1) | C36: =IF(B35>=$D$3, " ", EDATE(C35,1)) | D36: =IF(C36=" "," ",(C36-C35)) | E36: =IF(C36=" "," ",E35-G36) | F36: =IF(C36=" "," ",G36+H36+I36+Q36) | G36: =IF(C36=" "," ",IF(C36=$D$12,$D$4-SUM($G$21:G35),($D$13-H36))) | H36: =IF(C36=" "," ",IF($D$14="ні",E35*$D$6*D36/(DATE(YEAR(C36),12,31)-DATE(YEAR(C36),1,1)+1),E35*$F$14*D36/(DATE(YEAR(C36),12,31)-DATE(YEAR(C36),1,1)+1))) | I36: =IF(C36=" "," ",IF($F$8="нет",$D$7*$D$4,($D$4*(1+$D$8))*$D$7)) | U36: =IF(B35=$D$3,XIRR($F$20:F35,$C$20:C35)," ") | AG36: =DATE(YEAR(C36),12,31)-DATE(YEAR(C36),1,1)+1 -> #VALUE!
B37: =IF(C37 =" "," ",B36+1) | C37: =IF(B36>=$D$3, " ", EDATE(C36,1)) | D37: =IF(C37=" "," ",(C37-C36)) | E37: =IF(C37=" "," ",E36-G37) | F37: =IF(C37=" "," ",G37+H37+I37+Q37) | G37: =IF(C37=" "," ",IF(C37=$D$12,$D$4-SUM($G$21:G36),($D$13-H37))) | H37: =IF(C37=" "," ",IF($D$14="ні",E36*$D$6*D37/(DATE(YEAR(C37),12,31)-DATE(YEAR(C37),1,1)+1),E36*$F$14*D37/(DATE(YEAR(C37),12,31)-DATE(YEAR(C37),1,1)+1))) | I37: =IF(C37=" "," ",IF($F$8="нет",$D$7*$D$4,($D$4*(1+$D$8))*$D$7)) | U37: =IF(B36=$D$3,XIRR($F$20:F36,$C$20:C36)," ") | AG37: =DATE(YEAR(C37),12,31)-DATE(YEAR(C37),1,1)+1 -> #VALUE!
B38: =IF(C38 =" "," ",B37+1) | C38: =IF(B37>=$D$3, " ", EDATE(C37,1)) | D38: =IF(C38=" "," ",(C38-C37)) | E38: =IF(C38=" "," ",E37-G38) | F38: =IF(C38=" "," ",G38+H38+I38+Q38) | G38: =IF(C38=" "," ",IF(C38=$D$12,$D$4-SUM($G$21:G37),($D$13-H38))) | H38: =IF(C38=" "," ",IF($D$14="ні",E37*$D$6*D38/(DATE(YEAR(C38),12,31)-DATE(YEAR(C38),1,1)+1),E37*$F$14*D38/(DATE(YEAR(C38),12,31)-DATE(YEAR(C38),1,1)+1))) | I38: =IF(C38=" "," ",IF($F$8="нет",$D$7*$D$4,($D$4*(1+$D$8))*$D$7)) | U38: =IF(B37=$D$3,XIRR($F$20:F37,$C$20:C37)," ") | AG38: =DATE(YEAR(C38),12,31)-DATE(YEAR(C38),1,1)+1 -> #VALUE!
B39: =IF(C39 =" "," ",B38+1) | C39: =IF(B38>=$D$3, " ", EDATE(C38,1)) | D39: =IF(C39=" "," ",(C39-C38)) | E39: =IF(C39=" "," ",E38-G39) | F39: =IF(C39=" "," ",G39+H39+I39+Q39) | G39: =IF(C39=" "," ",IF(C39=$D$12,$D$4-SUM($G$21:G38),($D$13-H39))) | H39: =IF(C39=" "," ",IF($D$14="ні",E38*$D$6*D39/(DATE(YEAR(C39),12,31)-DATE(YEAR(C39),1,1)+1),E38*$F$14*D39/(DATE(YEAR(C39),12,31)-DATE(YEAR(C39),1,1)+1))) | I39: =IF(C39=" "," ",IF($F$8="нет",$D$7*$D$4,($D$4*(1+$D$8))*$D$7)) | U39: =IF(B38=$D$3,XIRR($F$20:F38,$C$20:C38)," ") | AG39: =DATE(YEAR(C39),12,31)-DATE(YEAR(C39),1,1)+1 -> #VALUE!
B40: =IF(C40 =" "," ",B39+1) | C40: =IF(B39>=$D$3, " ", EDATE(C39,1)) | D40: =IF(C40=" "," ",(C40-C39)) | E40: =IF(C40=" "," ",E39-G40) | F40: =IF(C40=" "," ",G40+H40+I40+Q40) | G40: =IF(C40=" "," ",IF(C40=$D$12,$D$4-SUM($G$21:G39),($D$13-H40))) | H40: =IF(C40=" "," ",IF($D$14="ні",E39*$D$6*D40/(DATE(YEAR(C40),12,31)-DATE(YEAR(C40),1,1)+1),E39*$F$14*D40/(DATE(YEAR(C40),12,31)-DATE(YEAR(C40),1,1)+1))) | I40: =IF(C40=" "," ",IF($F$8="нет",$D$7*$D$4,($D$4*(1+$D$8))*$D$7)) | U40: =IF(B39=$D$3,XIRR($F$20:F39,$C$20:C39)," ") | AG40: =DATE(YEAR(C40),12,31)-DATE(YEAR(C40),1,1)+1 -> #VALUE!
B41: =IF(C41 =" "," ",B40+1) | C41: =IF(B40>=$D$3, " ", EDATE(C40,1)) | D41: =IF(C41=" "," ",(C41-C40)) | E41: =IF(C41=" "," ",E40-G41) | F41: =IF(C41=" "," ",G41+H41+I41+Q41) | G41: =IF(C41=" "," ",IF(C41=$D$12,$D$4-SUM($G$21:G40),($D$13-H41))) | H41: =IF(C41=" "," ",IF($D$14="ні",E40*$D$6*D41/(DATE(YEAR(C41),12,31)-DATE(YEAR(C41),1,1)+1),E40*$F$14*D41/(DATE(YEAR(C41),12,31)-DATE(YEAR(C41),1,1)+1))) | I41: =IF(C41=" "," ",IF($F$8="нет",$D$7*$D$4,($D$4*(1+$D$8))*$D$7)) | U41: =IF(B40=$D$3,XIRR($F$20:F40,$C$20:C40)," ") | AG41: =DATE(YEAR(C41),12,31)-DATE(YEAR(C41),1,1)+1 -> #VALUE!
B42: =IF(C42 =" "," ",B41+1) | C42: =IF(B41>=$D$3, " ", EDATE(C41,1)) | D42: =IF(C42=" "," ",(C42-C41)) | E42: =IF(C42=" "," ",E41-G42) | F42: =IF(C42=" "," ",G42+H42+I42+Q42) | G42: =IF(C42=" "," ",IF(C42=$D$12,$D$4-SUM($G$21:G41),($D$13-H42))) | H42: =IF(C42=" "," ",IF($D$14="ні",E41*$D$6*D42/(DATE(YEAR(C42),12,31)-DATE(YEAR(C42),1,1)+1),E41*$F$14*D42/(DATE(YEAR(C42),12,31)-DATE(YEAR(C42),1,1)+1))) | I42: =IF(C42=" "," ",IF($F$8="нет",$D$7*$D$4,($D$4*(1+$D$8))*$D$7)) | U42: =IF(B41=$D$3,XIRR($F$20:F41,$C$20:C41)," ") | AG42: =DATE(YEAR(C42),12,31)-DATE(YEAR(C42),1,1)+1 -> #VALUE!
B43: =IF(C43 =" "," ",B42+1) | C43: =IF(B42>=$D$3, " ", EDATE(C42,1)) | D43: =IF(C43=" "," ",(C43-C42)) | E43: =IF(C43=" "," ",E42-G43) | F43: =IF(C43=" "," ",G43+H43+I43+Q43) | G43: =IF(C43=" "," ",IF(C43=$D$12,$D$4-SUM($G$21:G42),($D$13-H43))) | H43: =IF(C43=" "," ",IF($D$14="ні",E42*$D$6*D43/(DATE(YEAR(C43),12,31)-DATE(YEAR(C43),1,1)+1),E42*$F$14*D43/(DATE(YEAR(C43),12,31)-DATE(YEAR(C43),1,1)+1))) | I43: =IF(C43=" "," ",IF($F$8="нет",$D$7*$D$4,($D$4*(1+$D$8))*$D$7)) | U43: =IF(B42=$D$3,XIRR($F$20:F42,$C$20:C42)," ") | AG43: =DATE(YEAR(C43),12,31)-DATE(YEAR(C43),1,1)+1 -> #VALUE!
B44: =IF(C44 =" "," ",B43+1) | C44: =IF(B43>=$D$3, " ", EDATE(C43,1)) | D44: =IF(C44=" "," ",(C44-C43)) | E44: =IF(C44=" "," ",E43-G44) | F44: =IF(C44=" "," ",G44+H44+I44+Q44) | G44: =IF(C44=" "," ",IF(C44=$D$12,$D$4-SUM($G$21:G43),($D$13-H44))) | H44: =IF(C44=" "," ",IF($D$14="ні",E43*$D$6*D44/(DATE(YEAR(C44),12,31)-DATE(YEAR(C44),1,1)+1),E43*$F$14*D44/(DATE(YEAR(C44),12,31)-DATE(YEAR(C44),1,1)+1))) | I44: =IF(C44=" "," ",IF($F$8="нет",$D$7*$D$4,($D$4*(1+$D$8))*$D$7)) | Q44: =IF($D$3=B44,0,IF(C44=" "," ",$D$10*$D$9*0.9+$D$11*E44)) | U44: =IF(B43=$D$3,XIRR($F$20:F43,$C$20:C43)," ") | AG44: =DATE(YEAR(C44),12,31)-DATE(YEAR(C44),1,1)+1 -> #VALUE!
B45: =IF(C45 =" "," ",B44+1) | C45: =IF(B44>=$D$3, " ", EDATE(C44,1)) | D45: =IF(C45=" "," ",(C45-C44)) | E45: =IF(C45=" "," ",E44-G45) | F45: =IF(C45=" "," ",G45+H45+I45+Q45) | G45: =IF(C45=" "," ",IF(C45=$D$12,$D$4-SUM($G$21:G44),($D$13-H45))) | H45: =IF(C45=" "," ",IF($D$14="ні",E44*$D$6*D45/(DATE(YEAR(C45),12,31)-DATE(YEAR(C45),1,1)+1),E44*$F$14*D45/(DATE(YEAR(C45),12,31)-DATE(YEAR(C45),1,1)+1))) | I45: =IF(C45=" "," ",IF($F$8="нет",$D$7*$D$4,($D$4*(1+$D$8))*$D$7)) | U45: =IF(B44=$D$3,XIRR($F$20:F44,$C$20:C44)," ") | AG45: =DATE(YEAR(C45),12,31)-DATE(YEAR(C45),1,1)+1 -> #VALUE!
B46: =IF(C46 =" "," ",B45+1) | C46: =IF(B45>=$D$3, " ", EDATE(C45,1)) | D46: =IF(C46=" "," ",(C46-C45)) | E46: =IF(C46=" "," ",E45-G46) | F46: =IF(C46=" "," ",G46+H46+I46+Q46) | G46: =IF(C46=" "," ",IF(C46=$D$12,$D$4-SUM($G$21:G45),($D$13-H46))) | H46: =IF(C46=" "," ",IF($D$14="ні",E45*$D$6*D46/(DATE(YEAR(C46),12,31)-DATE(YEAR(C46),1,1)+1),E45*$F$14*D46/(DATE(YEAR(C46),12,31)-DATE(YEAR(C46),1,1)+1))) | I46: =IF(C46=" "," ",IF($F$8="нет",$D$7*$D$4,($D$4*(1+$D$8))*$D$7)) | U46: =IF(B45=$D$3,XIRR($F$20:F45,$C$20:C45)," ") | AG46: =DATE(YEAR(C46),12,31)-DATE(YEAR(C46),1,1)+1 -> #VALUE!
B47: =IF(C47 =" "," ",B46+1) | C47: =IF(B46>=$D$3, " ", EDATE(C46,1)) | D47: =IF(C47=" "," ",(C47-C46)) | E47: =IF(C47=" "," ",E46-G47) | F47: =IF(C47=" "," ",G47+H47+I47+Q47) | G47: =IF(C47=" "," ",IF(C47=$D$12,$D$4-SUM($G$21:G46),($D$13-H47))) | H47: =IF(C47=" "," ",IF($D$14="ні",E46*$D$6*D47/(DATE(YEAR(C47),12,31)-DATE(YEAR(C47),1,1)+1),E46*$F$14*D47/(DATE(YEAR(C47),12,31)-DATE(YEAR(C47),1,1)+1))) | I47: =IF(C47=" "," ",IF($F$8="нет",$D$7*$D$4,($D$4*(1+$D$8))*$D$7)) | U47: =IF(B46=$D$3,XIRR($F$20:F46,$C$20:C46)," ") | AG47: =DATE(YEAR(C47),12,31)-DATE(YEAR(C47),1,1)+1 -> #VALUE!
B48: =IF(C48 =" "," ",B47+1) | C48: =IF(B47>=$D$3, " ", EDATE(C47,1)) | D48: =IF(C48=" "," ",(C48-C47)) | E48: =IF(C48=" "," ",E47-G48) | F48: =IF(C48=" "," ",G48+H48+I48+Q48) | G48: =IF(C48=" "," ",IF(C48=$D$12,$D$4-SUM($G$21:G47),($D$13-H48))) | H48: =IF(C48=" "," ",IF($D$14="ні",E47*$D$6*D48/(DATE(YEAR(C48),12,31)-DATE(YEAR(C48),1,1)+1),E47*$F$14*D48/(DATE(YEAR(C48),12,31)-DATE(YEAR(C48),1,1)+1))) | I48: =IF(C48=" "," ",IF($F$8="нет",$D$7*$D$4,($D$4*(1+$D$8))*$D$7)) | U48: =IF(B47=$D$3,XIRR($F$20:F47,$C$20:C47)," ") | AG48: =DATE(YEAR(C48),12,31)-DATE(YEAR(C48),1,1)+1 -> #VALUE!
B49: =IF(C49 =" "," ",B48+1) | C49: =IF(B48>=$D$3, " ", EDATE(C48,1)) | D49: =IF(C49=" "," ",(C49-C48)) | E49: =IF(C49=" "," ",E48-G49) | F49: =IF(C49=" "," ",G49+H49+I49+Q49) | G49: =IF(C49=" "," ",IF(C49=$D$12,$D$4-SUM($G$21:G48),($D$13-H49))) | H49: =IF(C49=" "," ",IF($D$14="ні",E48*$D$6*D49/(DATE(YEAR(C49),12,31)-DATE(YEAR(C49),1,1)+1),E48*$F$14*D49/(DATE(YEAR(C49),12,31)-DATE(YEAR(C49),1,1)+1))) | I49: =IF(C49=" "," ",IF($F$8="нет",$D$7*$D$4,($D$4*(1+$D$8))*$D$7)) | U49: =IF(B48=$D$3,XIRR($F$20:F48,$C$20:C48)," ") | AG49: =DATE(YEAR(C49),12,31)-DATE(YEAR(C49),1,1)+1 -> #VALUE!
B50: =IF(C50 =" "," ",B49+1) | C50: =IF(B49>=$D$3, " ", EDATE(C49,1)) | D50: =IF(C50=" "," ",(C50-C49)) | E50: =IF(C50=" "," ",E49-G50) | F50: =IF(C50=" "," ",G50+H50+I50+Q50) | G50: =IF(C50=" "," ",IF(C50=$D$12,$D$4-SUM($G$21:G49),($D$13-H50))) | H50: =IF(C50=" "," ",IF($D$14="ні",E49*$D$6*D50/(DATE(YEAR(C50),12,31)-DATE(YEAR(C50),1,1)+1),E49*$F$14*D50/(DATE(YEAR(C50),12,31)-DATE(YEAR(C50),1,1)+1))) | I50: =IF(C50=" "," ",IF($F$8="нет",$D$7*$D$4,($D$4*(1+$D$8))*$D$7)) | U50: =IF(B49=$D$3,XIRR($F$20:F49,$C$20:C49)," ") | AG50: =DATE(YEAR(C50),12,31)-DATE(YEAR(C50),1,1)+1 -> #VALUE!
B51: =IF(C51 =" "," ",B50+1) | C51: =IF(B50>=$D$3, " ", EDATE(C50,1)) | D51: =IF(C51=" "," ",(C51-C50)) | E51: =IF(C51=" "," ",E50-G51) | F51: =IF(C51=" "," ",G51+H51+I51+Q51) | G51: =IF(C51=" "," ",IF(C51=$D$12,$D$4-SUM($G$21:G50),($D$13-H51))) | H51: =IF(C51=" "," ",IF($D$14="ні",E50*$D$6*D51/(DATE(YEAR(C51),12,31)-DATE(YEAR(C51),1,1)+1),E50*$F$14*D51/(DATE(YEAR(C51),12,31)-DATE(YEAR(C51),1,1)+1))) | I51: =IF(C51=" "," ",IF($F$8="нет",$D$7*$D$4,($D$4*(1+$D$8))*$D$7)) | U51: =IF(B50=$D$3,XIRR($F$20:F50,$C$20:C50)," ") | AG51: =DATE(YEAR(C51),12,31)-DATE(YEAR(C51),1,1)+1 -> #VALUE!
B52: =IF(C52 =" "," ",B51+1) | C52: =IF(B51>=$D$3, " ", EDATE(C51,1)) | D52: =IF(C52=" "," ",(C52-C51)) | E52: =IF(C52=" "," ",E51-G52) | F52: =IF(C52=" "," ",G52+H52+I52+Q52) | G52: =IF(C52=" "," ",IF(C52=$D$12,$D$4-SUM($G$21:G51),($D$13-H52))) | H52: =IF(C52=" "," ",IF($D$14="ні",E51*$D$6*D52/(DATE(YEAR(C52),12,31)-DATE(YEAR(C52),1,1)+1),E51*$F$14*D52/(DATE(YEAR(C52),12,31)-DATE(YEAR(C52),1,1)+1))) | I52: =IF(C52=" "," ",IF($F$8="нет",$D$7*$D$4,($D$4*(1+$D$8))*$D$7)) | U52: =IF(B51=$D$3,XIRR($F$20:F51,$C$20:C51)," ") | AG52: =DATE(YEAR(C52),12,31)-DATE(YEAR(C52),1,1)+1 -> #VALUE!
B53: =IF(C53 =" "," ",B52+1) | C53: =IF(B52>=$D$3, " ", EDATE(C52,1)) | D53: =IF(C53=" "," ",(C53-C52)) | E53: =IF(C53=" "," ",E52-G53) | F53: =IF(C53=" "," ",G53+H53+I53+Q53) | G53: =IF(C53=" "," ",IF(C53=$D$12,$D$4-SUM($G$21:G52),($D$13-H53))) | H53: =IF(C53=" "," ",IF($D$14="ні",E52*$D$6*D53/(DATE(YEAR(C53),12,31)-DATE(YEAR(C53),1,1)+1),E52*$F$14*D53/(DATE(YEAR(C53),12,31)-DATE(YEAR(C53),1,1)+1))) | I53: =IF(C53=" "," ",IF($F$8="нет",$D$7*$D$4,($D$4*(1+$D$8))*$D$7)) | U53: =IF(B52=$D$3,XIRR($F$20:F52,$C$20:C52)," ") | AG53: =DATE(YEAR(C53),12,31)-DATE(YEAR(C53),1,1)+1 -> #VALUE!
B54: =IF(C54 =" "," ",B53+1) | C54: =IF(B53>=$D$3, " ", EDATE(C53,1)) | D54: =IF(C54=" "," ",(C54-C53)) | E54: =IF(C54=" "," ",E53-G54) | F54: =IF(C54=" "," ",G54+H54+I54+Q54) | G54: =IF(C54=" "," ",IF(C54=$D$12,$D$4-SUM($G$21:G53),($D$13-H54))) | H54: =IF(C54=" "," ",IF($D$14="ні",E53*$D$6*D54/(DATE(YEAR(C54),12,31)-DATE(YEAR(C54),1,1)+1),E53*$F$14*D54/(DATE(YEAR(C54),12,31)-DATE(YEAR(C54),1,1)+1))) | I54: =IF(C54=" "," ",IF($F$8="нет",$D$7*$D$4,($D$4*(1+$D$8))*$D$7)) | U54: =IF(B53=$D$3,XIRR($F$20:F53,$C$20:C53)," ") | AG54: =DATE(YEAR(C54),12,31)-DATE(YEAR(C54),1,1)+1 -> #VALUE!
B55: =IF(C55 =" "," ",B54+1) | C55: =IF(B54>=$D$3, " ", EDATE(C54,1)) | D55: =IF(C55=" "," ",(C55-C54)) | E55: =IF(C55=" "," ",E54-G55) | F55: =IF(C55=" "," ",G55+H55+I55+Q55) | G55: =IF(C55=" "," ",IF(C55=$D$12,$D$4-SUM($G$21:G54),($D$13-H55))) | H55: =IF(C55=" "," ",IF($D$14="ні",E54*$D$6*D55/(DATE(YEAR(C55),12,31)-DATE(YEAR(C55),1,1)+1),E54*$F$14*D55/(DATE(YEAR(C55),12,31)-DATE(YEAR(C55),1,1)+1))) | I55: =IF(C55=" "," ",IF($F$8="нет",$D$7*$D$4,($D$4*(1+$D$8))*$D$7)) | U55: =IF(B54=$D$3,XIRR($F$20:F54,$C$20:C54)," ") | AG55: =DATE(YEAR(C55),12,31)-DATE(YEAR(C55),1,1)+1 -> #VALUE!
B56: =IF(C56 =" "," ",B55+1) | C56: =IF(B55>=$D$3, " ", EDATE(C55,1)) | D56: =IF(C56=" "," ",(C56-C55)) | E56: =IF(C56=" "," ",E55-G56) | F56: =IF(C56=" "," ",G56+H56+I56+Q56) | G56: =IF(C56=" "," ",IF(C56=$D$12,$D$4-SUM($G$21:G55),($D$13-H56))) | H56: =IF(C56=" "," ",IF($D$14="ні",E55*$D$6*D56/(DATE(YEAR(C56),12,31)-DATE(YEAR(C56),1,1)+1),E55*$F$14*D56/(DATE(YEAR(C56),12,31)-DATE(YEAR(C56),1,1)+1))) | I56: =IF(C56=" "," ",IF($F$8="нет",$D$7*$D$4,($D$4*(1+$D$8))*$D$7)) | Q56: =IF($D$3=B56,0,IF(C56=" "," ",$D$10*$D$9*0.85+$D$11*E56)) | U56: =IF(B55=$D$3,XIRR($F$20:F55,$C$20:C55)," ") | AG56: =DATE(YEAR(C56),12,31)-DATE(YEAR(C56),1,1)+1 -> #VALUE!
B57: =IF(C57 =" "," ",B56+1) | C57: =IF(B56>=$D$3, " ", EDATE(C56,1)) | D57: =IF(C57=" "," ",(C57-C56)) | E57: =IF(C57=" "," ",E56-G57) | F57: =IF(C57=" "," ",G57+H57+I57+Q57) | G57: =IF(C57=" "," ",IF(C57=$D$12,$D$4-SUM($G$21:G56),($D$13-H57))) | H57: =IF(C57=" "," ",IF($D$14="ні",E56*$D$6*D57/(DATE(YEAR(C57),12,31)-DATE(YEAR(C57),1,1)+1),E56*$F$14*D57/(DATE(YEAR(C57),12,31)-DATE(YEAR(C57),1,1)+1))) | I57: =IF(C57=" "," ",IF($F$8="нет",$D$7*$D$4,($D$4*(1+$D$8))*$D$7)) | U57: =IF(B56=$D$3,XIRR($F$20:F56,$C$20:C56)," ") | AG57: =DATE(YEAR(C57),12,31)-DATE(YEAR(C57),1,1)+1 -> #VALUE!
B58: =IF(C58 =" "," ",B57+1) | C58: =IF(B57>=$D$3, " ", EDATE(C57,1)) | D58: =IF(C58=" "," ",(C58-C57)) | E58: =IF(C58=" "," ",E57-G58) | F58: =IF(C58=" "," ",G58+H58+I58+Q58) | G58: =IF(C58=" "," ",IF(C58=$D$12,$D$4-SUM($G$21:G57),($D$13-H58))) | H58: =IF(C58=" "," ",IF($D$14="ні",E57*$D$6*D58/(DATE(YEAR(C58),12,31)-DATE(YEAR(C58),1,1)+1),E57*$F$14*D58/(DATE(YEAR(C58),12,31)-DATE(YEAR(C58),1,1)+1))) | I58: =IF(C58=" "," ",IF($F$8="нет",$D$7*$D$4,($D$4*(1+$D$8))*$D$7)) | U58: =IF(B57=$D$3,XIRR($F$20:F57,$C$20:C57)," ") | AG58: =DATE(YEAR(C58),12,31)-DATE(YEAR(C58),1,1)+1 -> #VALUE!
B59: =IF(C59 =" "," ",B58+1) | C59: =IF(B58>=$D$3, " ", EDATE(C58,1)) | D59: =IF(C59=" "," ",(C59-C58)) | E59: =IF(C59=" "," ",E58-G59) | F59: =IF(C59=" "," ",G59+H59+I59+Q59) | G59: =IF(C59=" "," ",IF(C59=$D$12,$D$4-SUM($G$21:G58),($D$13-H59))) | H59: =IF(C59=" "," ",IF($D$14="ні",E58*$D$6*D59/(DATE(YEAR(C59),12,31)-DATE(YEAR(C59),1,1)+1),E58*$F$14*D59/(DATE(YEAR(C59),12,31)-DATE(YEAR(C59),1,1)+1))) | I59: =IF(C59=" "," ",IF($F$8="нет",$D$7*$D$4,($D$4*(1+$D$8))*$D$7)) | U59: =IF(B58=$D$3,XIRR($F$20:F58,$C$20:C58)," ") | AG59: =DATE(YEAR(C59),12,31)-DATE(YEAR(C59),1,1)+1 -> #VALUE!
B60: =IF(C60 =" "," ",B59+1) | C60: =IF(B59>=$D$3, " ", EDATE(C59,1)) | D60: =IF(C60=" "," ",(C60-C59)) | E60: =IF(C60=" "," ",E59-G60) | F60: =IF(C60=" "," ",G60+H60+I60+Q60) | G60: =IF(C60=" "," ",IF(C60=$D$12,$D$4-SUM($G$21:G59),($D$13-H60))) | H60: =IF(C60=" "," ",IF($D$14="ні",E59*$D$6*D60/(DATE(YEAR(C60),12,31)-DATE(YEAR(C60),1,1)+1),E59*$F$14*D60/(DATE(YEAR(C60),12,31)-DATE(YEAR(C60),1,1)+1))) | I60: =IF(C60=" "," ",IF($F$8="нет",$D$7*$D$4,($D$4*(1+$D$8))*$D$7)) | U60: =IF(B59=$D$3,XIRR($F$20:F59,$C$20:C59)," ") | AG60: =DATE(YEAR(C60),12,31)-DATE(YEAR(C60),1,1)+1 -> #VALUE!
B61: =IF(C61 =" "," ",B60+1) | C61: =IF(B60>=$D$3, " ", EDATE(C60,1)) | D61: =IF(C61=" "," ",(C61-C60)) | E61: =IF(C61=" "," ",E60-G61) | F61: =IF(C61=" "," ",G61+H61+I61+Q61) | G61: =IF(C61=" "," ",IF(C61=$D$12,$D$4-SUM($G$21:G60),($D$13-H61))) | H61: =IF(C61=" "," ",IF($D$14="ні",E60*$D$6*D61/(DATE(YEAR(C61),12,31)-DATE(YEAR(C61),1,1)+1),E60*$F$14*D61/(DATE(YEAR(C61),12,31)-DATE(YEAR(C61),1,1)+1))) | I61: =IF(C61=" "," ",IF($F$8="нет",$D$7*$D$4,($D$4*(1+$D$8))*$D$7)) | U61: =IF(B60=$D$3,XIRR($F$20:F60,$C$20:C60)," ") | AG61: =DATE(YEAR(C61),12,31)-DATE(YEAR(C61),1,1)+1 -> #VALUE!
B62: =IF(C62 =" "," ",B61+1) | C62: =IF(B61>=$D$3, " ", EDATE(C61,1)) | D62: =IF(C62=" "," ",(C62-C61)) | E62: =IF(C62=" "," ",E61-G62) | F62: =IF(C62=" "," ",G62+H62+I62+Q62) | G62: =IF(C62=" "," ",IF(C62=$D$12,$D$4-SUM($G$21:G61),($D$13-H62))) | H62: =IF(C62=" "," ",IF($D$14="ні",E61*$D$6*D62/(DATE(YEAR(C62),12,31)-DATE(YEAR(C62),1,1)+1),E61*$F$14*D62/(DATE(YEAR(C62),12,31)-DATE(YEAR(C62),1,1)+1))) | I62: =IF(C62=" "," ",IF($F$8="нет",$D$7*$D$4,($D$4*(1+$D$8))*$D$7)) | U62: =IF(B61=$D$3,XIRR($F$20:F61,$C$20:C61)," ") | AG62: =DATE(YEAR(C62),12,31)-DATE(YEAR(C62),1,1)+1 -> #VALUE!
B63: =IF(C63 =" "," ",B62+1) | C63: =IF(B62>=$D$3, " ", EDATE(C62,1)) | D63: =IF(C63=" "," ",(C63-C62)) | E63: =IF(C63=" "," ",E62-G63) | F63: =IF(C63=" "," ",G63+H63+I63+Q63) | G63: =IF(C63=" "," ",IF(C63=$D$12,$D$4-SUM($G$21:G62),($D$13-H63))) | H63: =IF(C63=" "," ",IF($D$14="ні",E62*$D$6*D63/(DATE(YEAR(C63),12,31)-DATE(YEAR(C63),1,1)+1),E62*$F$14*D63/(DATE(YEAR(C63),12,31)-DATE(YEAR(C63),1,1)+1))) | I63: =IF(C63=" "," ",IF($F$8="нет",$D$7*$D$4,($D$4*(1+$D$8))*$D$7)) | U63: =IF(B62=$D$3,XIRR($F$20:F62,$C$20:C62)," ") | AG63: =DATE(YEAR(C63),12,31)-DATE(YEAR(C63),1,1)+1 -> #VALUE!
B64: =IF(C64 =" "," ",B63+1) | C64: =IF(B63>=$D$3, " ", EDATE(C63,1)) | D64: =IF(C64=" "," ",(C64-C63)) | E64: =IF(C64=" "," ",E63-G64) | F64: =IF(C64=" "," ",G64+H64+I64+Q64) | G64: =IF(C64=" "," ",IF(C64=$D$12,$D$4-SUM($G$21:G63),($D$13-H64))) | H64: =IF(C64=" "," ",IF($D$14="ні",E63*$D$6*D64/(DATE(YEAR(C64),12,31)-DATE(YEAR(C64),1,1)+1),E63*$F$14*D64/(DATE(YEAR(C64),12,31)-DATE(YEAR(C64),1,1)+1))) | I64: =IF(C64=" "," ",IF($F$8="нет",$D$7*$D$4,($D$4*(1+$D$8))*$D$7)) | U64: =IF(B63=$D$3,XIRR($F$20:F63,$C$20:C63)," ") | AG64: =DATE(YEAR(C64),12,31)-DATE(YEAR(C64),1,1)+1 -> #VALUE!
B65: =IF(C65 =" "," ",B64+1) | C65: =IF(B64>=$D$3, " ", EDATE(C64,1)) | D65: =IF(C65=" "," ",(C65-C64)) | E65: =IF(C65=" "," ",E64-G65) | F65: =IF(C65=" "," ",G65+H65+I65+Q65) | G65: =IF(C65=" "," ",IF(C65=$D$12,$D$4-SUM($G$21:G64),($D$13-H65))) | H65: =IF(C65=" "," ",IF($D$14="ні",E64*$D$6*D65/(DATE(YEAR(C65),12,31)-DATE(YEAR(C65),1,1)+1),E64*$F$14*D65/(DATE(YEAR(C65),12,31)-DATE(YEAR(C65),1,1)+1))) | I65: =IF(C65=" "," ",IF($F$8="нет",$D$7*$D$4,($D$4*(1+$D$8))*$D$7)) | U65: =IF(B64=$D$3,XIRR($F$20:F64,$C$20:C64)," ") | AG65: =DATE(YEAR(C65),12,31)-DATE(YEAR(C65),1,1)+1 -> #VALUE!
B66: =IF(C66 =" "," ",B65+1) | C66: =IF(B65>=$D$3, " ", EDATE(C65,1)) | D66: =IF(C66=" "," ",(C66-C65)) | E66: =IF(C66=" "," ",E65-G66) | F66: =IF(C66=" "," ",G66+H66+I66+Q66) | G66: =IF(C66=" "," ",IF(C66=$D$12,$D$4-SUM($G$21:G65),($D$13-H66))) | H66: =IF(C66=" "," ",IF($D$14="ні",E65*$D$6*D66/(DATE(YEAR(C66),12,31)-DATE(YEAR(C66),1,1)+1),E65*$F$14*D66/(DATE(YEAR(C66),12,31)-DATE(YEAR(C66),1,1)+1))) | I66: =IF(C66=" "," ",IF($F$8="нет",$D$7*$D$4,($D$4*(1+$D$8))*$D$7)) | U66: =IF(B65=$D$3,XIRR($F$20:F65,$C$20:C65)," ") | AG66: =DATE(YEAR(C66),12,31)-DATE(YEAR(C66),1,1)+1 -> #VALUE!
B67: =IF(C67 =" "," ",B66+1) | C67: =IF(B66>=$D$3, " ", EDATE(C66,1)) | D67: =IF(C67=" "," ",(C67-C66)) | E67: =IF(C67=" "," ",E66-G67) | F67: =IF(C67=" "," ",G67+H67+I67+Q67) | G67: =IF(C67=" "," ",IF(C67=$D$12,$D$4-SUM($G$21:G66),($D$13-H67))) | H67: =IF(C67=" "," ",IF($D$14="ні",E66*$D$6*D67/(DATE(YEAR(C67),12,31)-DATE(YEAR(C67),1,1)+1),E66*$F$14*D67/(DATE(YEAR(C67),12,31)-DATE(YEAR(C67),1,1)+1))) | I67: =IF(C67=" "," ",IF($F$8="нет",$D$7*$D$4,($D$4*(1+$D$8))*$D$7)) | U67: =IF(B66=$D$3,XIRR($F$20:F66,$C$20:C66)," ") | AG67: =DATE(YEAR(C67),12,31)-DATE(YEAR(C67),1,1)+1 -> #VALUE!
B68: =IF(C68 =" "," ",B67+1) | C68: =IF(B67>=$D$3, " ", EDATE(C67,1)) | D68: =IF(C68=" "," ",(C68-C67)) | E68: =IF(C68=" "," ",E67-G68) | F68: =IF(C68=" "," ",G68+H68+I68+Q68) | G68: =IF(C68=" "," ",IF(C68=$D$12,$D$4-SUM($G$21:G67),($D$13-H68))) | H68: =IF(C68=" "," ",IF($D$14="ні",E67*$D$6*D68/(DATE(YEAR(C68),12,31)-DATE(YEAR(C68),1,1)+1),E67*$F$14*D68/(DATE(YEAR(C68),12,31)-DATE(YEAR(C68),1,1)+1))) | I68: =IF(C68=" "," ",IF($F$8="нет",$D$7*$D$4,($D$4*(1+$D$8))*$D$7)) | Q68: =IF($D$3=B68,0,IF(C68=" "," ",$D$10*$D$9*0.8+$D$11*E68)) | U68: =IF(B67=$D$3,XIRR($F$20:F67,$C$20:C67)," ") | AG68: =DATE(YEAR(C68),12,31)-DATE(YEAR(C68),1,1)+1 -> #VALUE!
B69: =IF(C69 =" "," ",B68+1) | C69: =IF(B68>=$D$3, " ", EDATE(C68,1)) | D69: =IF(C69=" "," ",(C69-C68)) | E69: =IF(C69=" "," ",E68-G69) | F69: =IF(C69=" "," ",G69+H69+I69+Q69) | G69: =IF(C69=" "," ",IF(C69=$D$12,$D$4-SUM($G$21:G68),($D$13-H69))) | H69: =IF(C69=" "," ",IF($D$14="ні",E68*$D$6*D69/(DATE(YEAR(C69),12,31)-DATE(YEAR(C69),1,1)+1),E68*$F$14*D69/(DATE(YEAR(C69),12,31)-DATE(YEAR(C69),1,1)+1))) | I69: =IF(C69=" "," ",IF($F$8="нет",$D$7*$D$4,($D$4*(1+$D$8))*$D$7)) | U69: =IF(B68=$D$3,XIRR($F$20:F68,$C$20:C68)," ") | AG69: =DATE(YEAR(C69),12,31)-DATE(YEAR(C69),1,1)+1 -> #VALUE!
B70: =IF(C70 =" "," ",B69+1) | C70: =IF(B69>=$D$3, " ", EDATE(C69,1)) | D70: =IF(C70=" "," ",(C70-C69)) | E70: =IF(C70=" "," ",E69-G70) | F70: =IF(C70=" "," ",G70+H70+I70+Q70) | G70: =IF(C70=" "," ",IF(C70=$D$12,$D$4-SUM($G$21:G69),($D$13-H70))) | H70: =IF(C70=" "," ",IF($D$14="ні",E69*$D$6*D70/(DATE(YEAR(C70),12,31)-DATE(YEAR(C70),1,1)+1),E69*$F$14*D70/(DATE(YEAR(C70),12,31)-DATE(YEAR(C70),1,1)+1))) | I70: =IF(C70=" "," ",IF($F$8="нет",$D$7*$D$4,($D$4*(1+$D$8))*$D$7)) | U70: =IF(B69=$D$3,XIRR($F$20:F69,$C$20:C69)," ") | AG70: =DATE(YEAR(C70),12,31)-DATE(YEAR(C70),1,1)+1 -> #VALUE!
B71: =IF(C71 =" "," ",B70+1) | C71: =IF(B70>=$D$3, " ", EDATE(C70,1)) | D71: =IF(C71=" "," ",(C71-C70)) | E71: =IF(C71=" "," ",E70-G71) | F71: =IF(C71=" "," ",G71+H71+I71+Q71) | G71: =IF(C71=" "," ",IF(C71=$D$12,$D$4-SUM($G$21:G70),($D$13-H71))) | H71: =IF(C71=" "," ",IF($D$14="ні",E70*$D$6*D71/(DATE(YEAR(C71),12,31)-DATE(YEAR(C71),1,1)+1),E70*$F$14*D71/(DATE(YEAR(C71),12,31)-DATE(YEAR(C71),1,1)+1))) | I71: =IF(C71=" "," ",IF($F$8="нет",$D$7*$D$4,($D$4*(1+$D$8))*$D$7)) | U71: =IF(B70=$D$3,XIRR($F$20:F70,$C$20:C70)," ") | AG71: =DATE(YEAR(C71),12,31)-DATE(YEAR(C71),1,1)+1 -> #VALUE!
B72: =IF(C72 =" "," ",B71+1) | C72: =IF(B71>=$D$3, " ", EDATE(C71,1)) | D72: =IF(C72=" "," ",(C72-C71)) | E72: =IF(C72=" "," ",E71-G72) | F72: =IF(C72=" "," ",G72+H72+I72+Q72) | G72: =IF(C72=" "," ",IF(C72=$D$12,$D$4-SUM($G$21:G71),($D$13-H72))) | H72: =IF(C72=" "," ",IF($D$14="ні",E71*$D$6*D72/(DATE(YEAR(C72),12,31)-DATE(YEAR(C72),1,1)+1),E71*$F$14*D72/(DATE(YEAR(C72),12,31)-DATE(YEAR(C72),1,1)+1))) | I72: =IF(C72=" "," ",IF($F$8="нет",$D$7*$D$4,($D$4*(1+$D$8))*$D$7)) | U72: =IF(B71=$D$3,XIRR($F$20:F71,$C$20:C71)," ") | AG72: =DATE(YEAR(C72),12,31)-DATE(YEAR(C72),1,1)+1 -> #VALUE!
B73: =IF(C73 =" "," ",B72+1) | C73: =IF(B72>=$D$3, " ", EDATE(C72,1)) | D73: =IF(C73=" "," ",(C73-C72)) | E73: =IF(C73=" "," ",E72-G73) | F73: =IF(C73=" "," ",G73+H73+I73+Q73) | G73: =IF(C73=" "," ",IF(C73=$D$12,$D$4-SUM($G$21:G72),($D$13-H73))) | H73: =IF(C73=" "," ",IF($D$14="ні",E72*$D$6*D73/(DATE(YEAR(C73),12,31)-DATE(YEAR(C73),1,1)+1),E72*$F$14*D73/(DATE(YEAR(C73),12,31)-DATE(YEAR(C73),1,1)+1))) | I73: =IF(C73=" "," ",IF($F$8="нет",$D$7*$D$4,($D$4*(1+$D$8))*$D$7)) | U73: =IF(B72=$D$3,XIRR($F$20:F72,$C$20:C72)," ") | AG73: =DATE(YEAR(C73),12,31)-DATE(YEAR(C73),1,1)+1 -> #VALUE!
B74: =IF(C74 =" "," ",B73+1) | C74: =IF(B73>=$D$3, " ", EDATE(C73,1)) | D74: =IF(C74=" "," ",(C74-C73)) | E74: =IF(C74=" "," ",E73-G74) | F74: =IF(C74=" "," ",G74+H74+I74+Q74) | G74: =IF(C74=" "," ",IF(C74=$D$12,$D$4-SUM($G$21:G73),($D$13-H74))) | H74: =IF(C74=" "," ",IF($D$14="ні",E73*$D$6*D74/(DATE(YEAR(C74),12,31)-DATE(YEAR(C74),1,1)+1),E73*$F$14*D74/(DATE(YEAR(C74),12,31)-DATE(YEAR(C74),1,1)+1))) | I74: =IF(C74=" "," ",IF($F$8="нет",$D$7*$D$4,($D$4*(1+$D$8))*$D$7)) | U74: =IF(B73=$D$3,XIRR($F$20:F73,$C$20:C73)," ") | AG74: =DATE(YEAR(C74),12,31)-DATE(YEAR(C74),1,1)+1 -> #VALUE!
B75: =IF(C75 =" "," ",B74+1) | C75: =IF(B74>=$D$3, " ", EDATE(C74,1)) | D75: =IF(C75=" "," ",(C75-C74)) | E75: =IF(C75=" "," ",E74-G75) | F75: =IF(C75=" "," ",G75+H75+I75+Q75) | G75: =IF(C75=" "," ",IF(C75=$D$12,$D$4-SUM($G$21:G74),($D$13-H75))) | H75: =IF(C75=" "," ",IF($D$14="ні",E74*$D$6*D75/(DATE(YEAR(C75),12,31)-DATE(YEAR(C75),1,1)+1),E74*$F$14*D75/(DATE(YEAR(C75),12,31)-DATE(YEAR(C75),1,1)+1))) | I75: =IF(C75=" "," ",IF($F$8="нет",$D$7*$D$4,($D$4*(1+$D$8))*$D$7)) | U75: =IF(B74=$D$3,XIRR($F$20:F74,$C$20:C74)," ") | AG75: =DATE(YEAR(C75),12,31)-DATE(YEAR(C75),1,1)+1 -> #VALUE!
B76: =IF(C76 =" "," ",B75+1) | C76: =IF(B75>=$D$3, " ", EDATE(C75,1)) | D76: =IF(C76=" "," ",(C76-C75)) | E76: =IF(C76=" "," ",E75-G76) | F76: =IF(C76=" "," ",G76+H76+I76+Q76) | G76: =IF(C76=" "," ",IF(C76=$D$12,$D$4-SUM($G$21:G75),($D$13-H76))) | H76: =IF(C76=" "," ",IF($D$14="ні",E75*$D$6*D76/(DATE(YEAR(C76),12,31)-DATE(YEAR(C76),1,1)+1),E75*$F$14*D76/(DATE(YEAR(C76),12,31)-DATE(YEAR(C76),1,1)+1))) | I76: =IF(C76=" "," ",IF($F$8="нет",$D$7*$D$4,($D$4*(1+$D$8))*$D$7)) | U76: =IF(B75=$D$3,XIRR($F$20:F75,$C$20:C75)," ") | AG76: =DATE(YEAR(C76),12,31)-DATE(YEAR(C76),1,1)+1 -> #VALUE!
B77: =IF(C77 =" "," ",B76+1) | C77: =IF(B76>=$D$3, " ", EDATE(C76,1)) | D77: =IF(C77=" "," ",(C77-C76)) | E77: =IF(C77=" "," ",E76-G77) | F77: =IF(C77=" "," ",G77+H77+I77+Q77) | G77: =IF(C77=" "," ",IF(C77=$D$12,$D$4-SUM($G$21:G76),($D$13-H77))) | H77: =IF(C77=" "," ",IF($D$14="ні",E76*$D$6*D77/(DATE(YEAR(C77),12,31)-DATE(YEAR(C77),1,1)+1),E76*$F$14*D77/(DATE(YEAR(C77),12,31)-DATE(YEAR(C77),1,1)+1))) | I77: =IF(C77=" "," ",IF($F$8="нет",$D$7*$D$4,($D$4*(1+$D$8))*$D$7)) | U77: =IF(B76=$D$3,XIRR($F$20:F76,$C$20:C76)," ") | AG77: =DATE(YEAR(C77),12,31)-DATE(YEAR(C77),1,1)+1 -> #VALUE!
B78: =IF(C78 =" "," ",B77+1) | C78: =IF(B77>=$D$3, " ", EDATE(C77,1)) | D78: =IF(C78=" "," ",(C78-C77)) | E78: =IF(C78=" "," ",E77-G78) | F78: =IF(C78=" "," ",G78+H78+I78+Q78) | G78: =IF(C78=" "," ",IF(C78=$D$12,$D$4-SUM($G$21:G77),($D$13-H78))) | H78: =IF(C78=" "," ",IF($D$14="ні",E77*$D$6*D78/(DATE(YEAR(C78),12,31)-DATE(YEAR(C78),1,1)+1),E77*$F$14*D78/(DATE(YEAR(C78),12,31)-DATE(YEAR(C78),1,1)+1))) | I78: =IF(C78=" "," ",IF($F$8="нет",$D$7*$D$4,($D$4*(1+$D$8))*$D$7)) | U78: =IF(B77=$D$3,XIRR($F$20:F77,$C$20:C77)," ") | AG78: =DATE(YEAR(C78),12,31)-DATE(YEAR(C78),1,1)+1 -> #VALUE!
B79: =IF(C79 =" "," ",B78+1) | C79: =IF(B78>=$D$3, " ", EDATE(C78,1)) | D79: =IF(C79=" "," ",(C79-C78)) | E79: =IF(C79=" "," ",E78-G79) | F79: =IF(C79=" "," ",G79+H79+I79+Q79) | G79: =IF(C79=" "," ",IF(C79=$D$12,$D$4-SUM($G$21:G78),($D$13-H79))) | H79: =IF(C79=" "," ",IF($D$14="ні",E78*$D$6*D79/(DATE(YEAR(C79),12,31)-DATE(YEAR(C79),1,1)+1),E78*$F$14*D79/(DATE(YEAR(C79),12,31)-DATE(YEAR(C79),1,1)+1))) | I79: =IF(C79=" "," ",IF($F$8="нет",$D$7*$D$4,($D$4*(1+$D$8))*$D$7)) | U79: =IF(B78=$D$3,XIRR($F$20:F78,$C$20:C78)," ") | AG79: =DATE(YEAR(C79),12,31)-DATE(YEAR(C79),1,1)+1 -> #VALUE!
B80: =IF(C80 =" "," ",B79+1) | C80: =IF(B79>=$D$3, " ", EDATE(C79,1)) | D80: =IF(C80=" "," ",(C80-C79)) | E80: =IF(C80=" "," ",E79-G80) | F80: =IF(C80=" "," ",G80+H80+I80+Q80) | G80: =IF(C80=" "," ",IF(C80=$D$12,$D$4-SUM($G$21:G79),($D$13-H80))) | H80: =IF(C80=" "," ",IF($D$14="ні",E79*$D$6*D80/(DATE(YEAR(C80),12,31)-DATE(YEAR(C80),1,1)+1),E79*$F$14*D80/(DATE(YEAR(C80),12,31)-DATE(YEAR(C80),1,1)+1))) | I80: =IF(C80=" "," ",IF($F$8="нет",$D$7*$D$4,($D$4*(1+$D$8))*$D$7)) | Q80: =IF($D$3=B80,0,IF(C80=" "," ",$D$10*$D$9+$D$11*E80)) | U80: =IF(B79=$D$3,XIRR($F$20:F79,$C$20:C79)," ") | AG80: =DATE(YEAR(C80),12,31)-DATE(YEAR(C80),1,1)+1 -> #VALUE!
B81: =IF(C81 =" "," ",B80+1) | C81: =IF(B80>=$D$3, " ", EDATE(C80,1)) | D81: =IF(C81=" "," ",(C81-C80)) | E81: =IF(C81=" "," ",E80-G81) | F81: =IF(C81=" "," ",G81+H81+I81+Q81) | G81: =IF(C81=" "," ",IF(C81=$D$12,$D$4-SUM($G$21:G80),($D$13-H81))) | H81: =IF(C81=" "," ",IF($D$14="ні",E80*$D$6*D81/(DATE(YEAR(C81),12,31)-DATE(YEAR(C81),1,1)+1),E80*$F$14*D81/(DATE(YEAR(C81),12,31)-DATE(YEAR(C81),1,1)+1))) | I81: =IF(C81=" "," ",IF($F$8="нет",$D$7*$D$4,($D$4*(1+$D$8))*$D$7)) | U81: =IF(B80=$D$3,XIRR($F$20:F80,$C$20:C80)," ") | AG81: =DATE(YEAR(C81),12,31)-DATE(YEAR(C81),1,1)+1 -> #VALUE!
B82: =IF(C82 =" "," ",B81+1) | C82: =IF(B81>=$D$3, " ", EDATE(C81,1)) | D82: =IF(C82=" "," ",(C82-C81)) | E82: =IF(C82=" "," ",E81-G82) | F82: =IF(C82=" "," ",G82+H82+I82+Q82) | G82: =IF(C82=" "," ",IF(C82=$D$12,$D$4-SUM($G$21:G81),($D$13-H82))) | H82: =IF(C82=" "," ",IF($D$14="ні",E81*$D$6*D82/(DATE(YEAR(C82),12,31)-DATE(YEAR(C82),1,1)+1),E81*$F$14*D82/(DATE(YEAR(C82),12,31)-DATE(YEAR(C82),1,1)+1))) | I82: =IF(C82=" "," ",IF($F$8="нет",$D$7*$D$4,($D$4*(1+$D$8))*$D$7)) | U82: =IF(B81=$D$3,XIRR($F$20:F81,$C$20:C81)," ") | AG82: =DATE(YEAR(C82),12,31)-DATE(YEAR(C82),1,1)+1 -> #VALUE!
B83: =IF(C83 =" "," ",B82+1) | C83: =IF(B82>=$D$3, " ", EDATE(C82,1)) | D83: =IF(C83=" "," ",(C83-C82)) | E83: =IF(C83=" "," ",E82-G83) | F83: =IF(C83=" "," ",G83+H83+I83+Q83) | G83: =IF(C83=" "," ",IF(C83=$D$12,$D$4-SUM($G$21:G82),($D$13-H83))) | H83: =IF(C83=" "," ",IF($D$14="ні",E82*$D$6*D83/(DATE(YEAR(C83),12,31)-DATE(YEAR(C83),1,1)+1),E82*$F$14*D83/(DATE(YEAR(C83),12,31)-DATE(YEAR(C83),1,1)+1))) | I83: =IF(C83=" "," ",IF($F$8="нет",$D$7*$D$4,($D$4*(1+$D$8))*$D$7)) | U83: =IF(B82=$D$3,XIRR($F$20:F82,$C$20:C82)," ") | AG83: =DATE(YEAR(C83),12,31)-DATE(YEAR(C83),1,1)+1 -> #VALUE!
B84: =IF(C84 =" "," ",B83+1) | C84: =IF(B83>=$D$3, " ", EDATE(C83,1)) | D84: =IF(C84=" "," ",(C84-C83)) | E84: =IF(C84=" "," ",E83-G84) | F84: =IF(C84=" "," ",G84+H84+I84+Q84) | G84: =IF(C84=" "," ",IF(C84=$D$12,$D$4-SUM($G$21:G83),($D$13-H84))) | H84: =IF(C84=" "," ",IF($D$14="ні",E83*$D$6*D84/(DATE(YEAR(C84),12,31)-DATE(YEAR(C84),1,1)+1),E83*$F$14*D84/(DATE(YEAR(C84),12,31)-DATE(YEAR(C84),1,1)+1))) | I84: =IF(C84=" "," ",IF($F$8="нет",$D$7*$D$4,($D$4*(1+$D$8))*$D$7)) | U84: =IF(B83=$D$3,XIRR($F$20:F83,$C$20:C83)," ") | AG84: =DATE(YEAR(C84),12,31)-DATE(YEAR(C84),1,1)+1 -> #VALUE!
B85: =IF(C85 =" "," ",B84+1) | C85: =IF(B84>=$D$3, " ", EDATE(C84,1)) | D85: =IF(C85=" "," ",(C85-C84)) | E85: =IF(C85=" "," ",E84-G85) | F85: =IF(C85=" "," ",G85+H85+I85+Q85) | G85: =IF(C85=" "," ",IF(C85=$D$12,$D$4-SUM($G$21:G84),($D$13-H85))) | H85: =IF(C85=" "," ",IF($D$14="ні",E84*$D$6*D85/(DATE(YEAR(C85),12,31)-DATE(YEAR(C85),1,1)+1),E84*$F$14*D85/(DATE(YEAR(C85),12,31)-DATE(YEAR(C85),1,1)+1))) | I85: =IF(C85=" "," ",IF($F$8="нет",$D$7*$D$4,($D$4*(1+$D$8))*$D$7)) | U85: =IF(B84=$D$3,XIRR($F$20:F84,$C$20:C84)," ") | AG85: =DATE(YEAR(C85),12,31)-DATE(YEAR(C85),1,1)+1 -> #VALUE!
B86: =IF(C86 =" "," ",B85+1) | C86: =IF(B85>=$D$3, " ", EDATE(C85,1)) | D86: =IF(C86=" "," ",(C86-C85)) | E86: =IF(C86=" "," ",E85-G86) | F86: =IF(C86=" "," ",G86+H86+I86+Q86) | G86: =IF(C86=" "," ",IF(C86=$D$12,$D$4-SUM($G$21:G85),($D$13-H86))) | H86: =IF(C86=" "," ",IF($D$14="ні",E85*$D$6*D86/(DATE(YEAR(C86),12,31)-DATE(YEAR(C86),1,1)+1),E85*$F$14*D86/(DATE(YEAR(C86),12,31)-DATE(YEAR(C86),1,1)+1))) | I86: =IF(C86=" "," ",IF($F$8="нет",$D$7*$D$4,($D$4*(1+$D$8))*$D$7)) | U86: =IF(B85=$D$3,XIRR($F$20:F85,$C$20:C85)," ") | AG86: =DATE(YEAR(C86),12,31)-DATE(YEAR(C86),1,1)+1 -> #VALUE!
B87: =IF(C87 =" "," ",B86+1) | C87: =IF(B86>=$D$3, " ", EDATE(C86,1)) | D87: =IF(C87=" "," ",(C87-C86)) | E87: =IF(C87=" "," ",E86-G87) | F87: =IF(C87=" "," ",G87+H87+I87+Q87) | G87: =IF(C87=" "," ",IF(C87=$D$12,$D$4-SUM($G$21:G86),($D$13-H87))) | H87: =IF(C87=" "," ",IF($D$14="ні",E86*$D$6*D87/(DATE(YEAR(C87),12,31)-DATE(YEAR(C87),1,1)+1),E86*$F$14*D87/(DATE(YEAR(C87),12,31)-DATE(YEAR(C87),1,1)+1))) | I87: =IF(C87=" "," ",IF($F$8="нет",$D$7*$D$4,($D$4*(1+$D$8))*$D$7)) | U87: =IF(B86=$D$3,XIRR($F$20:F86,$C$20:C86)," ") | AG87: =DATE(YEAR(C87),12,31)-DATE(YEAR(C87),1,1)+1 -> #VALUE!
B88: =IF(C88 =" "," ",B87+1) | C88: =IF(B87>=$D$3, " ", EDATE(C87,1)) | D88: =IF(C88=" "," ",(C88-C87)) | E88: =IF(C88=" "," ",E87-G88) | F88: =IF(C88=" "," ",G88+H88+I88+Q88) | G88: =IF(C88=" "," ",IF(C88=$D$12,$D$4-SUM($G$21:G87),($D$13-H88))) | H88: =IF(C88=" "," ",IF($D$14="ні",E87*$D$6*D88/(DATE(YEAR(C88),12,31)-DATE(YEAR(C88),1,1)+1),E87*$F$14*D88/(DATE(YEAR(C88),12,31)-DATE(YEAR(C88),1,1)+1))) | I88: =IF(C88=" "," ",IF($F$8="нет",$D$7*$D$4,($D$4*(1+$D$8))*$D$7)) | U88: =IF(B87=$D$3,XIRR($F$20:F87,$C$20:C87)," ") | AG88: =DATE(YEAR(C88),12,31)-DATE(YEAR(C88),1,1)+1 -> #VALUE!
B89: =IF(C89 =" "," ",B88+1) | C89: =IF(B88>=$D$3, " ", EDATE(C88,1)) | D89: =IF(C89=" "," ",(C89-C88)) | E89: =IF(C89=" "," ",E88-G89) | F89: =IF(C89=" "," ",G89+H89+I89+Q89) | G89: =IF(C89=" "," ",IF(C89=$D$12,$D$4-SUM($G$21:G88),($D$13-H89))) | H89: =IF(C89=" "," ",IF($D$14="ні",E88*$D$6*D89/(DATE(YEAR(C89),12,31)-DATE(YEAR(C89),1,1)+1),E88*$F$14*D89/(DATE(YEAR(C89),12,31)-DATE(YEAR(C89),1,1)+1))) | I89: =IF(C89=" "," ",IF($F$8="нет",$D$7*$D$4,($D$4*(1+$D$8))*$D$7)) | U89: =IF(B88=$D$3,XIRR($F$20:F88,$C$20:C88)," ") | AG89: =DATE(YEAR(C89),12,31)-DATE(YEAR(C89),1,1)+1 -> #VALUE!
B90: =IF(C90 =" "," ",B89+1) | C90: =IF(B89>=$D$3, " ", EDATE(C89,1)) | D90: =IF(C90=" "," ",(C90-C89)) | E90: =IF(C90=" "," ",E89-G90) | F90: =IF(C90=" "," ",G90+H90+I90+Q90) | G90: =IF(C90=" "," ",IF(C90=$D$12,$D$4-SUM($G$21:G89),($D$13-H90))) | H90: =IF(C90=" "," ",IF($D$14="ні",E89*$D$6*D90/(DATE(YEAR(C90),12,31)-DATE(YEAR(C90),1,1)+1),E89*$F$14*D90/(DATE(YEAR(C90),12,31)-DATE(YEAR(C90),1,1)+1))) | I90: =IF(C90=" "," ",IF($F$8="нет",$D$7*$D$4,($D$4*(1+$D$8))*$D$7)) | U90: =IF(B89=$D$3,XIRR($F$20:F89,$C$20:C89)," ") | AG90: =DATE(YEAR(C90),12,31)-DATE(YEAR(C90),1,1)+1 -> #VALUE!
B91: =IF(C91 =" "," ",B90+1) | C91: =IF(B90>=$D$3, " ", EDATE(C90,1)) | D91: =IF(C91=" "," ",(C91-C90)) | E91: =IF(C91=" "," ",E90-G91) | F91: =IF(C91=" "," ",G91+H91+I91+Q91) | G91: =IF(C91=" "," ",IF(C91=$D$12,$D$4-SUM($G$21:G90),($D$13-H91))) | H91: =IF(C91=" "," ",IF($D$14="ні",E90*$D$6*D91/(DATE(YEAR(C91),12,31)-DATE(YEAR(C91),1,1)+1),E90*$F$14*D91/(DATE(YEAR(C91),12,31)-DATE(YEAR(C91),1,1)+1))) | I91: =IF(C91=" "," ",IF($F$8="нет",$D$7*$D$4,($D$4*(1+$D$8))*$D$7)) | U91: =IF(B90=$D$3,XIRR($F$20:F90,$C$20:C90)," ") | AG91: =DATE(YEAR(C91),12,31)-DATE(YEAR(C91),1,1)+1 -> #VALUE!
B92: =IF(C92 =" "," ",B91+1) | C92: =IF(B91>=$D$3, " ", EDATE(C91,1)) | D92: =IF(C92=" "," ",(C92-C91)) | E92: =IF(C92=" "," ",E91-G92) | F92: =IF(C92=" "," ",G92+H92+I92+Q92) | G92: =IF(C92=" "," ",IF(C92=$D$12,$D$4-SUM($G$21:G91),($D$13-H92))) | H92: =IF(C92=" "," ",IF($D$14="ні",E91*$D$6*D92/(DATE(YEAR(C92),12,31)-DATE(YEAR(C92),1,1)+1),E91*$F$14*D92/(DATE(YEAR(C92),12,31)-DATE(YEAR(C92),1,1)+1))) | I92: =IF(C92=" "," ",IF($F$8="нет",$D$7*$D$4,($D$4*(1+$D$8))*$D$7)) | Q92: =IF($D$3=B92,0,IF(C92=" "," ",$D$10*$D$9+$D$11*E92)) | U92: =IF(B91=$D$3,XIRR($F$20:F91,$C$20:C91)," ") | AG92: =DATE(YEAR(C92),12,31)-DATE(YEAR(C92),1,1)+1 -> #VALUE!
B93: =IF(C93 =" "," ",B92+1) | C93: =IF(B92>=$D$3, " ", EDATE(C92,1)) | D93: =IF(C93=" "," ",(C93-C92)) | E93: =IF(C93=" "," ",E92-G93) | F93: =IF(C93=" "," ",G93+H93+I93+Q93) | G93: =IF(C93=" "," ",IF(C93=$D$12,$D$4-SUM($G$21:G92),($D$13-H93))) | H93: =IF(C93=" "," ",IF($D$14="ні",E92*$D$6*D93/(DATE(YEAR(C93),12,31)-DATE(YEAR(C93),1,1)+1),E92*$F$14*D93/(DATE(YEAR(C93),12,31)-DATE(YEAR(C93),1,1)+1))) | I93: =IF(C93=" "," ",IF($F$8="нет",$D$7*$D$4,($D$4*(1+$D$8))*$D$7)) | U93: =IF(B92=$D$3,XIRR($F$20:F92,$C$20:C92)," ") | AG93: =DATE(YEAR(C93),12,31)-DATE(YEAR(C93),1,1)+1 -> #VALUE!
B94: =IF(C94 =" "," ",B93+1) | C94: =IF(B93>=$D$3, " ", EDATE(C93,1)) | D94: =IF(C94=" "," ",(C94-C93)) | E94: =IF(C94=" "," ",E93-G94) | F94: =IF(C94=" "," ",G94+H94+I94+Q94) | G94: =IF(C94=" "," ",IF(C94=$D$12,$D$4-SUM($G$21:G93),($D$13-H94))) | H94: =IF(C94=" "," ",IF($D$14="ні",E93*$D$6*D94/(DATE(YEAR(C94),12,31)-DATE(YEAR(C94),1,1)+1),E93*$F$14*D94/(DATE(YEAR(C94),12,31)-DATE(YEAR(C94),1,1)+1))) | I94: =IF(C94=" "," ",IF($F$8="нет",$D$7*$D$4,($D$4*(1+$D$8))*$D$7)) | U94: =IF(B93=$D$3,XIRR($F$20:F93,$C$20:C93)," ") | AG94: =DATE(YEAR(C94),12,31)-DATE(YEAR(C94),1,1)+1 -> #VALUE!
B95: =IF(C95 =" "," ",B94+1) | C95: =IF(B94>=$D$3, " ", EDATE(C94,1)) | D95: =IF(C95=" "," ",(C95-C94)) | E95: =IF(C95=" "," ",E94-G95) | F95: =IF(C95=" "," ",G95+H95+I95+Q95) | G95: =IF(C95=" "," ",IF(C95=$D$12,$D$4-SUM($G$21:G94),($D$13-H95))) | H95: =IF(C95=" "," ",IF($D$14="ні",E94*$D$6*D95/(DATE(YEAR(C95),12,31)-DATE(YEAR(C95),1,1)+1),E94*$F$14*D95/(DATE(YEAR(C95),12,31)-DATE(YEAR(C95),1,1)+1))) | I95: =IF(C95=" "," ",IF($F$8="нет",$D$7*$D$4,($D$4*(1+$D$8))*$D$7)) | U95: =IF(B94=$D$3,XIRR($F$20:F94,$C$20:C94)," ") | AG95: =DATE(YEAR(C95),12,31)-DATE(YEAR(C95),1,1)+1 -> #VALUE!
B96: =IF(C96 =" "," ",B95+1) | C96: =IF(B95>=$D$3, " ", EDATE(C95,1)) | D96: =IF(C96=" "," ",(C96-C95)) | E96: =IF(C96=" "," ",E95-G96) | F96: =IF(C96=" "," ",G96+H96+I96+Q96) | G96: =IF(C96=" "," ",IF(C96=$D$12,$D$4-SUM($G$21:G95),($D$13-H96))) | H96: =IF(C96=" "," ",IF($D$14="ні",E95*$D$6*D96/(DATE(YEAR(C96),12,31)-DATE(YEAR(C96),1,1)+1),E95*$F$14*D96/(DATE(YEAR(C96),12,31)-DATE(YEAR(C96),1,1)+1))) | I96: =IF(C96=" "," ",IF($F$8="нет",$D$7*$D$4,($D$4*(1+$D$8))*$D$7)) | U96: =IF(B95=$D$3,XIRR($F$20:F95,$C$20:C95)," ") | AG96: =DATE(YEAR(C96),12,31)-DATE(YEAR(C96),1,1)+1 -> #VALUE!
B97: =IF(C97 =" "," ",B96+1) | C97: =IF(B96>=$D$3, " ", EDATE(C96,1)) | D97: =IF(C97=" "," ",(C97-C96)) | E97: =IF(C97=" "," ",E96-G97) | F97: =IF(C97=" "," ",G97+H97+I97+Q97) | G97: =IF(C97=" "," ",IF(C97=$D$12,$D$4-SUM($G$21:G96),($D$13-H97))) | H97: =IF(C97=" "," ",IF($D$14="ні",E96*$D$6*D97/(DATE(YEAR(C97),12,31)-DATE(YEAR(C97),1,1)+1),E96*$F$14*D97/(DATE(YEAR(C97),12,31)-DATE(YEAR(C97),1,1)+1))) | I97: =IF(C97=" "," ",IF($F$8="нет",$D$7*$D$4,($D$4*(1+$D$8))*$D$7)) | U97: =IF(B96=$D$3,XIRR($F$20:F96,$C$20:C96)," ") | AG97: =DATE(YEAR(C97),12,31)-DATE(YEAR(C97),1,1)+1 -> #VALUE!
B98: =IF(C98 =" "," ",B97+1) | C98: =IF(B97>=$D$3, " ", EDATE(C97,1)) | D98: =IF(C98=" "," ",(C98-C97)) | E98: =IF(C98=" "," ",E97-G98) | F98: =IF(C98=" "," ",G98+H98+I98+Q98) | G98: =IF(C98=" "," ",IF(C98=$D$12,$D$4-SUM($G$21:G97),($D$13-H98))) | H98: =IF(C98=" "," ",IF($D$14="ні",E97*$D$6*D98/(DATE(YEAR(C98),12,31)-DATE(YEAR(C98),1,1)+1),E97*$F$14*D98/(DATE(YEAR(C98),12,31)-DATE(YEAR(C98),1,1)+1))) | I98: =IF(C98=" "," ",IF($F$8="нет",$D$7*$D$4,($D$4*(1+$D$8))*$D$7)) | U98: =IF(B97=$D$3,XIRR($F$20:F97,$C$20:C97)," ") | AG98: =DATE(YEAR(C98),12,31)-DATE(YEAR(C98),1,1)+1 -> #VALUE!
B99: =IF(C99 =" "," ",B98+1) | C99: =IF(B98>=$D$3, " ", EDATE(C98,1)) | D99: =IF(C99=" "," ",(C99-C98)) | E99: =IF(C99=" "," ",E98-G99) | F99: =IF(C99=" "," ",G99+H99+I99+Q99) | G99: =IF(C99=" "," ",IF(C99=$D$12,$D$4-SUM($G$21:G98),($D$13-H99))) | H99: =IF(C99=" "," ",IF($D$14="ні",E98*$D$6*D99/(DATE(YEAR(C99),12,31)-DATE(YEAR(C99),1,1)+1),E98*$F$14*D99/(DATE(YEAR(C99),12,31)-DATE(YEAR(C99),1,1)+1))) | I99: =IF(C99=" "," ",IF($F$8="нет",$D$7*$D$4,($D$4*(1+$D$8))*$D$7)) | U99: =IF(B98=$D$3,XIRR($F$20:F98,$C$20:C98)," ") | AG99: =DATE(YEAR(C99),12,31)-DATE(YEAR(C99),1,1)+1 -> #VALUE!
B100: =IF(C100 =" "," ",B99+1) | C100: =IF(B99>=$D$3, " ", EDATE(C99,1)) | D100: =IF(C100=" "," ",(C100-C99)) | E100: =IF(C100=" "," ",E99-G100) | F100: =IF(C100=" "," ",G100+H100+I100+Q100) | G100: =IF(C100=" "," ",IF(C100=$D$12,$D$4-SUM($G$21:G99),($D$13-H100))) | H100: =IF(C100=" "," ",IF($D$14="ні",E99*$D$6*D100/(DATE(YEAR(C100),12,31)-DATE(YEAR(C100),1,1)+1),E99*$F$14*D100/(DATE(YEAR(C100),12,31)-DATE(YEAR(C100),1,1)+1))) | I100: =IF(C100=" "," ",IF($F$8="нет",$D$7*$D$4,($D$4*(1+$D$8))*$D$7)) | U100: =IF(B99=$D$3,XIRR($F$20:F99,$C$20:C99)," ") | AG100: =DATE(YEAR(C100),12,31)-DATE(YEAR(C100),1,1)+1 -> #VALUE!
...

Sheet стандарт
G1: так
B2: Дата надання | D2: 44866 | G2: ні | AA2: да
B3: строк | D3: 120 | G3: =SUM(G20:G88) -> 575000 | AA3: нет
B4: сума кредиту | D4: 1000000
B5: процентна ставка | D5: 0.33
B6: щомісячна комісія | D6: 0
B7: разова комісія | D7: 0.0199 | F7: нет
B8: вартість застави | D8: 2000000
B9: страхування застави | D9: 0.003
B10: страхування позичальника | D10: 0
B11: дата погашення | D11: =EDATE(D2,D3) -> 48519
B12: Платіж у місяць | D12: =-PMT(D5/12,D3,D4) -> 28603.043
B13: знижена ставка на пільговий період | D13: ні | F13: 0.36
B14: № з/п | C14: Дата видачі кредиту/дата платежу | D14: Кількість днів у розрахунковому періоді | E14: Сума заборгованості | F14: Чиста сума кредиту/сума платежу за розрахунковий період, грн. | G14: Види платежів за кредитом | S14: Реальна річна процентна ставка, % | T14: Загальна вартість кредиту, грн
G15: сума кредиту за договором | H15: проценти за користування кредитом | I15: платежі за додаткові та супутні послуги
I16: банку | M16: кредитного посередника | O16: третіх осіб
I17: за обслуговування кредитної заборгованості | J17: розрахунково-касове обслуговування | K17: комісія за надання кредиту | L17: інші послуги банку | M17: комісійний збір | N17: інша плата за послуги кредитного посередника | O17: послуги нотаріуса | P17: послуги оцінювача | Q17: послуги страховика | R17: інші послуги третіх осіб
B18: 1 | C18: 2 | D18: 3 | F18: 4 | G18: 5 | H18: 6 | I18: 7 | J18: 8 | K18: 9 | L18: 10 | M18: 11 | N18: 12 | O18: 13 | P18: 14 | Q18: 15 | R18: 16 | S18: 17 | T18: 18
B19: 0 | C19: =D2 -> 44866 | E19: =$D$4 -> 1000000 | F19: =-D4+K19 -> -980100 | K19: =D7*D4 -> 19900 | O19: =3000+D8*0.1% -> 5000 | P19: 3000 | Q19: =$D$9*$D$8+$D$10*E19 -> 6000 | S19: =SUM(U22:U190) -> 0.40692354 | T19: =SUM(G20:I88) -> 1935474
B20: 1 | C20: =EDATE(C19,1) -> 44896 | D20: =C20-C19 -> 30 | E20: =E19-G20 -> 991666.67 | F20: =G20+H20+I20 -> 35456.621 | G20: =IF(C20=" "," ",$D$4/$D$3) -> 8333.3333 | H20: =IF(C20=" "," ",E19*$D$5*(C20-C19)/365) -> 27123.288 | I20: =IF(C20=" "," ",IF($F$7="нет",$D$6*$D$4,($D$4*(1+$D$7))*$D$6)) -> 0
B21: 2 | C21: =IF(B20>=$D$3, " ", EDATE(C20,1)) -> 44927 | D21: =IF(C21=" "," ",(C21-C20)) -> 31 | E21: =E20-G21 -> 983333.33 | F21: =IF(C21=" "," ",G21+H21+I21) -> 36127.169 | G21: =IF(C21=" "," ",$D$4/$D$3) -> 8333.3333 | H21: =IF(C21=" "," ",E20*$D$5*(C21-C20)/365) -> 27793.836 | I21: =IF(C21=" "," ",IF($F$7="нет",$D$6*$D$4,($D$4*(1+$D$7))*$D$6)) -> 0
B22: =IF(C22 =" "," ",B21+1) -> 3 | C22: =IF(B21>=$D$3, " ", EDATE(C21,1)) -> 44958 | D22: =IF(C22=" "," ",(C22-C21)) -> 31 | E22: =E21-G22 -> 975000 | F22: =IF(C22=" "," ",G22+H22+I22) -> 35893.607 | G22: =IF(C22=" "," ",$D$4/$D$3) -> 8333.3333 | H22: =IF(C22=" "," ",E21*$D$5*(C22-C21)/365) -> 27560.274 | I22: =IF(C22=" "," ",IF($F$7="нет",$D$6*$D$4,($D$4*(1+$D$7))*$D$6)) -> 0 | U22: =IF(B21=$D$3,XIRR(#REF!,$C$19:C21)," ")
B23: =IF(C23 =" "," ",B22+1) -> 4 | C23: =IF(B22>=$D$3, " ", EDATE(C22,1)) -> 44986 | D23: =IF(C23=" "," ",(C23-C22)) -> 28 | E23: =E22-G23 -> 966666.67 | F23: =IF(C23=" "," ",G23+H23+I23) -> 33015.525 | G23: =IF(C23=" "," ",$D$4/$D$3) -> 8333.3333 | H23: =IF(C23=" "," ",E22*$D$5*(C23-C22)/365) -> 24682.192 | I23: =IF(C23=" "," ",IF($F$7="нет",$D$6*$D$4,($D$4*(1+$D$7))*$D$6)) -> 0 | U23: =IF(B22=$D$3,XIRR($F$19:F22,$C$19:C22)," ")
B24: =IF(C24 =" "," ",B23+1) -> 5 | C24: =IF(B23>=$D$3, " ", EDATE(C23,1)) -> 45017 | D24: =IF(C24=" "," ",(C24-C23)) -> 31 | E24: =E23-G24 -> 958333.33 | F24: =IF(C24=" "," ",G24+H24+I24) -> 35426.484 | G24: =IF(C24=" "," ",$D$4/$D$3) -> 8333.3333 | H24: =IF(C24=" "," ",E23*$D$5*(C24-C23)/365) -> 27093.151 | I24: =IF(C24=" "," ",IF($F$7="нет",$D$6*$D$4,($D$4*(1+$D$7))*$D$6)) -> 0 | U24: =IF(B23=$D$3,XIRR($F$19:F23,$C$19:C23)," ")
B25: =IF(C25 =" "," ",B24+1) -> 6 | C25: =IF(B24>=$D$3, " ", EDATE(C24,1)) -> 45047 | D25: =IF(C25=" "," ",(C25-C24)) -> 30 | E25: =IF(C25=" "," ",E24-G25) -> 950000 | F25: =IF(C25=" "," ",G25+H25+I25) -> 34326.484 | G25: =IF(C25=" "," ",$D$4/$D$3) -> 8333.3333 | H25: =IF(C25=" "," ",E24*$D$5*(C25-C24)/365) -> 25993.151 | I25: =IF(C25=" "," ",IF($F$7="нет",$D$6*$D$4,($D$4*(1+$D$7))*$D$6)) -> 0 | U25: =IF(B24=$D$3,XIRR($F$19:F24,$C$19:C24)," ")
B26: =IF(C26 =" "," ",B25+1) -> 7 | C26: =IF(B25>=$D$3, " ", EDATE(C25,1)) -> 45078 | D26: =IF(C26=" "," ",(C26-C25)) -> 31 | E26: =IF(C26=" "," ",E25-G26) -> 941666.67 | F26: =IF(C26=" "," ",G26+H26+I26) -> 34959.361 | G26: =IF(C26=" "," ",$D$4/$D$3) -> 8333.3333 | H26: =IF(C26=" "," ",E25*$D$5*(C26-C25)/365) -> 26626.027 | I26: =IF(C26=" "," ",IF($F$7="нет",$D$6*$D$4,($D$4*(1+$D$7))*$D$6)) -> 0 | U26: =IF(B25=$D$3,XIRR($F$19:F25,$C$19:C25)," ")
B27: =IF(C27 =" "," ",B26+1) -> 8 | C27: =IF(B26>=$D$3, " ", EDATE(C26,1)) -> 45108 | D27: =IF(C27=" "," ",(C27-C26)) -> 30 | E27: =IF(C27=" "," ",E26-G27) -> 933333.33 | F27: =IF(C27=" "," ",G27+H27+I27) -> 33874.429 | G27: =IF(C27=" "," ",$D$4/$D$3) -> 8333.3333 | H27: =IF(C27=" "," ",E26*$D$5*(C27-C26)/365) -> 25541.096 | I27: =IF(C27=" "," ",IF($F$7="нет",$D$6*$D$4,($D$4*(1+$D$7))*$D$6)) -> 0 | U27: =IF(B26=$D$3,XIRR($F$19:F26,$C$19:C26)," ")
B28: =IF(C28 =" "," ",B27+1) -> 9 | C28: =IF(B27>=$D$3, " ", EDATE(C27,1)) -> 45139 | D28: =IF(C28=" "," ",(C28-C27)) -> 31 | E28: =IF(C28=" "," ",E27-G28) -> 925000 | F28: =IF(C28=" "," ",G28+H28+I28) -> 34492.237 | G28: =IF(C28=" "," ",$D$4/$D$3) -> 8333.3333 | H28: =IF(C28=" "," ",E27*$D$5*(C28-C27)/365) -> 26158.904 | I28: =IF(C28=" "," ",IF($F$7="нет",$D$6*$D$4,($D$4*(1+$D$7))*$D$6)) -> 0 | U28: =IF(B27=$D$3,XIRR($F$19:F27,$C$19:C27)," ")
B29: =IF(C29 =" "," ",B28+1) -> 10 | C29: =IF(B28>=$D$3, " ", EDATE(C28,1)) -> 45170 | D29: =IF(C29=" "," ",(C29-C28)) -> 31 | E29: =IF(C29=" "," ",E28-G29) -> 916666.67 | F29: =IF(C29=" "," ",G29+H29+I29) -> 34258.676 | G29: =IF(C29=" "," ",$D$4/$D$3) -> 8333.3333 | H29: =IF(C29=" "," ",E28*$D$5*(C29-C28)/365) -> 25925.342 | I29: =IF(C29=" "," ",IF($F$7="нет",$D$6*$D$4,($D$4*(1+$D$7))*$D$6)) -> 0 | U29: =IF(B28=$D$3,XIRR($F$19:F28,$C$19:C28)," ")
B30: =IF(C30 =" "," ",B29+1) -> 11 | C30: =IF(B29>=$D$3, " ", EDATE(C29,1)) -> 45200 | D30: =IF(C30=" "," ",(C30-C29)) -> 30 | E30: =IF(C30=" "," ",E29-G30) -> 908333.33 | F30: =IF(C30=" "," ",G30+H30+I30) -> 33196.347 | G30: =IF(C30=" "," ",$D$4/$D$3) -> 8333.3333 | H30: =IF(C30=" "," ",E29*$D$5*(C30-C29)/365) -> 24863.014 | I30: =IF(C30=" "," ",IF($F$7="нет",$D$6*$D$4,($D$4*(1+$D$7))*$D$6)) -> 0 | U30: =IF(B29=$D$3,XIRR($F$19:F29,$C$19:C29)," ")
B31: =IF(C31 =" "," ",B30+1) -> 12 | C31: =IF(B30>=$D$3, " ", EDATE(C30,1)) -> 45231 | D31: =IF(C31=" "," ",(C31-C30)) -> 31 | E31: =IF(C31=" "," ",E30-G31) -> 900000 | F31: =IF(C31=" "," ",G31+H31+I31+Q31) -> 39791.553 | G31: =IF(C31=" "," ",$D$4/$D$3) -> 8333.3333 | H31: =IF(C31=" "," ",E30*$D$5*(C31-C30)/365) -> 25458.219 | I31: =IF(C31=" "," ",IF($F$7="нет",$D$6*$D$4,($D$4*(1+$D$7))*$D$6)) -> 0 | Q31: =$D$9*$D$8+$D$10*E31 -> 6000 | U31: =IF(B30=$D$3,XIRR($F$19:F30,$C$19:C30)," ")
B32: =IF(C32 =" "," ",B31+1) -> 13 | C32: =IF(B31>=$D$3, " ", EDATE(C31,1)) -> 45261 | D32: =IF(C32=" "," ",(C32-C31)) -> 30 | E32: =IF(C32=" "," ",E31-G32) -> 891666.67 | F32: =IF(C32=" "," ",G32+H32+I32+Q32) -> 32744.292 | G32: =IF(C32=" "," ",$D$4/$D$3) -> 8333.3333 | H32: =IF(C32=" "," ",E31*$D$5*(C32-C31)/365) -> 24410.959 | I32: =IF(C32=" "," ",IF($F$7="нет",$D$6*$D$4,($D$4*(1+$D$7))*$D$6)) -> 0 | U32: =IF(B31=$D$3,XIRR($F$19:F31,$C$19:C31)," ")
B33: =IF(C33 =" "," ",B32+1) -> 14 | C33: =IF(B32>=$D$3, " ", EDATE(C32,1)) -> 45292 | D33: =IF(C33=" "," ",(C33-C32)) -> 31 | E33: =IF(C33=" "," ",E32-G33) -> 883333.33 | F33: =IF(C33=" "," ",G33+H33+I33+Q33) -> 33324.429 | G33: =IF(C33=" "," ",$D$4/$D$3) -> 8333.3333 | H33: =IF(C33=" "," ",E32*$D$5*(C33-C32)/365) -> 24991.096 | I33: =IF(C33=" "," ",IF($F$7="нет",$D$6*$D$4,($D$4*(1+$D$7))*$D$6)) -> 0 | U33: =IF(B32=$D$3,XIRR($F$19:F32,$C$19:C32)," ")
B34: =IF(C34 =" "," ",B33+1) -> 15 | C34: =IF(B33>=$D$3, " ", EDATE(C33,1)) -> 45323 | D34: =IF(C34=" "," ",(C34-C33)) -> 31 | E34: =IF(C34=" "," ",E33-G34) -> 875000 | F34: =IF(C34=" "," ",G34+H34+I34+Q34) -> 33090.868 | G34: =IF(C34=" "," ",$D$4/$D$3) -> 8333.3333 | H34: =IF(C34=" "," ",E33*$D$5*(C34-C33)/365) -> 24757.534 | I34: =IF(C34=" "," ",IF($F$7="нет",$D$6*$D$4,($D$4*(1+$D$7))*$D$6)) -> 0 | U34: =IF(B33=$D$3,XIRR($F$19:F33,$C$19:C33)," ")
B35: =IF(C35 =" "," ",B34+1) -> 16 | C35: =IF(B34>=$D$3, " ", EDATE(C34,1)) -> 45352 | D35: =IF(C35=" "," ",(C35-C34)) -> 29 | E35: =IF(C35=" "," ",E34-G35) -> 866666.67 | F35: =IF(C35=" "," ",G35+H35+I35+Q35) -> 31275.114 | G35: =IF(C35=" "," ",$D$4/$D$3) -> 8333.3333 | H35: =IF(C35=" "," ",E34*$D$5*(C35-C34)/365) -> 22941.781 | I35: =IF(C35=" "," ",IF($F$7="нет",$D$6*$D$4,($D$4*(1+$D$7))*$D$6)) -> 0 | U35: =IF(B34=$D$3,XIRR($F$19:F34,$C$19:C34)," ")
B36: =IF(C36 =" "," ",B35+1) -> 17 | C36: =IF(B35>=$D$3, " ", EDATE(C35,1)) -> 45383 | D36: =IF(C36=" "," ",(C36-C35)) -> 31 | E36: =IF(C36=" "," ",E35-G36) -> 858333.33 | F36: =IF(C36=" "," ",G36+H36+I36+Q36) -> 32623.744 | G36: =IF(C36=" "," ",$D$4/$D$3) -> 8333.3333 | H36: =IF(C36=" "," ",E35*$D$5*(C36-C35)/365) -> 24290.411 | I36: =IF(C36=" "," ",IF($F$7="нет",$D$6*$D$4,($D$4*(1+$D$7))*$D$6)) -> 0 | U36: =IF(B35=$D$3,XIRR($F$19:F35,$C$19:C35)," ")
B37: =IF(C37 =" "," ",B36+1) -> 18 | C37: =IF(B36>=$D$3, " ", EDATE(C36,1)) -> 45413 | D37: =IF(C37=" "," ",(C37-C36)) -> 30 | E37: =IF(C37=" "," ",E36-G37) -> 850000 | F37: =IF(C37=" "," ",G37+H37+I37+Q37) -> 31614.155 | G37: =IF(C37=" "," ",$D$4/$D$3) -> 8333.3333 | H37: =IF(C37=" "," ",E36*$D$5*(C37-C36)/365) -> 23280.822 | I37: =IF(C37=" "," ",IF($F$7="нет",$D$6*$D$4,($D$4*(1+$D$7))*$D$6)) -> 0 | U37: =IF(B36=$D$3,XIRR($F$19:F36,$C$19:C36)," ")
B38: =IF(C38 =" "," ",B37+1) -> 19 | C38: =IF(B37>=$D$3, " ", EDATE(C37,1)) -> 45444 | D38: =IF(C38=" "," ",(C38-C37)) -> 31 | E38: =IF(C38=" "," ",E37-G38) -> 841666.67 | F38: =IF(C38=" "," ",G38+H38+I38+Q38) -> 32156.621 | G38: =IF(C38=" "," ",$D$4/$D$3) -> 8333.3333 | H38: =IF(C38=" "," ",E37*$D$5*(C38-C37)/365) -> 23823.288 | I38: =IF(C38=" "," ",IF($F$7="нет",$D$6*$D$4,($D$4*(1+$D$7))*$D$6)) -> 0 | U38: =IF(B37=$D$3,XIRR($F$19:F37,$C$19:C37)," ")
B39: =IF(C39 =" "," ",B38+1) -> 20 | C39: =IF(B38>=$D$3, " ", EDATE(C38,1)) -> 45474 | D39: =IF(C39=" "," ",(C39-C38)) -> 30 | E39: =IF(C39=" "," ",E38-G39) -> 833333.33 | F39: =IF(C39=" "," ",G39+H39+I39+Q39) -> 31162.1 | G39: =IF(C39=" "," ",$D$4/$D$3) -> 8333.3333 | H39: =IF(C39=" "," ",E38*$D$5*(C39-C38)/365) -> 22828.767 | I39: =IF(C39=" "," ",IF($F$7="нет",$D$6*$D$4,($D$4*(1+$D$7))*$D$6)) -> 0 | U39: =IF(B38=$D$3,XIRR($F$19:F38,$C$19:C38)," ")
B40: =IF(C40 =" "," ",B39+1) -> 21 | C40: =IF(B39>=$D$3, " ", EDATE(C39,1)) -> 45505 | D40: =IF(C40=" "," ",(C40-C39)) -> 31 | E40: =IF(C40=" "," ",E39-G40) -> 825000 | F40: =IF(C40=" "," ",G40+H40+I40+Q40) -> 31689.498 | G40: =IF(C40=" "," ",$D$4/$D$3) -> 8333.3333 | H40: =IF(C40=" "," ",E39*$D$5*(C40-C39)/365) -> 23356.164 | I40: =IF(C40=" "," ",IF($F$7="нет",$D$6*$D$4,($D$4*(1+$D$7))*$D$6)) -> 0 | U40: =IF(B39=$D$3,XIRR($F$19:F39,$C$19:C39)," ")
B41: =IF(C41 =" "," ",B40+1) -> 22 | C41: =IF(B40>=$D$3, " ", EDATE(C40,1)) -> 45536 | D41: =IF(C41=" "," ",(C41-C40)) -> 31 | E41: =IF(C41=" "," ",E40-G41) -> 816666.67 | F41: =IF(C41=" "," ",G41+H41+I41+Q41) -> 31455.936 | G41: =IF(C41=" "," ",$D$4/$D$3) -> 8333.3333 | H41: =IF(C41=" "," ",E40*$D$5*(C41-C40)/365) -> 23122.603 | I41: =IF(C41=" "," ",IF($F$7="нет",$D$6*$D$4,($D$4*(1+$D$7))*$D$6)) -> 0 | U41: =IF(B40=$D$3,XIRR($F$19:F40,$C$19:C40)," ")
B42: =IF(C42 =" "," ",B41+1) -> 23 | C42: =IF(B41>=$D$3, " ", EDATE(C41,1)) -> 45566 | D42: =IF(C42=" "," ",(C42-C41)) -> 30 | E42: =IF(C42=" "," ",E41-G42) -> 808333.33 | F42: =IF(C42=" "," ",G42+H42+I42+Q42) -> 30484.018 | G42: =IF(C42=" "," ",$D$4/$D$3) -> 8333.3333 | H42: =IF(C42=" "," ",E41*$D$5*(C42-C41)/365) -> 22150.685 | I42: =IF(C42=" "," ",IF($F$7="нет",$D$6*$D$4,($D$4*(1+$D$7))*$D$6)) -> 0 | U42: =IF(B41=$D$3,XIRR($F$19:F41,$C$19:C41)," ")
B43: =IF(C43 =" "," ",B42+1) -> 24 | C43: =IF(B42>=$D$3, " ", EDATE(C42,1)) -> 45597 | D43: =IF(C43=" "," ",(C43-C42)) -> 31 | E43: =IF(C43=" "," ",E42-G43) -> 800000 | F43: =IF(C43=" "," ",G43+H43+I43+Q43) -> 36988.813 | G43: =IF(C43=" "," ",$D$4/$D$3) -> 8333.3333 | H43: =IF(C43=" "," ",E42*$D$5*(C43-C42)/365) -> 22655.479 | I43: =IF(C43=" "," ",IF($F$7="нет",$D$6*$D$4,($D$4*(1+$D$7))*$D$6)) -> 0 | Q43: =IF(C43=" "," ",$D$9*$D$8+$D$10*E43) -> 6000 | U43: =IF(B42=$D$3,XIRR($F$19:F42,$C$19:C42)," ")
B44: =IF(C44 =" "," ",B43+1) -> 25 | C44: =IF(B43>=$D$3, " ", EDATE(C43,1)) -> 45627 | D44: =IF(C44=" "," ",(C44-C43)) -> 30 | E44: =IF(C44=" "," ",E43-G44) -> 791666.67 | F44: =IF(C44=" "," ",G44+H44+I44+Q44) -> 30031.963 | G44: =IF(C44=" "," ",$D$4/$D$3) -> 8333.3333 | H44: =IF(C44=" "," ",E43*$D$5*(C44-C43)/365) -> 21698.63 | I44: =IF(C44=" "," ",IF($F$7="нет",$D$6*$D$4,($D$4*(1+$D$7))*$D$6)) -> 0 | U44: =IF(B43=$D$3,XIRR($F$19:F43,$C$19:C43)," ")
B45: =IF(C45 =" "," ",B44+1) -> 26 | C45: =IF(B44>=$D$3, " ", EDATE(C44,1)) -> 45658 | D45: =IF(C45=" "," ",(C45-C44)) -> 31 | E45: =IF(C45=" "," ",E44-G45) -> 783333.33 | F45: =IF(C45=" "," ",G45+H45+I45+Q45) -> 30521.689 | G45: =IF(C45=" "," ",$D$4/$D$3) -> 8333.3333 | H45: =IF(C45=" "," ",E44*$D$5*(C45-C44)/365) -> 22188.356 | I45: =IF(C45=" "," ",IF($F$7="нет",$D$6*$D$4,($D$4*(1+$D$7))*$D$6)) -> 0 | U45: =IF(B44=$D$3,XIRR($F$19:F44,$C$19:C44)," ")
B46: =IF(C46 =" "," ",B45+1) -> 27 | C46: =IF(B45>=$D$3, " ", EDATE(C45,1)) -> 45689 | D46: =IF(C46=" "," ",(C46-C45)) -> 31 | E46: =IF(C46=" "," ",E45-G46) -> 775000 | F46: =IF(C46=" "," ",G46+H46+I46+Q46) -> 30288.128 | G46: =IF(C46=" "," ",$D$4/$D$3) -> 8333.3333 | H46: =IF(C46=" "," ",E45*$D$5*(C46-C45)/365) -> 21954.795 | I46: =IF(C46=" "," ",IF($F$7="нет",$D$6*$D$4,($D$4*(1+$D$7))*$D$6)) -> 0 | U46: =IF(B45=$D$3,XIRR($F$19:F45,$C$19:C45)," ")
B47: =IF(C47 =" "," ",B46+1) -> 28 | C47: =IF(B46>=$D$3, " ", EDATE(C46,1)) -> 45717 | D47: =IF(C47=" "," ",(C47-C46)) -> 28 | E47: =IF(C47=" "," ",E46-G47) -> 766666.67 | F47: =IF(C47=" "," ",G47+H47+I47+Q47) -> 27952.511 | G47: =IF(C47=" "," ",$D$4/$D$3) -> 8333.3333 | H47: =IF(C47=" "," ",E46*$D$5*(C47-C46)/365) -> 19619.178 | I47: =IF(C47=" "," ",IF($F$7="нет",$D$6*$D$4,($D$4*(1+$D$7))*$D$6)) -> 0 | U47: =IF(B46=$D$3,XIRR($F$19:F46,$C$19:C46)," ")
B48: =IF(C48 =" "," ",B47+1) -> 29 | C48: =IF(B47>=$D$3, " ", EDATE(C47,1)) -> 45748 | D48: =IF(C48=" "," ",(C48-C47)) -> 31 | E48: =IF(C48=" "," ",E47-G48) -> 758333.33 | F48: =IF(C48=" "," ",G48+H48+I48+Q48) -> 29821.005 | G48: =IF(C48=" "," ",$D$4/$D$3) -> 8333.3333 | H48: =IF(C48=" "," ",E47*$D$5*(C48-C47)/365) -> 21487.671 | I48: =IF(C48=" "," ",IF($F$7="нет",$D$6*$D$4,($D$4*(1+$D$7))*$D$6)) -> 0 | U48: =IF(B47=$D$3,XIRR($F$19:F47,$C$19:C47)," ")
B49: =IF(C49 =" "," ",B48+1) -> 30 | C49: =IF(B48>=$D$3, " ", EDATE(C48,1)) -> 45778 | D49: =IF(C49=" "," ",(C49-C48)) -> 30 | E49: =IF(C49=" "," ",E48-G49) -> 750000 | F49: =IF(C49=" "," ",G49+H49+I49+Q49) -> 28901.826 | G49: =IF(C49=" "," ",$D$4/$D$3) -> 8333.3333 | H49: =IF(C49=" "," ",E48*$D$5*(C49-C48)/365) -> 20568.493 | I49: =IF(C49=" "," ",IF($F$7="нет",$D$6*$D$4,($D$4*(1+$D$7))*$D$6)) -> 0 | U49: =IF(B48=$D$3,XIRR($F$19:F48,$C$19:C48)," ")
B50: =IF(C50 =" "," ",B49+1) -> 31 | C50: =IF(B49>=$D$3, " ", EDATE(C49,1)) -> 45809 | D50: =IF(C50=" "," ",(C50-C49)) -> 31 | E50: =IF(C50=" "," ",E49-G50) -> 741666.67 | F50: =IF(C50=" "," ",G50+H50+I50+Q50) -> 29353.881 | G50: =IF(C50=" "," ",$D$4/$D$3) -> 8333.3333 | H50: =IF(C50=" "," ",E49*$D$5*(C50-C49)/365) -> 21020.548 | I50: =IF(C50=" "," ",IF($F$7="нет",$D$6*$D$4,($D$4*(1+$D$7))*$D$6)) -> 0 | U50: =IF(B49=$D$3,XIRR($F$19:F49,$C$19:C49)," ")
B51: =IF(C51 =" "," ",B50+1) -> 32 | C51: =IF(B50>=$D$3, " ", EDATE(C50,1)) -> 45839 | D51: =IF(C51=" "," ",(C51-C50)) -> 30 | E51: =IF(C51=" "," ",E50-G51) -> 733333.33 | F51: =IF(C51=" "," ",G51+H51+I51+Q51) -> 28449.772 | G51: =IF(C51=" "," ",$D$4/$D$3) -> 8333.3333 | H51: =IF(C51=" "," ",E50*$D$5*(C51-C50)/365) -> 20116.438 | I51: =IF(C51=" "," ",IF($F$7="нет",$D$6*$D$4,($D$4*(1+$D$7))*$D$6)) -> 0 | U51: =IF(B50=$D$3,XIRR($F$19:F50,$C$19:C50)," ")
B52: =IF(C52 =" "," ",B51+1) -> 33 | C52: =IF(B51>=$D$3, " ", EDATE(C51,1)) -> 45870 | D52: =IF(C52=" "," ",(C52-C51)) -> 31 | E52: =IF(C52=" "," ",E51-G52) -> 725000 | F52: =IF(C52=" "," ",G52+H52+I52+Q52) -> 28886.758 | G52: =IF(C52=" "," ",$D$4/$D$3) -> 8333.3333 | H52: =IF(C52=" "," ",E51*$D$5*(C52-C51)/365) -> 20553.425 | I52: =IF(C52=" "," ",IF($F$7="нет",$D$6*$D$4,($D$4*(1+$D$7))*$D$6)) -> 0 | U52: =IF(B51=$D$3,XIRR($F$19:F51,$C$19:C51)," ")
B53: =IF(C53 =" "," ",B52+1) -> 34 | C53: =IF(B52>=$D$3, " ", EDATE(C52,1)) -> 45901 | D53: =IF(C53=" "," ",(C53-C52)) -> 31 | E53: =IF(C53=" "," ",E52-G53) -> 716666.67 | F53: =IF(C53=" "," ",G53+H53+I53+Q53) -> 28653.196 | G53: =IF(C53=" "," ",$D$4/$D$3) -> 8333.3333 | H53: =IF(C53=" "," ",E52*$D$5*(C53-C52)/365) -> 20319.863 | I53: =IF(C53=" "," ",IF($F$7="нет",$D$6*$D$4,($D$4*(1+$D$7))*$D$6)) -> 0 | U53: =IF(B52=$D$3,XIRR($F$19:F52,$C$19:C52)," ")
B54: =IF(C54 =" "," ",B53+1) -> 35 | C54: =IF(B53>=$D$3, " ", EDATE(C53,1)) -> 45931 | D54: =IF(C54=" "," ",(C54-C53)) -> 30 | E54: =IF(C54=" "," ",E53-G54) -> 708333.33 | F54: =IF(C54=" "," ",G54+H54+I54+Q54) -> 27771.689 | G54: =IF(C54=" "," ",$D$4/$D$3) -> 8333.3333 | H54: =IF(C54=" "," ",E53*$D$5*(C54-C53)/365) -> 19438.356 | I54: =IF(C54=" "," ",IF($F$7="нет",$D$6*$D$4,($D$4*(1+$D$7))*$D$6)) -> 0 | U54: =IF(B53=$D$3,XIRR($F$19:F53,$C$19:C53)," ")
B55: =IF(C55 =" "," ",B54+1) -> 36 | C55: =IF(B54>=$D$3, " ", EDATE(C54,1)) -> 45962 | D55: =IF(C55=" "," ",(C55-C54)) -> 31 | E55: =IF(C55=" "," ",E54-G55) -> 700000 | F55: =IF(C55=" "," ",G55+H55+I55+Q55) -> 34186.073 | G55: =IF(C55=" "," ",$D$4/$D$3) -> 8333.3333 | H55: =IF(C55=" "," ",E54*$D$5*(C55-C54)/365) -> 19852.74 | I55: =IF(C55=" "," ",IF($F$7="нет",$D$6*$D$4,($D$4*(1+$D$7))*$D$6)) -> 0 | Q55: =IF(C55=" "," ",$D$9*$D$8+$D$10*E55) -> 6000 | U55: =IF(B54=$D$3,XIRR($F$19:F54,$C$19:C54)," ")
B56: =IF(C56 =" "," ",B55+1) -> 37 | C56: =IF(B55>=$D$3, " ", EDATE(C55,1)) -> 45992 | D56: =IF(C56=" "," ",(C56-C55)) -> 30 | E56: =IF(C56=" "," ",E55-G56) -> 691666.67 | F56: =IF(C56=" "," ",G56+H56+I56+Q56) -> 27319.635 | G56: =IF(C56=" "," ",$D$4/$D$3) -> 8333.3333 | H56: =IF(C56=" "," ",E55*$D$5*(C56-C55)/365) -> 18986.301 | I56: =IF(C56=" "," ",IF($F$7="нет",$D$6*$D$4,($D$4*(1+$D$7))*$D$6)) -> 0 | U56: =IF(B55=$D$3,XIRR($F$19:F55,$C$19:C55)," ")
B57: =IF(C57 =" "," ",B56+1) -> 38 | C57: =IF(B56>=$D$3, " ", EDATE(C56,1)) -> 46023 | D57: =IF(C57=" "," ",(C57-C56)) -> 31 | E57: =IF(C57=" "," ",E56-G57) -> 683333.33 | F57: =IF(C57=" "," ",G57+H57+I57+Q57) -> 27718.95 | G57: =IF(C57=" "," ",$D$4/$D$3) -> 8333.3333 | H57: =IF(C57=" "," ",E56*$D$5*(C57-C56)/365) -> 19385.616 | I57: =IF(C57=" "," ",IF($F$7="нет",$D$6*$D$4,($D$4*(1+$D$7))*$D$6)) -> 0 | U57: =IF(B56=$D$3,XIRR($F$19:F56,$C$19:C56)," ")
B58: =IF(C58 =" "," ",B57+1) -> 39 | C58: =IF(B57>=$D$3, " ", EDATE(C57,1)) -> 46054 | D58: =IF(C58=" "," ",(C58-C57)) -> 31 | E58: =IF(C58=" "," ",E57-G58) -> 675000 | F58: =IF(C58=" "," ",G58+H58+I58+Q58) -> 27485.388 | G58: =IF(C58=" "," ",$D$4/$D$3) -> 8333.3333 | H58: =IF(C58=" "," ",E57*$D$5*(C58-C57)/365) -> 19152.055 | I58: =IF(C58=" "," ",IF($F$7="нет",$D$6*$D$4,($D$4*(1+$D$7))*$D$6)) -> 0 | U58: =IF(B57=$D$3,XIRR($F$19:F57,$C$19:C57)," ")
B59: =IF(C59 =" "," ",B58+1) -> 40 | C59: =IF(B58>=$D$3, " ", EDATE(C58,1)) -> 46082 | D59: =IF(C59=" "," ",(C59-C58)) -> 28 | E59: =IF(C59=" "," ",E58-G59) -> 666666.67 | F59: =IF(C59=" "," ",G59+H59+I59+Q59) -> 25421.005 | G59: =IF(C59=" "," ",$D$4/$D$3) -> 8333.3333 | H59: =IF(C59=" "," ",E58*$D$5*(C59-C58)/365) -> 17087.671 | I59: =IF(C59=" "," ",IF($F$7="нет",$D$6*$D$4,($D$4*(1+$D$7))*$D$6)) -> 0 | U59: =IF(B58=$D$3,XIRR($F$19:F58,$C$19:C58)," ")
B60: =IF(C60 =" "," ",B59+1) -> 41 | C60: =IF(B59>=$D$3, " ", EDATE(C59,1)) -> 46113 | D60: =IF(C60=" "," ",(C60-C59)) -> 31 | E60: =IF(C60=" "," ",E59-G60) -> 658333.33 | F60: =IF(C60=" "," ",G60+H60+I60+Q60) -> 27018.265 | G60: =IF(C60=" "," ",$D$4/$D$3) -> 8333.3333 | H60: =IF(C60=" "," ",E59*$D$5*(C60-C59)/365) -> 18684.932 | I60: =IF(C60=" "," ",IF($F$7="нет",$D$6*$D$4,($D$4*(1+$D$7))*$D$6)) -> 0 | U60: =IF(B59=$D$3,XIRR($F$19:F59,$C$19:C59)," ")
B61: =IF(C61 =" "," ",B60+1) -> 42 | C61: =IF(B60>=$D$3, " ", EDATE(C60,1)) -> 46143 | D61: =IF(C61=" "," ",(C61-C60)) -> 30 | E61: =IF(C61=" "," ",E60-G61) -> 650000 | F61: =IF(C61=" "," ",G61+H61+I61+Q61) -> 26189.498 | G61: =IF(C61=" "," ",$D$4/$D$3) -> 8333.3333 | H61: =IF(C61=" "," ",E60*$D$5*(C61-C60)/365) -> 17856.164 | I61: =IF(C61=" "," ",IF($F$7="нет",$D$6*$D$4,($D$4*(1+$D$7))*$D$6)) -> 0 | U61: =IF(B60=$D$3,XIRR($F$19:F60,$C$19:C60)," ")
B62: =IF(C62 =" "," ",B61+1) -> 43 | C62: =IF(B61>=$D$3, " ", EDATE(C61,1)) -> 46174 | D62: =IF(C62=" "," ",(C62-C61)) -> 31 | E62: =IF(C62=" "," ",E61-G62) -> 641666.67 | F62: =IF(C62=" "," ",G62+H62+I62+Q62) -> 26551.142 | G62: =IF(C62=" "," ",$D$4/$D$3) -> 8333.3333 | H62: =IF(C62=" "," ",E61*$D$5*(C62-C61)/365) -> 18217.808 | I62: =IF(C62=" "," ",IF($F$7="нет",$D$6*$D$4,($D$4*(1+$D$7))*$D$6)) -> 0 | U62: =IF(B61=$D$3,XIRR($F$19:F61,$C$19:C61)," ")
B63: =IF(C63 =" "," ",B62+1) -> 44 | C63: =IF(B62>=$D$3, " ", EDATE(C62,1)) -> 46204 | D63: =IF(C63=" "," ",(C63-C62)) -> 30 | E63: =IF(C63=" "," ",E62-G63) -> 633333.33 | F63: =IF(C63=" "," ",G63+H63+I63+Q63) -> 25737.443 | G63: =IF(C63=" "," ",$D$4/$D$3) -> 8333.3333 | H63: =IF(C63=" "," ",E62*$D$5*(C63-C62)/365) -> 17404.11 | I63: =IF(C63=" "," ",IF($F$7="нет",$D$6*$D$4,($D$4*(1+$D$7))*$D$6)) -> 0 | U63: =IF(B62=$D$3,XIRR($F$19:F62,$C$19:C62)," ")
B64: =IF(C64 =" "," ",B63+1) -> 45 | C64: =IF(B63>=$D$3, " ", EDATE(C63,1)) -> 46235 | D64: =IF(C64=" "," ",(C64-C63)) -> 31 | E64: =IF(C64=" "," ",E63-G64) -> 625000 | F64: =IF(C64=" "," ",G64+H64+I64+Q64) -> 26084.018 | G64: =IF(C64=" "," ",$D$4/$D$3) -> 8333.3333 | H64: =IF(C64=" "," ",E63*$D$5*(C64-C63)/365) -> 17750.685 | I64: =IF(C64=" "," ",IF($F$7="нет",$D$6*$D$4,($D$4*(1+$D$7))*$D$6)) -> 0 | U64: =IF(B63=$D$3,XIRR($F$19:F63,$C$19:C63)," ")
B65: =IF(C65 =" "," ",B64+1) -> 46 | C65: =IF(B64>=$D$3, " ", EDATE(C64,1)) -> 46266 | D65: =IF(C65=" "," ",(C65-C64)) -> 31 | E65: =IF(C65=" "," ",E64-G65) -> 616666.67 | F65: =IF(C65=" "," ",G65+H65+I65+Q65) -> 25850.457 | G65: =IF(C65=" "," ",$D$4/$D$3) -> 8333.3333 | H65: =IF(C65=" "," ",E64*$D$5*(C65-C64)/365) -> 17517.123 | I65: =IF(C65=" "," ",IF($F$7="нет",$D$6*$D$4,($D$4*(1+$D$7))*$D$6)) -> 0 | U65: =IF(B64=$D$3,XIRR($F$19:F64,$C$19:C64)," ")
B66: =IF(C66 =" "," ",B65+1) -> 47 | C66: =IF(B65>=$D$3, " ", EDATE(C65,1)) -> 46296 | D66: =IF(C66=" "," ",(C66-C65)) -> 30 | E66: =IF(C66=" "," ",E65-G66) -> 608333.33 | F66: =IF(C66=" "," ",G66+H66+I66+Q66) -> 25059.361 | G66: =IF(C66=" "," ",$D$4/$D$3) -> 8333.3333 | H66: =IF(C66=" "," ",E65*$D$5*(C66-C65)/365) -> 16726.027 | I66: =IF(C66=" "," ",IF($F$7="нет",$D$6*$D$4,($D$4*(1+$D$7))*$D$6)) -> 0 | U66: =IF(B65=$D$3,XIRR($F$19:F65,$C$19:C65)," ")
B67: =IF(C67 =" "," ",B66+1) -> 48 | C67: =IF(B66>=$D$3, " ", EDATE(C66,1)) -> 46327 | D67: =IF(C67=" "," ",(C67-C66)) -> 31 | E67: =IF(C67=" "," ",E66-G67) -> 600000 | F67: =IF(C67=" "," ",G67+H67+I67+Q67) -> 31383.333 | G67: =IF(C67=" "," ",$D$4/$D$3) -> 8333.3333 | H67: =IF(C67=" "," ",E66*$D$5*(C67-C66)/365) -> 17050 | I67: =IF(C67=" "," ",IF($F$7="нет",$D$6*$D$4,($D$4*(1+$D$7))*$D$6)) -> 0 | Q67: =IF(C67=" "," ",$D$9*$D$8+$D$10*E67) -> 6000 | U67: =IF(B66=$D$3,XIRR($F$19:F66,$C$19:C66)," ")
B68: =IF(C68 =" "," ",B67+1) -> 49 | C68: =IF(B67>=$D$3, " ", EDATE(C67,1)) -> 46357 | D68: =IF(C68=" "," ",(C68-C67)) -> 30 | E68: =IF(C68=" "," ",E67-G68) -> 591666.67 | F68: =IF(C68=" "," ",G68+H68+I68+Q68) -> 24607.306 | G68: =IF(C68=" "," ",$D$4/$D$3) -> 8333.3333 | H68: =IF(C68=" "," ",E67*$D$5*(C68-C67)/365) -> 16273.973 | I68: =IF(C68=" "," ",IF($F$7="нет",$D$6*$D$4,($D$4*(1+$D$7))*$D$6)) -> 0 | U68: =IF(B67=$D$3,XIRR($F$19:F67,$C$19:C67)," ")
B69: =IF(C69 =" "," ",B68+1) -> 50 | C69: =IF(B68>=$D$3, " ", EDATE(C68,1)) -> 46388 | D69: =IF(C69=" "," ",(C69-C68)) -> 31 | E69: =IF(C69=" "," ",E68-G69) -> 583333.33 | F69: =IF(C69=" "," ",G69+H69+I69+Q69) -> 24916.21 | G69: =IF(C69=" "," ",$D$4/$D$3) -> 8333.3333 | H69: =IF(C69=" "," ",E68*$D$5*(C69-C68)/365) -> 16582.877 | I69: =IF(C69=" "," ",IF($F$7="нет",$D$6*$D$4,($D$4*(1+$D$7))*$D$6)) -> 0 | U69: =IF(B68=$D$3,XIRR($F$19:F68,$C$19:C68)," ")
B70: =IF(C70 =" "," ",B69+1) -> 51 | C70: =IF(B69>=$D$3, " ", EDATE(C69,1)) -> 46419 | D70: =IF(C70=" "," ",(C70-C69)) -> 31 | E70: =IF(C70=" "," ",E69-G70) -> 575000 | F70: =IF(C70=" "," ",G70+H70+I70+Q70) -> 24682.648 | G70: =IF(C70=" "," ",$D$4/$D$3) -> 8333.3333 | H70: =IF(C70=" "," ",E69*$D$5*(C70-C69)/365) -> 16349.315 | I70: =IF(C70=" "," ",IF($F$7="нет",$D$6*$D$4,($D$4*(1+$D$7))*$D$6)) -> 0 | U70: =IF(B69=$D$3,XIRR($F$19:F69,$C$19:C69)," ")
B71: =IF(C71 =" "," ",B70+1) -> 52 | C71: =IF(B70>=$D$3, " ", EDATE(C70,1)) -> 46447 | D71: =IF(C71=" "," ",(C71-C70)) -> 28 | E71: =IF(C71=" "," ",E70-G71) -> 566666.67 | F71: =IF(C71=" "," ",G71+H71+I71+Q71) -> 22889.498 | G71: =IF(C71=" "," ",$D$4/$D$3) -> 8333.3333 | H71: =IF(C71=" "," ",E70*$D$5*(C71-C70)/365) -> 14556.164 | I71: =IF(C71=" "," ",IF($F$7="нет",$D$6*$D$4,($D$4*(1+$D$7))*$D$6)) -> 0 | U71: =IF(B70=$D$3,XIRR($F$19:F70,$C$19:C70)," ")
B72: =IF(C72 =" "," ",B71+1) -> 53 | C72: =IF(B71>=$D$3, " ", EDATE(C71,1)) -> 46478 | D72: =IF(C72=" "," ",(C72-C71)) -> 31 | E72: =IF(C72=" "," ",E71-G72) -> 558333.33 | F72: =IF(C72=" "," ",G72+H72+I72+Q72) -> 24215.525 | G72: =IF(C72=" "," ",$D$4/$D$3) -> 8333.3333 | H72: =IF(C72=" "," ",E71*$D$5*(C72-C71)/365) -> 15882.192 | I72: =IF(C72=" "," ",IF($F$7="нет",$D$6*$D$4,($D$4*(1+$D$7))*$D$6)) -> 0 | U72: =IF(B71=$D$3,XIRR($F$19:F71,$C$19:C71)," ")
B73: =IF(C73 =" "," ",B72+1) -> 54 | C73: =IF(B72>=$D$3, " ", EDATE(C72,1)) -> 46508 | D73: =IF(C73=" "," ",(C73-C72)) -> 30 | E73: =IF(C73=" "," ",E72-G73) -> 550000 | F73: =IF(C73=" "," ",G73+H73+I73+Q73) -> 23477.169 | G73: =IF(C73=" "," ",$D$4/$D$3) -> 8333.3333 | H73: =IF(C73=" "," ",E72*$D$5*(C73-C72)/365) -> 15143.836 | I73: =IF(C73=" "," ",IF($F$7="нет",$D$6*$D$4,($D$4*(1+$D$7))*$D$6)) -> 0 | U73: =IF(B72=$D$3,XIRR($F$19:F72,$C$19:C72)," ")
B74: =IF(C74 =" "," ",B73+1) -> 55 | C74: =IF(B73>=$D$3, " ", EDATE(C73,1)) -> 46539 | D74: =IF(C74=" "," ",(C74-C73)) -> 31 | E74: =IF(C74=" "," ",E73-G74) -> 541666.67 | F74: =IF(C74=" "," ",G74+H74+I74+Q74) -> 23748.402 | G74: =IF(C74=" "," ",$D$4/$D$3) -> 8333.3333 | H74: =IF(C74=" "," ",E73*$D$5*(C74-C73)/365) -> 15415.068 | I74: =IF(C74=" "," ",IF($F$7="нет",$D$6*$D$4,($D$4*(1+$D$7))*$D$6)) -> 0 | U74: =IF(B73=$D$3,XIRR($F$19:F73,$C$19:C73)," ")
B75: =IF(C75 =" "," ",B74+1) -> 56 | C75: =IF(B74>=$D$3, " ", EDATE(C74,1)) -> 46569 | D75: =IF(C75=" "," ",(C75-C74)) -> 30 | E75: =IF(C75=" "," ",E74-G75) -> 533333.33 | F75: =IF(C75=" "," ",G75+H75+I75+Q75) -> 23025.114 | G75: =IF(C75=" "," ",$D$4/$D$3) -> 8333.3333 | H75: =IF(C75=" "," ",E74*$D$5*(C75-C74)/365) -> 14691.781 | I75: =IF(C75=" "," ",IF($F$7="нет",$D$6*$D$4,($D$4*(1+$D$7))*$D$6)) -> 0 | U75: =IF(B74=$D$3,XIRR($F$19:F74,$C$19:C74)," ")
B76: =IF(C76 =" "," ",B75+1) -> 57 | C76: =IF(B75>=$D$3, " ", EDATE(C75,1)) -> 46600 | D76: =IF(C76=" "," ",(C76-C75)) -> 31 | E76: =IF(C76=" "," ",E75-G76) -> 525000 | F76: =IF(C76=" "," ",G76+H76+I76+Q76) -> 23281.279 | G76: =IF(C76=" "," ",$D$4/$D$3) -> 8333.3333 | H76: =IF(C76=" "," ",E75*$D$5*(C76-C75)/365) -> 14947.945 | I76: =IF(C76=" "," ",IF($F$7="нет",$D$6*$D$4,($D$4*(1+$D$7))*$D$6)) -> 0 | U76: =IF(B75=$D$3,XIRR($F$19:F75,$C$19:C75)," ")
B77: =IF(C77 =" "," ",B76+1) -> 58 | C77: =IF(B76>=$D$3, " ", EDATE(C76,1)) -> 46631 | D77: =IF(C77=" "," ",(C77-C76)) -> 31 | E77: =IF(C77=" "," ",E76-G77) -> 516666.67 | F77: =IF(C77=" "," ",G77+H77+I77+Q77) -> 23047.717 | G77: =IF(C77=" "," ",$D$4/$D$3) -> 8333.3333 | H77: =IF(C77=" "," ",E76*$D$5*(C77-C76)/365) -> 14714.384 | I77: =IF(C77=" "," ",IF($F$7="нет",$D$6*$D$4,($D$4*(1+$D$7))*$D$6)) -> 0 | U77: =IF(B76=$D$3,XIRR($F$19:F76,$C$19:C76)," ")
B78: =IF(C78 =" "," ",B77+1) -> 59 | C78: =IF(B77>=$D$3, " ", EDATE(C77,1)) -> 46661 | D78: =IF(C78=" "," ",(C78-C77)) -> 30 | E78: =IF(C78=" "," ",E77-G78) -> 508333.33 | F78: =IF(C78=" "," ",G78+H78+I78+Q78) -> 22347.032 | G78: =IF(C78=" "," ",$D$4/$D$3) -> 8333.3333 | H78: =IF(C78=" "," ",E77*$D$5*(C78-C77)/365) -> 14013.699 | I78: =IF(C78=" "," ",IF($F$7="нет",$D$6*$D$4,($D$4*(1+$D$7))*$D$6)) -> 0 | U78: =IF(B77=$D$3,XIRR($F$19:F77,$C$19:C77)," ")
B79: =IF(C79 =" "," ",B78+1) -> 60 | C79: =IF(B78>=$D$3, " ", EDATE(C78,1)) -> 46692 | D79: =IF(C79=" "," ",(C79-C78)) -> 31 | E79: =IF(C79=" "," ",E78-G79) -> 500000 | F79: =IF(C79=" "," ",G79+H79+I79+Q79) -> 28580.594 | G79: =IF(C79=" "," ",$D$4/$D$3) -> 8333.3333 | H79: =IF(C79=" "," ",E78*$D$5*(C79-C78)/365) -> 14247.26 | I79: =IF(C79=" "," ",IF($F$7="нет",$D$6*$D$4,($D$4*(1+$D$7))*$D$6)) -> 0 | Q79: =IF(C79=" "," ",$D$9*$D$8+$D$10*E79) -> 6000 | U79: =IF(B78=$D$3,XIRR($F$19:F78,$C$19:C78)," ")
B80: =IF(C80 =" "," ",B79+1) -> 61 | C80: =IF(B79>=$D$3, " ", EDATE(C79,1)) -> 46722 | D80: =IF(C80=" "," ",(C80-C79)) -> 30 | E80: =IF(C80=" "," ",E79-G80) -> 491666.67 | F80: =IF(C80=" "," ",G80+H80+I80+Q80) -> 21894.977 | G80: =IF(C80=" "," ",$D$4/$D$3) -> 8333.3333 | H80: =IF(C80=" "," ",E79*$D$5*(C80-C79)/365) -> 13561.644 | I80: =IF(C80=" "," ",IF($F$7="нет",$D$6*$D$4,($D$4*(1+$D$7))*$D$6)) -> 0 | U80: =IF(B79=$D$3,XIRR($F$19:F79,$C$19:C79)," ")
B81: =IF(C81 =" "," ",B80+1) -> 62 | C81: =IF(B80>=$D$3, " ", EDATE(C80,1)) -> 46753 | D81: =IF(C81=" "," ",(C81-C80)) -> 31 | E81: =IF(C81=" "," ",E80-G81) -> 483333.33 | F81: =IF(C81=" "," ",G81+H81+I81+Q81) -> 22113.47 | G81: =IF(C81=" "," ",$D$4/$D$3) -> 8333.3333 | H81: =IF(C81=" "," ",E80*$D$5*(C81-C80)/365) -> 13780.137 | I81: =IF(C81=" "," ",IF($F$7="нет",$D$6*$D$4,($D$4*(1+$D$7))*$D$6)) -> 0 | U81: =IF(B80=$D$3,XIRR($F$19:F80,$C$19:C80)," ")
B82: =IF(C82 =" "," ",B81+1) -> 63 | C82: =IF(B81>=$D$3, " ", EDATE(C81,1)) -> 46784 | D82: =IF(C82=" "," ",(C82-C81)) -> 31 | E82: =IF(C82=" "," ",E81-G82) -> 475000 | F82: =IF(C82=" "," ",G82+H82+I82+Q82) -> 21879.909 | G82: =IF(C82=" "," ",$D$4/$D$3) -> 8333.3333 | H82: =IF(C82=" "," ",E81*$D$5*(C82-C81)/365) -> 13546.575 | I82: =IF(C82=" "," ",IF($F$7="нет",$D$6*$D$4,($D$4*(1+$D$7))*$D$6)) -> 0 | U82: =IF(B81=$D$3,XIRR($F$19:F81,$C$19:C81)," ")
B83: =IF(C83 =" "," ",B82+1) -> 64 | C83: =IF(B82>=$D$3, " ", EDATE(C82,1)) -> 46813 | D83: =IF(C83=" "," ",(C83-C82)) -> 29 | E83: =IF(C83=" "," ",E82-G83) -> 466666.67 | F83: =IF(C83=" "," ",G83+H83+I83+Q83) -> 20787.443 | G83: =IF(C83=" "," ",$D$4/$D$3) -> 8333.3333 | H83: =IF(C83=" "," ",E82*$D$5*(C83-C82)/365) -> 12454.11 | I83: =IF(C83=" "," ",IF($F$7="нет",$D$6*$D$4,($D$4*(1+$D$7))*$D$6)) -> 0 | U83: =IF(B82=$D$3,XIRR($F$19:F82,$C$19:C82)," ")
B84: =IF(C84 =" "," ",B83+1) -> 65 | C84: =IF(B83>=$D$3, " ", EDATE(C83,1)) -> 46844 | D84: =IF(C84=" "," ",(C84-C83)) -> 31 | E84: =IF(C84=" "," ",E83-G84) -> 458333.33 | F84: =IF(C84=" "," ",G84+H84+I84+Q84) -> 21412.785 | G84: =IF(C84=" "," ",$D$4/$D$3) -> 8333.3333 | H84: =IF(C84=" "," ",E83*$D$5*(C84-C83)/365) -> 13079.452 | I84: =IF(C84=" "," ",IF($F$7="нет",$D$6*$D$4,($D$4*(1+$D$7))*$D$6)) -> 0 | U84: =IF(B83=$D$3,XIRR($F$19:F83,$C$19:C83)," ")
B85: =IF(C85 =" "," ",B84+1) -> 66 | C85: =IF(B84>=$D$3, " ", EDATE(C84,1)) -> 46874 | D85: =IF(C85=" "," ",(C85-C84)) -> 30 | E85: =IF(C85=" "," ",E84-G85) -> 450000 | F85: =IF(C85=" "," ",G85+H85+I85+Q85) -> 20764.84 | G85: =IF(C85=" "," ",$D$4/$D$3) -> 8333.3333 | H85: =IF(C85=" "," ",E84*$D$5*(C85-C84)/365) -> 12431.507 | I85: =IF(C85=" "," ",IF($F$7="нет",$D$6*$D$4,($D$4*(1+$D$7))*$D$6)) -> 0 | U85: =IF(B84=$D$3,XIRR($F$19:F84,$C$19:C84)," ")
B86: =IF(C86 =" "," ",B85+1) -> 67 | C86: =IF(B85>=$D$3, " ", EDATE(C85,1)) -> 46905 | D86: =IF(C86=" "," ",(C86-C85)) -> 31 | E86: =IF(C86=" "," ",E85-G86) -> 441666.67 | F86: =IF(C86=" "," ",G86+H86+I86+Q86) -> 20945.662 | G86: =IF(C86=" "," ",$D$4/$D$3) -> 8333.3333 | H86: =IF(C86=" "," ",E85*$D$5*(C86-C85)/365) -> 12612.329 | I86: =IF(C86=" "," ",IF($F$7="нет",$D$6*$D$4,($D$4*(1+$D$7))*$D$6)) -> 0 | U86: =IF(B85=$D$3,XIRR($F$19:F85,$C$19:C85)," ")
B87: =IF(C87 =" "," ",B86+1) -> 68 | C87: =IF(B86>=$D$3, " ", EDATE(C86,1)) -> 46935 | D87: =IF(C87=" "," ",(C87-C86)) -> 30 | E87: =IF(C87=" "," ",E86-G87) -> 433333.33 | F87: =IF(C87=" "," ",G87+H87+I87+Q87) -> 20312.785 | G87: =IF(C87=" "," ",$D$4/$D$3) -> 8333.3333 | H87: =IF(C87=" "," ",E86*$D$5*(C87-C86)/365) -> 11979.452 | I87: =IF(C87=" "," ",IF($F$7="нет",$D$6*$D$4,($D$4*(1+$D$7))*$D$6)) -> 0 | U87: =IF(B86=$D$3,XIRR($F$19:F86,$C$19:C86)," ")
B88: =IF(C88 =" "," ",B87+1) -> 69 | C88: =IF(B87>=$D$3, " ", EDATE(C87,1)) -> 46966 | D88: =IF(C88=" "," ",(C88-C87)) -> 31 | E88: =IF(C88=" "," ",E87-G88) -> 425000 | F88: =IF(C88=" "," ",G88+H88+I88+Q88) -> 20478.539 | G88: =IF(C88=" "," ",$D$4/$D$3) -> 8333.3333 | H88: =IF(C88=" "," ",E87*$D$5*(C88-C87)/365) -> 12145.205 | I88: =IF(C88=" "," ",IF($F$7="нет",$D$6*$D$4,($D$4*(1+$D$7))*$D$6)) -> 0 | U88: =IF(B87=$D$3,XIRR($F$19:F87,$C$19:C87)," ")
B89: =IF(C89 =" "," ",B88+1) -> 70 | C89: =IF(B88>=$D$3, " ", EDATE(C88,1)) -> 46997 | D89: =IF(C89=" "," ",(C89-C88)) -> 31 | E89: =IF(C89=" "," ",E88-G89) -> 416666.67 | F89: =IF(C89=" "," ",G89+H89+I89+Q89) -> 20244.977 | G89: =IF(C89=" "," ",$D$4/$D$3) -> 8333.3333 | H89: =IF(C89=" "," ",E88*$D$5*(C89-C88)/365) -> 11911.644 | I89: =IF(C89=" "," ",IF($F$7="нет",$D$6*$D$4,($D$4*(1+$D$7))*$D$6)) -> 0 | U89: =IF(B88=$D$3,XIRR($F$19:F88,$C$19:C88)," ")
B90: =IF(C90 =" "," ",B89+1) -> 71 | C90: =IF(B89>=$D$3, " ", EDATE(C89,1)) -> 47027 | D90: =IF(C90=" "," ",(C90-C89)) -> 30 | E90: =IF(C90=" "," ",E89-G90) -> 408333.33 | F90: =IF(C90=" "," ",G90+H90+I90+Q90) -> 19634.703 | G90: =IF(C90=" "," ",$D$4/$D$3) -> 8333.3333 | H90: =IF(C90=" "," ",E89*$D$5*(C90-C89)/365) -> 11301.37 | I90: =IF(C90=" "," ",IF($F$7="нет",$D$6*$D$4,($D$4*(1+$D$7))*$D$6)) -> 0 | U90: =IF(B89=$D$3,XIRR($F$19:F89,$C$19:C89)," ")
B91: =IF(C91 =" "," ",B90+1) -> 72 | C91: =IF(B90>=$D$3, " ", EDATE(C90,1)) -> 47058 | D91: =IF(C91=" "," ",(C91-C90)) -> 31 | E91: =IF(C91=" "," ",E90-G91) -> 400000 | F91: =IF(C91=" "," ",G91+H91+I91+Q91) -> 25777.854 | G91: =IF(C91=" "," ",$D$4/$D$3) -> 8333.3333 | H91: =IF(C91=" "," ",E90*$D$5*(C91-C90)/365) -> 11444.521 | I91: =IF(C91=" "," ",IF($F$7="нет",$D$6*$D$4,($D$4*(1+$D$7))*$D$6)) -> 0 | Q91: =IF(C91=" "," ",$D$9*$D$8+$D$10*E91) -> 6000 | U91: =IF(B90=$D$3,XIRR($F$19:F90,$C$19:C90)," ")
B92: =IF(C92 =" "," ",B91+1) -> 73 | C92: =IF(B91>=$D$3, " ", EDATE(C91,1)) -> 47088 | D92: =IF(C92=" "," ",(C92-C91)) -> 30 | E92: =IF(C92=" "," ",E91-G92) -> 391666.67 | F92: =IF(C92=" "," ",G92+H92+I92+Q92) -> 19182.648 | G92: =IF(C92=" "," ",$D$4/$D$3) -> 8333.3333 | H92: =IF(C92=" "," ",E91*$D$5*(C92-C91)/365) -> 10849.315 | I92: =IF(C92=" "," ",IF($F$7="нет",$D$6*$D$4,($D$4*(1+$D$7))*$D$6)) -> 0 | U92: =IF(B91=$D$3,XIRR($F$19:F91,$C$19:C91)," ")
B93: =IF(C93 =" "," ",B92+1) -> 74 | C93: =IF(B92>=$D$3, " ", EDATE(C92,1)) -> 47119 | D93: =IF(C93=" "," ",(C93-C92)) -> 31 | E93: =IF(C93=" "," ",E92-G93) -> 383333.33 | F93: =IF(C93=" "," ",G93+H93+I93+Q93) -> 19310.731 | G93: =IF(C93=" "," ",$D$4/$D$3) -> 8333.3333 | H93: =IF(C93=" "," ",E92*$D$5*(C93-C92)/365) -> 10977.397 | I93: =IF(C93=" "," ",IF($F$7="нет",$D$6*$D$4,($D$4*(1+$D$7))*$D$6)) -> 0 | U93: =IF(B92=$D$3,XIRR($F$19:F92,$C$19:C92)," ")
B94: =IF(C94 =" "," ",B93+1) -> 75 | C94: =IF(B93>=$D$3, " ", EDATE(C93,1)) -> 47150 | D94: =IF(C94=" "," ",(C94-C93)) -> 31 | E94: =IF(C94=" "," ",E93-G94) -> 375000 | F94: =IF(C94=" "," ",G94+H94+I94+Q94) -> 19077.169 | G94: =IF(C94=" "," ",$D$4/$D$3) -> 8333.3333 | H94: =IF(C94=" "," ",E93*$D$5*(C94-C93)/365) -> 10743.836 | I94: =IF(C94=" "," ",IF($F$7="нет",$D$6*$D$4,($D$4*(1+$D$7))*$D$6)) -> 0 | U94: =IF(B93=$D$3,XIRR($F$19:F93,$C$19:C93)," ")
B95: =IF(C95 =" "," ",B94+1) -> 76 | C95: =IF(B94>=$D$3, " ", EDATE(C94,1)) -> 47178 | D95: =IF(C95=" "," ",(C95-C94)) -> 28 | E95: =IF(C95=" "," ",E94-G95) -> 366666.67 | F95: =IF(C95=" "," ",G95+H95+I95+Q95) -> 17826.484 | G95: =IF(C95=" "," ",$D$4/$D$3) -> 8333.3333 | H95: =IF(C95=" "," ",E94*$D$5*(C95-C94)/365) -> 9493.1507 | I95: =IF(C95=" "," ",IF($F$7="нет",$D$6*$D$4,($D$4*(1+$D$7))*$D$6)) -> 0 | U95: =IF(B94=$D$3,XIRR($F$19:F94,$C$19:C94)," ")
B96: =IF(C96 =" "," ",B95+1) -> 77 | C96: =IF(B95>=$D$3, " ", EDATE(C95,1)) -> 47209 | D96: =IF(C96=" "," ",(C96-C95)) -> 31 | E96: =IF(C96=" "," ",E95-G96) -> 358333.33 | F96: =IF(C96=" "," ",G96+H96+I96+Q96) -> 18610.046 | G96: =IF(C96=" "," ",$D$4/$D$3) -> 8333.3333 | H96: =IF(C96=" "," ",E95*$D$5*(C96-C95)/365) -> 10276.712 | I96: =IF(C96=" "," ",IF($F$7="нет",$D$6*$D$4,($D$4*(1+$D$7))*$D$6)) -> 0 | U96: =IF(B95=$D$3,XIRR($F$19:F95,$C$19:C95)," ")
B97: =IF(C97 =" "," ",B96+1) -> 78 | C97: =IF(B96>=$D$3, " ", EDATE(C96,1)) -> 47239 | D97: =IF(C97=" "," ",(C97-C96)) -> 30 | E97: =IF(C97=" "," ",E96-G97) -> 350000 | F97: =IF(C97=" "," ",G97+H97+I97+Q97) -> 18052.511 | G97: =IF(C97=" "," ",$D$4/$D$3) -> 8333.3333 | H97: =IF(C97=" "," ",E96*$D$5*(C97-C96)/365) -> 9719.1781 | I97: =IF(C97=" "," ",IF($F$7="нет",$D$6*$D$4,($D$4*(1+$D$7))*$D$6)) -> 0 | U97: =IF(B96=$D$3,XIRR($F$19:F96,$C$19:C96)," ")
B98: =IF(C98 =" "," ",B97+1) -> 79 | C98: =IF(B97>=$D$3, " ", EDATE(C97,1)) -> 47270 | D98: =IF(C98=" "," ",(C98-C97)) -> 31 | E98: =IF(C98=" "," ",E97-G98) -> 341666.67 | F98: =IF(C98=" "," ",G98+H98+I98+Q98) -> 18142.922 | G98: =IF(C98=" "," ",$D$4/$D$3) -> 8333.3333 | H98: =IF(C98=" "," ",E97*$D$5*(C98-C97)/365) -> 9809.589 | I98: =IF(C98=" "," ",IF($F$7="нет",$D$6*$D$4,($D$4*(1+$D$7))*$D$6)) -> 0 | U98: =IF(B97=$D$3,XIRR($F$19:F97,$C$19:C97)," ")
B99: =IF(C99 =" "," ",B98+1) -> 80 | C99: =IF(B98>=$D$3, " ", EDATE(C98,1)) -> 47300 | D99: =IF(C99=" "," ",(C99-C98)) -> 30 | E99: =IF(C99=" "," ",E98-G99) -> 333333.33 | F99: =IF(C99=" "," ",G99+H99+I99+Q99) -> 17600.457 | G99: =IF(C99=" "," ",$D$4/$D$3) -> 8333.3333 | H99: =IF(C99=" "," ",E98*$D$5*(C99-C98)/365) -> 9267.1233 | I99: =IF(C99=" "," ",IF($F$7="нет",$D$6*$D$4,($D$4*(1+$D$7))*$D$6)) -> 0 | U99: =IF(B98=$D$3,XIRR($F$19:F98,$C$19:C98)," ")
B100: =IF(C100 =" "," ",B99+1) -> 81 | C100: =IF(B99>=$D$3, " ", EDATE(C99,1)) -> 47331 | D100: =IF(C100=" "," ",(C100-C99)) -> 31 | E100: =IF(C100=" "," ",E99-G100) -> 325000 | F100: =IF(C100=" "," ",G100+H100+I100+Q100) -> 17675.799 | G100: =IF(C100=" "," ",$D$4/$D$3) -> 8333.3333 | H100: =IF(C100=" "," ",E99*$D$5*(C100-C99)/365) -> 9342.4658 | I100: =IF(C100=" "," ",IF($F$7="нет",$D$6*$D$4,($D$4*(1+$D$7))*$D$6)) -> 0 | U100: =IF(B99=$D$3,XIRR($F$19:F99,$C$19:C99)," ")
...
