Workbook

Sheet розрахунки
A1: Вхідні дані | F1: Витрати на оформлення | P1: 1
P2: 2 | R2: 12
A3: Вартість автомобіля, грн | B3: 0 | F3: Аванс, грн | G3: =IF(AND(B3>0,B3>=B5),(1-(B5/B3)),"-") -> - | P3: 3 | R3: 24
A4: Сума кредного ліміту, грн | B4: 200000 | F4: Разова комісія, грн | G4: =B4*B8 -> 5000 | P4: 4 | R4: 36
A5: Сума кредиту за договором, грн | B5: =IF(AND(G8="ні",G12="ні"),B4,IF(AND(G8="ні",G12="так"),B4+G4,IF(AND(G8="так",G12="так"),B4+B3*B9+G4,B4+B3*B9))) -> 200000 | C5: =IF(B2<=0.7," ","сума кредиту не може бути більше 70% від вартості авто") | F5: Оцінка авто, грн | G5: 0 | P5: 5 | R5: 48
A6: Строк | B6: 12 | F6: Нотаріус, грн (орієнтовно) | G6: 0 | P6: 6 | R6: 60
A7: Процетна ставка | B7: 0.52 | F7: КАСКО, грн | G7: =IF(G8="да",0,B3*B9) -> 0 | P7: 7
A8: Разова комісія | B8: 0.025 | F8: додати КАСКО за 1-ий рік в кредит? | G8: ні | P8: 8
A9: Страхування автомобіля, % від вартості | B9: 0 | F9: Всього витрат | G9: =SUM(G3:G8) -> 5000 | P9: 9
P10: 10 | R10: так
A11: Щомісячна комісія | B11: 0 | F11: Місячній платіж | G11: =-PMT(B7/12,B6,B5)+B5*B11 -> 21724.626 | P11: 11 | R11: ні
F12: додати разову комісію в кредит? | G12: ні | P12: 12
A13: Страхування життя позичальника | B13: 0 | P13: 13 | Q13: 12 | R13: 0.2626 | S13: 0.2499 | T13: 0.2099 | U13: =IF($B$4<=49%,R13,IF($B$4<70%,S13,T13)) -> 0.2099
P14: 14 | Q14: 24 | R14: 0.2626 | S14: 0.2499 | T14: 0.2099 | U14: =IF($B$4<=49%,R14,IF($B$4<70%,S14,T14)) -> 0.2099
A15: IRR | B15: =IF(B5=0,"-",IRR(графік!F20:F140)*12) -> 0.44433085 | P15: 15 | Q15: 36 | R15: 0.2755 | S15: 0.2626 | T15: 0.2255 | U15: =IF($B$4<=49%,R15,IF($B$4<70%,S15,T15)) -> 0.2255
A16: Денна ставка | B16: =IF(B5=0,"-",(графік!T20-графік!D4)/графік!D4/графік!F3) -> 0.0011884128 | P16: 16 | Q16: 48 | R16: 0.2799 | S16: 0.2699 | T16: 0.2323 | U16: =IF($B$4<=49%,R16,IF($B$4<70%,S16,T16)) -> 0.2323
A17: XIRR | B17: =графік!S20 -> 0.54769989 | P17: 17 | Q17: 60 | R17: 0.2855 | S17: 0.2755 | T17: 0.2399 | U17: =IF($B$4<=49%,R17,IF($B$4<70%,S17,T17)) -> 0.2399
P18: 18
P19: 19
P20: 20
P21: 21
P22: 22
P23: 23
P24: 24
P25: 25
P26: 26
P27: 27
P28: 28
P29: 29
... P135: 135

Sheet графік
G1: так
B2: Дата надання | D2: =TODAY() -> 45806 | F2: =EDATE(D2,D3) -> 46171 | G2: ні | AA2: да
B3: строк | D3: =розрахунки!B6 -> 12 | F3: =F2-D2 -> 365 | G3: =SUM(G21:G89) -> 200000 | AA3: нет
B4: сума кредиту | D4: =розрахунки!B5 -> 200000
C5: сума кредита на руки | D5: =розрахунки!B4 -> 200000
B6: процентна ставка | D6: =розрахунки!B7 -> 0.52 | E6: 1e-06
B7: щомісячна комісія | D7: =розрахунки!B11 -> 0
B8: разова комісія | D8: =розрахунки!B8 -> 0.025 | F8: нет
B9: вартість застави | D9: =розрахунки!B3 -> 0
B10: страхування застави | D10: =розрахунки!B9 -> 0
B11: страхування позичальника | D11: =розрахунки!B13 -> 0
B12: дата погашення | D12: =EDATE(D2,D3) -> 46171
B13: Платіж у місяць | D13: =-PMT(D6/12,D3,D4) -> 21724.626
B14: знижена ставка на пільговий період | D14: ні | F14: 0.36
B15: № з/п | C15: Дата видачі кредиту/дата платежу | D15: Кількість днів у розрахунковому періоді | E15: Сума заборгованості | F15: Чиста сума кредиту/сума платежу за розрахунковий період, грн. | G15: Види платежів за кредитом | S15: Реальна річна процентна ставка, % | T15: Загальна вартість кредиту, грн | U15: Загальні витрати
G16: сума кредиту за договором | H16: проценти за користування кредитом | I16: платежі за додаткові та супутні послуги | AD16: =XIRR(F20:F32,C20:C32) -> 0.54769989
I17: банку | M17: кредитного посередника | O17: третіх осіб
I18: за обслуговування кредитної заборгованості | J18: розрахунково-касове обслуговування | K18: комісія за надання кредиту | L18: інші послуги банку | M18: комісійний збір | N18: інша плата за послуги кредитного посередника | O18: послуги нотаріуса | P18: послуги оцінювача | Q18: послуги страховика | R18: інші послуги третіх осіб
B19: 1 | C19: 2 | D19: 3 | F19: 4 | G19: 5 | H19: 6 | I19: 7 | J19: 8 | K19: 9 | L19: 10 | M19: 11 | N19: 12 | O19: 13 | P19: 14 | Q19: 15 | R19: 16 | S19: 17 | T19: 18
B20: 0 | C20: =D2 -> 45806 | E20: =$D$4 -> 200000 | F20: =-D4+K20+J20+L20+M20+N20+O20+P20+Q20+R20 -> -195000 | K20: =розрахунки!G4 -> 5000 | O20: =розрахунки!G6 -> 0 | P20: =розрахунки!G5 -> 0 | Q20: =IF($D$3=B20,0,$D$10*($D$9)+$D$11*E20) -> 0 | S20: =SUM(U23:U191) -> 0.54769989 | T20: =SUM(F21:F140)+K20+O20+P20+Q20 -> 286754.13 | U20: =T20-D4 -> 86754.132 | AH20: =T20-E20 -> 86754.132
B21: 1 | C21: =EDATE(C20,1) -> 45837 | D21: =C21-C20 -> 31 | E21: =IF(C21=" "," ",E20-G21) -> 200000 | F21: =G21+H21+I21 -> 0.016986301 | G21: 0 | H21: =IF(C21=" "," ",IF($D$14="ні",E20*$E$6*D21/(DATE(YEAR(C21),12,31)-DATE(YEAR(C21),1,1)+1),E20*$F$14*D21/(DATE(YEAR(C21),12,31)-DATE(YEAR(C21),1,1)+1))) -> 0.016986301 | I21: =IF(C21=" "," ",IF($F$8="нет",$D$7*$D$4,($D$4*(1+$D$8))*$D$7)) -> 0 | L21: 0 | AG21: =DATE(YEAR(C21),12,31)-DATE(YEAR(C21),1,1)+1 -> 365
B22: 2 | C22: =IF(B21>=$D$3, " ", EDATE(C21,1)) -> 45867 | D22: =IF(C22=" "," ",(C22-C21)) -> 30 | E22: =IF(C22=" "," ",E21-G22) -> 198000 | F22: =IF(C22=" "," ",G22+H22+I22+L22) -> 2000.0164 | G22: =E21*1% -> 2000 | H22: =IF(C22=" "," ",IF($D$14="ні",E21*$E$6*D22/(DATE(YEAR(C22),12,31)-DATE(YEAR(C22),1,1)+1),E21*$F$14*D22/(DATE(YEAR(C22),12,31)-DATE(YEAR(C22),1,1)+1))) -> 0.016438356 | I22: =IF(C22=" "," ",IF($F$8="нет",$D$7*$D$4,($D$4*(1+$D$8))*$D$7)) -> 0 | U22: =IF(B21=$D$3,XIRR($F$20:F21,$C$20:C21)," ") | AG22: =DATE(YEAR(C22),12,31)-DATE(YEAR(C22),1,1)+1 -> 365
B23: =IF(C23 =" "," ",B22+1) -> 3 | C23: =IF(B22>=$D$3, " ", EDATE(C22,1)) -> 45898 | D23: =IF(C23=" "," ",(C23-C22)) -> 31 | E23: =IF(C23=" "," ",E22-G23) -> 196020 | F23: =IF(C23=" "," ",G23+H23+I23+L23) -> 10724.548 | G23: =E22*1% -> 1980 | H23: =IF(C23=" "," ",IF($D$14="ні",E22*$D$6*D23/(DATE(YEAR(C23),12,31)-DATE(YEAR(C23),1,1)+1),E22*$F$14*D23/(DATE(YEAR(C23),12,31)-DATE(YEAR(C23),1,1)+1))) -> 8744.5479 | I23: =IF(C23=" "," ",IF($F$8="нет",$D$7*$D$4,($D$4*(1+$D$8))*$D$7)) -> 0 | U23: =IF(B22=$D$3,XIRR($F$20:F22,$C$20:C22)," ") | AG23: =DATE(YEAR(C23),12,31)-DATE(YEAR(C23),1,1)+1 -> 365
B24: =IF(C24 =" "," ",B23+1) -> 4 | C24: =IF(B23>=$D$3, " ", EDATE(C23,1)) -> 45929 | D24: =IF(C24=" "," ",(C24-C23)) -> 31 | E24: =IF(C24=" "," ",E23-G24) -> 194059.8 | F24: =IF(C24=" "," ",G24+H24+I24+L24) -> 10617.302 | G24: =E23*1% -> 1960.2 | H24: =IF(C24=" "," ",IF($D$14="ні",E23*$D$6*D24/(DATE(YEAR(C24),12,31)-DATE(YEAR(C24),1,1)+1),E23*$F$14*D24/(DATE(YEAR(C24),12,31)-DATE(YEAR(C24),1,1)+1))) -> 8657.1025 | I24: =IF(C24=" "," ",IF($F$8="нет",$D$7*$D$4,($D$4*(1+$D$8))*$D$7)) -> 0 | U24: =IF(B23=$D$3,XIRR($F$20:F23,$C$20:C23)," ") | AG24: =DATE(YEAR(C24),12,31)-DATE(YEAR(C24),1,1)+1 -> 365
B25: =IF(C25 =" "," ",B24+1) -> 5 | C25: =IF(B24>=$D$3, " ", EDATE(C24,1)) -> 45959 | D25: =IF(C25=" "," ",(C25-C24)) -> 30 | E25: =IF(C25=" "," ",E24-G25) -> 192119.2 | F25: =IF(C25=" "," ",G25+H25+I25+L25) -> 10234.661 | G25: =E24*1% -> 1940.598 | H25: =IF(C25=" "," ",IF($D$14="ні",E24*$D$6*D25/(DATE(YEAR(C25),12,31)-DATE(YEAR(C25),1,1)+1),E24*$F$14*D25/(DATE(YEAR(C25),12,31)-DATE(YEAR(C25),1,1)+1))) -> 8294.0627 | I25: =IF(C25=" "," ",IF($F$8="нет",$D$7*$D$4,($D$4*(1+$D$8))*$D$7)) -> 0 | U25: =IF(B24=$D$3,XIRR($F$20:F24,$C$20:C24)," ") | AG25: =DATE(YEAR(C25),12,31)-DATE(YEAR(C25),1,1)+1 -> 365
B26: =IF(C26 =" "," ",B25+1) -> 6 | C26: =IF(B25>=$D$3, " ", EDATE(C25,1)) -> 45990 | D26: =IF(C26=" "," ",(C26-C25)) -> 31 | E26: =IF(C26=" "," ",E25-G26) -> 190198.01 | F26: =IF(C26=" "," ",G26+H26+I26+L26) -> 10406.018 | G26: =E25*1% -> 1921.192 | H26: =IF(C26=" "," ",IF($D$14="ні",E25*$D$6*D26/(DATE(YEAR(C26),12,31)-DATE(YEAR(C26),1,1)+1),E25*$F$14*D26/(DATE(YEAR(C26),12,31)-DATE(YEAR(C26),1,1)+1))) -> 8484.8261 | I26: =IF(C26=" "," ",IF($F$8="нет",$D$7*$D$4,($D$4*(1+$D$8))*$D$7)) -> 0 | U26: =IF(B25=$D$3,XIRR($F$20:F25,$C$20:C25)," ") | AG26: =DATE(YEAR(C26),12,31)-DATE(YEAR(C26),1,1)+1 -> 365
B27: =IF(C27 =" "," ",B26+1) -> 7 | C27: =IF(B26>=$D$3, " ", EDATE(C26,1)) -> 46020 | D27: =IF(C27=" "," ",(C27-C26)) -> 30 | E27: =IF(C27=" "," ",E26-G27) -> 188296.03 | F27: =IF(C27=" "," ",G27+H27+I27+L27) -> 10030.991 | G27: =E26*1% -> 1901.9801 | H27: =IF(C27=" "," ",IF($D$14="ні",E26*$D$6*D27/(DATE(YEAR(C27),12,31)-DATE(YEAR(C27),1,1)+1),E26*$F$14*D27/(DATE(YEAR(C27),12,31)-DATE(YEAR(C27),1,1)+1))) -> 8129.0108 | I27: =IF(C27=" "," ",IF($F$8="нет",$D$7*$D$4,($D$4*(1+$D$8))*$D$7)) -> 0 | U27: =IF(B26=$D$3,XIRR($F$20:F26,$C$20:C26)," ") | AG27: =DATE(YEAR(C27),12,31)-DATE(YEAR(C27),1,1)+1 -> 365
B28: =IF(C28 =" "," ",B27+1) -> 8 | C28: =IF(B27>=$D$3, " ", EDATE(C27,1)) -> 46051 | D28: =IF(C28=" "," ",(C28-C27)) -> 31 | E28: =IF(C28=" "," ",E27-G28) -> 186413.07 | F28: =IF(C28=" "," ",G28+H28+I28+L28) -> 10198.938 | G28: =E27*1% -> 1882.9603 | H28: =IF(C28=" "," ",IF($D$14="ні",E27*$D$6*D28/(DATE(YEAR(C28),12,31)-DATE(YEAR(C28),1,1)+1),E27*$F$14*D28/(DATE(YEAR(C28),12,31)-DATE(YEAR(C28),1,1)+1))) -> 8315.9781 | I28: =IF(C28=" "," ",IF($F$8="нет",$D$7*$D$4,($D$4*(1+$D$8))*$D$7)) -> 0 | U28: =IF(B27=$D$3,XIRR($F$20:F27,$C$20:C27)," ") | AG28: =DATE(YEAR(C28),12,31)-DATE(YEAR(C28),1,1)+1 -> 365
B29: =IF(C29 =" "," ",B28+1) -> 9 | C29: =IF(B28>=$D$3, " ", EDATE(C28,1)) -> 46081 | D29: =IF(C29=" "," ",(C29-C28)) -> 30 | E29: =IF(C29=" "," ",E28-G29) -> 184548.94 | F29: =IF(C29=" "," ",G29+H29+I29+L29) -> 9831.3742 | G29: =E28*1% -> 1864.1307 | H29: =IF(C29=" "," ",IF($D$14="ні",E28*$D$6*D29/(DATE(YEAR(C29),12,31)-DATE(YEAR(C29),1,1)+1),E28*$F$14*D29/(DATE(YEAR(C29),12,31)-DATE(YEAR(C29),1,1)+1))) -> 7967.2435 | I29: =IF(C29=" "," ",IF($F$8="нет",$D$7*$D$4,($D$4*(1+$D$8))*$D$7)) -> 0 | U29: =IF(B28=$D$3,XIRR($F$20:F28,$C$20:C28)," ") | AG29: =DATE(YEAR(C29),12,31)-DATE(YEAR(C29),1,1)+1 -> 365
B30: =IF(C30 =" "," ",B29+1) -> 10 | C30: =IF(B29>=$D$3, " ", EDATE(C29,1)) -> 46109 | D30: =IF(C30=" "," ",(C30-C29)) -> 28 | E30: =IF(C30=" "," ",E29-G30) -> 182703.45 | F30: =IF(C30=" "," ",G30+H30+I30+L30) -> 9207.2224 | G30: =E29*1% -> 1845.4894 | H30: =IF(C30=" "," ",IF($D$14="ні",E29*$D$6*D30/(DATE(YEAR(C30),12,31)-DATE(YEAR(C30),1,1)+1),E29*$F$14*D30/(DATE(YEAR(C30),12,31)-DATE(YEAR(C30),1,1)+1))) -> 7361.733 | I30: =IF(C30=" "," ",IF($F$8="нет",$D$7*$D$4,($D$4*(1+$D$8))*$D$7)) -> 0 | U30: =IF(B29=$D$3,XIRR($F$20:F29,$C$20:C29)," ") | AG30: =DATE(YEAR(C30),12,31)-DATE(YEAR(C30),1,1)+1 -> 365
B31: =IF(C31 =" "," ",B30+1) -> 11 | C31: =IF(B30>=$D$3, " ", EDATE(C30,1)) -> 46140 | D31: =IF(C31=" "," ",(C31-C30)) -> 31 | E31: =IF(C31=" "," ",E30-G31) -> 180876.42 | F31: =IF(C31=" "," ",G31+H31+I31+L31) -> 9896.0197 | G31: =E30*1% -> 1827.0345 | H31: =IF(C31=" "," ",IF($D$14="ні",E30*$D$6*D31/(DATE(YEAR(C31),12,31)-DATE(YEAR(C31),1,1)+1),E30*$F$14*D31/(DATE(YEAR(C31),12,31)-DATE(YEAR(C31),1,1)+1))) -> 8068.9852 | I31: =IF(C31=" "," ",IF($F$8="нет",$D$7*$D$4,($D$4*(1+$D$8))*$D$7)) -> 0 | U31: =IF(B30=$D$3,XIRR($F$20:F30,$C$20:C30)," ") | AG31: =DATE(YEAR(C31),12,31)-DATE(YEAR(C31),1,1)+1 -> 365
B32: =IF(C32 =" "," ",B31+1) -> 12 | C32: =IF(B31>=$D$3, " ", EDATE(C31,1)) -> 46170 | D32: =IF(C32=" "," ",(C32-C31)) -> 30 | E32: =IF(C32=" "," ",E31-G32) -> 0 | F32: =IF(C32=" "," ",G32+H32+I32+L32) -> 188607.02 | G32: =E31 -> 180876.42 | H32: =IF(C32=" "," ",IF($D$14="ні",E31*$D$6*D32/(DATE(YEAR(C32),12,31)-DATE(YEAR(C32),1,1)+1),E31*$F$14*D32/(DATE(YEAR(C32),12,31)-DATE(YEAR(C32),1,1)+1))) -> 7730.6084 | I32: =IF(C32=" "," ",IF($F$8="нет",$D$7*$D$4,($D$4*(1+$D$8))*$D$7)) -> 0 | Q32: =IF($D$3=B32,0,IF(C32=" "," ",$D$10*$D$9*0.95+$D$11*E32)) -> 0 | U32: =IF(B31=$D$3,XIRR($F$20:F31,$C$20:C31)," ") | AG32: =DATE(YEAR(C32),12,31)-DATE(YEAR(C32),1,1)+1 -> 365
B33: =IF(C33 =" "," ",B32+1) | C33: =IF(B32>=$D$3, " ", EDATE(C32,1)) | D33: =IF(C33=" "," ",(C33-C32)) | E33: =IF(C33=" "," ",E32-G33) | F33: =IF(C33=" "," ",G33+H33+I33+Q33) | G33: =IF(C33=" "," ",IF(C33=$D$12,$D$4-SUM($G$21:G32),($D$13-H33))) | H33: =IF(C33=" "," ",IF($D$14="ні",E32*$D$6*D33/(DATE(YEAR(C33),12,31)-DATE(YEAR(C33),1,1)+1),E32*$F$14*D33/(DATE(YEAR(C33),12,31)-DATE(YEAR(C33),1,1)+1))) | I33: =IF(C33=" "," ",IF($F$8="нет",$D$7*$D$4,($D$4*(1+$D$8))*$D$7)) | U33: =IF(B32=$D$3,XIRR($F$20:F32,$C$20:C32)," ") -> 0.54769989 | AG33: =DATE(YEAR(C33),12,31)-DATE(YEAR(C33),1,1)+1 -> #VALUE!
B34: =IF(C34 =" "," ",B33+1) | C34: =IF(B33>=$D$3, " ", EDATE(C33,1)) | D34: =IF(C34=" "," ",(C34-C33)) | E34: =IF(C34=" "," ",E33-G34) | F34: =IF(C34=" "," ",G34+H34+I34+Q34) | G34: =IF(C34=" "," ",IF(C34=$D$12,$D$4-SUM($G$21:G33),($D$13-H34))) | H34: =IF(C34=" "," ",IF($D$14="ні",E33*$D$6*D34/(DATE(YEAR(C34),12,31)-DATE(YEAR(C34),1,1)+1),E33*$F$14*D34/(DATE(YEAR(C34),12,31)-DATE(YEAR(C34),1,1)+1))) | I34: =IF(C34=" "," ",IF($F$8="нет",$D$7*$D$4,($D$4*(1+$D$8))*$D$7)) | U34: =IF(B33=$D$3,XIRR($F$20:F33,$C$20:C33)," ") | AG34: =DATE(YEAR(C34),12,31)-DATE(YEAR(C34),1,1)+1 -> #VALUE!
B35: =IF(C35 =" "," ",B34+1) | C35: =IF(B34>=$D$3, " ", EDATE(C34,1)) | D35: =IF(C35=" "," ",(C35-C34)) | E35: =IF(C35=" "," ",E34-G35) | F35: =IF(C35=" "," ",G35+H35+I35+Q35) | G35: =IF(C35=" "," ",IF(C35=$D$12,$D$4-SUM($G$21:G34),($D$13-H35))) | H35: =IF(C35=" "," ",IF($D$14="ні",E34*$D$6*D35/(DATE(YEAR(C35),12,31)-DATE(YEAR(C35),1,1)+1),E34*$F$14*D35/(DATE(YEAR(C35),12,31)-DATE(YEAR(C35),1,1)+1))) | I35: =IF(C35=" "," ",IF($F$8="нет",$D$7*$D$4,($D$4*(1+$D$8))*$D$7)) | U35: =IF(B34=$D$3,XIRR($F$20:F34,$C$20:C34)," ") | AG35: =DATE(YEAR(C35),12,31)-DATE(YEAR(C35),1,1)+1 -> #VALUE!
B36: =IF(C36 =" "," ",B35+1) | C36: =IF(B35>=$D$3, " ", EDATE(C35,1)) | D36: =IF(C36=" "," ",(C36-C35)) | E36: =IF(C36=" "," ",E35-G36) | F36: =IF(C36=" "," ",G36+H36+I36+Q36) | G36: =IF(C36=" "," ",IF(C36=$D$12,$D$4-SUM($G$21:G35),($D$13-H36))) | H36: =IF(C36=" "," ",IF($D$14="ні",E35*$D$6*D36/(DATE(YEAR(C36),12,31)-DATE(YEAR(C36),1,1)+1),E35*$F$14*D36/(DATE(YEAR(C36),12,31)-DATE(YEAR(C36),1,1)+1))) | I36: =IF(C36=" "," ",IF($F$8="нет",$D$7*$D$4,($D$4*(1+$D$8))*$D$7)) | U36: =IF(B35=$D$3,XIRR($F$20:F35,$C$20:C35)," ") | AG36: =DATE(YEAR(C36),12,31)-DATE(YEAR(C36),1,1)+1 -> #VALUE!
B37: =IF(C37 =" "," ",B36+1) | C37: =IF(B36>=$D$3, " ", EDATE(C36,1)) | D37: =IF(C37=" "," ",(C37-C36)) | E37: =IF(C37=" "," ",E36-G37) | F37: =IF(C37=" "," ",G37+H37+I37+Q37) | G37: =IF(C37=" "," ",IF(C37=$D$12,$D$4-SUM($G$21:G36),($D$13-H37))) | H37: =IF(C37=" "," ",IF($D$14="ні",E36*$D$6*D37/(DATE(YEAR(C37),12,31)-DATE(YEAR(C37),1,1)+1),E36*$F$14*D37/(DATE(YEAR(C37),12,31)-DATE(YEAR(C37),1,1)+1))) | I37: =IF(C37=" "," ",IF($F$8="нет",$D$7*$D$4,($D$4*(1+$D$8))*$D$7)) | U37: =IF(B36=$D$3,XIRR($F$20:F36,$C$20:C36)," ") | AG37: =DATE(YEAR(C37),12,31)-DATE(YEAR(C37),1,1)+1 -> #VALUE!
B38: =IF(C38 =" "," ",B37+1) | C38: =IF(B37>=$D$3, " ", EDATE(C37,1)) | D38: =IF(C38=" "," ",(C38-C37)) | E38: =IF(C38=" "," ",E37-G38) | F38: =IF(C38=" "," ",G38+H38+I38+Q38) | G38: =IF(C38=" "," ",IF(C38=$D$12,$D$4-SUM($G$21:G37),($D$13-H38))) | H38: =IF(C38=" "," ",IF($D$14="ні",E37*$D$6*D38/(DATE(YEAR(C38),12,31)-DATE(YEAR(C38),1,1)+1),E37*$F$14*D38/(DATE(YEAR(C38),12,31)-DATE(YEAR(C38),1,1)+1))) | I38: =IF(C38=" "," ",IF($F$8="нет",$D$7*$D$4,($D$4*(1+$D$8))*$D$7)) | U38: =IF(B37=$D$3,XIRR($F$20:F37,$C$20:C37)," ") | AG38: =DATE(YEAR(C38),12,31)-DATE(YEAR(C38),1,1)+1 -> #VALUE!
B39: =IF(C39 =" "," ",B38+1) | C39: =IF(B38>=$D$3, " ", EDATE(C38,1)) | D39: =IF(C39=" "," ",(C39-C38)) | E39: =IF(C39=" "," ",E38-G39) | F39: =IF(C39=" "," ",G39+H39+I39+Q39) | G39: =IF(C39=" "," ",IF(C39=$D$12,$D$4-SUM($G$21:G38),($D$13-H39))) | H39: =IF(C39=" "," ",IF($D$14="ні",E38*$D$6*D39/(DATE(YEAR(C39),12,31)-DATE(YEAR(C39),1,1)+1),E38*$F$14*D39/(DATE(YEAR(C39),12,31)-DATE(YEAR(C39),1,1)+1))) | I39: =IF(C39=" "," ",IF($F$8="нет",$D$7*$D$4,($D$4*(1+$D$8))*$D$7)) | U39: =IF(B38=$D$3,XIRR($F$20:F38,$C$20:C38)," ") | AG39: =DATE(YEAR(C39),12,31)-DATE(YEAR(C39),1,1)+1 -> #VALUE!
B40: =IF(C40 =" "," ",B39+1) | C40: =IF(B39>=$D$3, " ", EDATE(C39,1)) | D40: =IF(C40=" "," ",(C40-C39)) | E40: =IF(C40=" "," ",E39-G40) | F40: =IF(C40=" "," ",G40+H40+I40+Q40) | G40: =IF(C40=" "," ",IF(C40=$D$12,$D$4-SUM($G$21:G39),($D$13-H40))) | H40: =IF(C40=" "," ",IF($D$14="ні",E39*$D$6*D40/(DATE(YEAR(C40),12,31)-DATE(YEAR(C40),1,1)+1),E39*$F$14*D40/(DATE(YEAR(C40),12,31)-DATE(YEAR(C40),1,1)+1))) | I40: =IF(C40=" "," ",IF($F$8="нет",$D$7*$D$4,($D$4*(1+$D$8))*$D$7)) | U40: =IF(B39=$D$3,XIRR($F$20:F39,$C$20:C39)," ") | AG40: =DATE(YEAR(C40),12,31)-DATE(YEAR(C40),1,1)+1 -> #VALUE!
...

Sheet стандарт
G1: так
B2: Дата надання | D2: 44866 | G2: ні | AA2: да
B3: строк | D3: 120 | G3: =SUM(G20:G88) -> 575000 | AA3: нет
B4: сума кредиту | D4: 1000000
B5: процентна ставка | D5: 0.33
B6: щомісячна комісія | D6: 0
B7: разова комісія | D7: 0.0199 | F7: нет
B8: вартість застави | D8: 2000000
B9: страхування застави | D9: 0.003
B10: страхування позичальника | D10: 0
B11: дата погашення | D11: =EDATE(D2,D3) -> 48519
B12: Платіж у місяць | D12: =-PMT(D5/12,D3,D4) -> 28603.043
B13: знижена ставка на пільговий період | D13: ні | F13: 0.36
B14: № з/п | C14: Дата видачі кредиту/дата платежу | D14: Кількість днів у розрахунковому періоді | E14: Сума заборгованості | F14: Чиста сума кредиту/сума платежу за розрахунковий період, грн. | G14: Види платежів за кредитом | S14: Реальна річна процентна ставка, % | T14: Загальна вартість кредиту, грн
G15: сума кредиту за договором | H15: проценти за користування кредитом | I15: платежі за додаткові та супутні послуги
I16: банку | M16: кредитного посередника | O16: третіх осіб
I17: за обслуговування кредитної заборгованості | J17: розрахунково-касове обслуговування | K17: комісія за надання кредиту | L17: інші послуги банку | M17: комісійний збір | N17: інша плата за послуги кредитного посередника | O17: послуги нотаріуса | P17: послуги оцінювача | Q17: послуги страховика | R17: інші послуги третіх осіб
B18: 1 | C18: 2 | D18: 3 | F18: 4 | G18: 5 | H18: 6 | I18: 7 | J18: 8 | K18: 9 | L18: 10 | M18: 11 | N18: 12 | O18: 13 | P18: 14 | Q18: 15 | R18: 16 | S18: 17 | T18: 18
B19: 0 | C19: =D2 -> 44866 | E19: =$D$4 -> 1000000 | F19: =-D4+K19 -> -980100 | K19: =D7*D4 -> 19900 | O19: =3000+D8*0.1% -> 5000 | P19: 3000 | Q19: =$D$9*$D$8+$D$10*E19 -> 6000 | S19: =SUM(U22:U190) -> 0.40692354 | T19: =SUM(G20:I88) -> 1935474
B20: 1 | C20: =EDATE(C19,1) -> 44896 | D20: =C20-C19 -> 30 | E20: =E19-G20 -> 991666.67 | F20: =G20+H20+I20 -> 35456.621 | G20: =IF(C20=" "," ",$D$4/$D$3) -> 8333.3333 | H20: =IF(C20=" "," ",E19*$D$5*(C20-C19)/365) -> 27123.288 | I20: =IF(C20=" "," ",IF($F$7="нет",$D$6*$D$4,($D$4*(1+$D$7))*$D$6)) -> 0
B21: 2 | C21: =IF(B20>=$D$3, " ", EDATE(C20,1)) -> 44927 | D21: =IF(C21=" "," ",(C21-C20)) -> 31 | E21: =E20-G21 -> 983333.33 | F21: =IF(C21=" "," ",G21+H21+I21) -> 36127.169 | G21: =IF(C21=" "," ",$D$4/$D$3) -> 8333.3333 | H21: =IF(C21=" "," ",E20*$D$5*(C21-C20)/365) -> 27793.836 | I21: =IF(C21=" "," ",IF($F$7="нет",$D$6*$D$4,($D$4*(1+$D$7))*$D$6)) -> 0
B22: =IF(C22 =" "," ",B21+1) -> 3 | C22: =IF(B21>=$D$3, " ", EDATE(C21,1)) -> 44958 | D22: =IF(C22=" "," ",(C22-C21)) -> 31 | E22: =E21-G22 -> 975000 | F22: =IF(C22=" "," ",G22+H22+I22) -> 35893.607 | G22: =IF(C22=" "," ",$D$4/$D$3) -> 8333.3333 | H22: =IF(C22=" "," ",E21*$D$5*(C22-C21)/365) -> 27560.274 | I22: =IF(C22=" "," ",IF($F$7="нет",$D$6*$D$4,($D$4*(1+$D$7))*$D$6)) -> 0 | U22: =IF(B21=$D$3,XIRR(#REF!,$C$19:C21)," ")
B23: =IF(C23 =" "," ",B22+1) -> 4 | C23: =IF(B22>=$D$3, " ", EDATE(C22,1)) -> 44986 | D23: =IF(C23=" "," ",(C23-C22)) -> 28 | E23: =E22-G23 -> 966666.67 | F23: =IF(C23=" "," ",G23+H23+I23) -> 33015.525 | G23: =IF(C23=" "," ",$D$4/$D$3) -> 8333.3333 | H23: =IF(C23=" "," ",E22*$D$5*(C23-C22)/365) -> 24682.192 | I23: =IF(C23=" "," ",IF($F$7="нет",$D$6*$D$4,($D$4*(1+$D$7))*$D$6)) -> 0 | U23: =IF(B22=$D$3,XIRR($F$19:F22,$C$19:C22)," ")
B24: =IF(C24 =" "," ",B23+1) -> 5 | C24: =IF(B23>=$D$3, " ", EDATE(C23,1)) -> 45017 | D24: =IF(C24=" "," ",(C24-C23)) -> 31 | E24: =E23-G24 -> 958333.33 | F24: =IF(C24=" "," ",G24+H24+I24) -> 35426.484 | G24: =IF(C24=" "," ",$D$4/$D$3) -> 8333.3333 | H24: =IF(C24=" "," ",E23*$D$5*(C24-C23)/365) -> 27093.151 | I24: =IF(C24=" "," ",IF($F$7="нет",$D$6*$D$4,($D$4*(1+$D$7))*$D$6)) -> 0 | U24: =IF(B23=$D$3,XIRR($F$19:F23,$C$19:C23)," ")
B25: =IF(C25 =" "," ",B24+1) -> 6 | C25: =IF(B24>=$D$3, " ", EDATE(C24,1)) -> 45047 | D25: =IF(C25=" "," ",(C25-C24)) -> 30 | E25: =IF(C25=" "," ",E24-G25) -> 950000 | F25: =IF(C25=" "," ",G25+H25+I25) -> 34326.484 | G25: =IF(C25=" "," ",$D$4/$D$3) -> 8333.3333 | H25: =IF(C25=" "," ",E24*$D$5*(C25-C24)/365) -> 25993.151 | I25: =IF(C25=" "," ",IF($F$7="нет",$D$6*$D$4,($D$4*(1+$D$7))*$D$6)) -> 0 | U25: =IF(B24=$D$3,XIRR($F$19:F24,$C$19:C24)," ")
B26: =IF(C26 =" "," ",B25+1) -> 7 | C26: =IF(B25>=$D$3, " ", EDATE(C25,1)) -> 45078 | D26: =IF(C26=" "," ",(C26-C25)) -> 31 | E26: =IF(C26=" "," ",E25-G26) -> 941666.67 | F26: =IF(C26=" "," ",G26+H26+I26) -> 34959.361 | G26: =IF(C26=" "," ",$D$4/$D$3) -> 8333.3333 | H26: =IF(C26=" "," ",E25*$D$5*(C26-C25)/365) -> 26626.027 | I26: =IF(C26=" "," ",IF($F$7="нет",$D$6*$D$4,($D$4*(1+$D$7))*$D$6)) -> 0 | U26: =IF(B25=$D$3,XIRR($F$19:F25,$C$19:C25)," ")
B27: =IF(C27 =" "," ",B26+1) -> 8 | C27: =IF(B26>=$D$3, " ", EDATE(C26,1)) -> 45108 | D27: =IF(C27=" "," ",(C27-C26)) -> 30 | E27: =IF(C27=" "," ",E26-G27) -> 933333.33 | F27: =IF(C27=" "," ",G27+H27+I27) -> 33874.429 | G27: =IF(C27=" "," ",$D$4/$D$3) -> 8333.3333 | H27: =IF(C27=" "," ",E26*$D$5*(C27-C26)/365) -> 25541.096 | I27: =IF(C27=" "," ",IF($F$7="нет",$D$6*$D$4,($D$4*(1+$D$7))*$D$6)) -> 0 | U27: =IF(B26=$D$3,XIRR($F$19:F26,$C$19:C26)," ")
B28: =IF(C28 =" "," ",B27+1) -> 9 | C28: =IF(B27>=$D$3, " ", EDATE(C27,1)) -> 45139 | D28: =IF(C28=" "," ",(C28-C27)) -> 31 | E28: =IF(C28=" "," ",E27-G28) -> 925000 | F28: =IF(C28=" "," ",G28+H28+I28) -> 34492.237 | G28: =IF(C28=" "," ",$D$4/$D$3) -> 8333.3333 | H28: =IF(C28=" "," ",E27*$D$5*(C28-C27)/365) -> 26158.904 | I28: =IF(C28=" "," ",IF($F$7="нет",$D$6*$D$4,($D$4*(1+$D$7))*$D$6)) -> 0 | U28: =IF(B27=$D$3,XIRR($F$19:F27,$C$19:C27)," ")
B29: =IF(C29 =" "," ",B28+1) -> 10 | C29: =IF(B28>=$D$3, " ", EDATE(C28,1)) -> 45170 | D29: =IF(C29=" "," ",(C29-C28)) -> 31 | E29: =IF(C29=" "," ",E28-G29) -> 916666.67 | F29: =IF(C29=" "," ",G29+H29+I29) -> 34258.676 | G29: =IF(C29=" "," ",$D$4/$D$3) -> 8333.3333 | H29: =IF(C29=" "," ",E28*$D$5*(C29-C28)/365) -> 25925.342 | I29: =IF(C29=" "," ",IF($F$7="нет",$D$6*$D$4,($D$4*(1+$D$7))*$D$6)) -> 0 | U29: =IF(B28=$D$3,XIRR($F$19:F28,$C$19:C28)," ")
B30: =IF(C30 =" "," ",B29+1) -> 11 | C30: =IF(B29>=$D$3, " ", EDATE(C29,1)) -> 45200 | D30: =IF(C30=" "," ",(C30-C29)) -> 30 | E30: =IF(C30=" "," ",E29-G30) -> 908333.33 | F30: =IF(C30=" "," ",G30+H30+I30) -> 33196.347 | G30: =IF(C30=" "," ",$D$4/$D$3) -> 8333.3333 | H30: =IF(C30=" "," ",E29*$D$5*(C30-C29)/365) -> 24863.014 | I30: =IF(C30=" "," ",IF($F$7="нет",$D$6*$D$4,($D$4*(1+$D$7))*$D$6)) -> 0 | U30: =IF(B29=$D$3,XIRR($F$19:F29,$C$19:C29)," ")
B31: =IF(C31 =" "," ",B30+1) -> 12 | C31: =IF(B30>=$D$3, " ", EDATE(C30,1)) -> 45231 | D31: =IF(C31=" "," ",(C31-C30)) -> 31 | E31: =IF(C31=" "," ",E30-G31) -> 900000 | F31: =IF(C31=" "," ",G31+H31+I31+Q31) -> 39791.553 | G31: =IF(C31=" "," ",$D$4/$D$3) -> 8333.3333 | H31: =IF(C31=" "," ",E30*$D$5*(C31-C30)/365) -> 25458.219 | I31: =IF(C31=" "," ",IF($F$7="нет",$D$6*$D$4,($D$4*(1+$D$7))*$D$6)) -> 0 | Q31: =$D$9*$D$8+$D$10*E31 -> 6000 | U31: =IF(B30=$D$3,XIRR($F$19:F30,$C$19:C30)," ")
B32: =IF(C32 =" "," ",B31+1) -> 13 | C32: =IF(B31>=$D$3, " ", EDATE(C31,1)) -> 45261 | D32: =IF(C32=" "," ",(C32-C31)) -> 30 | E32: =IF(C32=" "," ",E31-G32) -> 891666.67 | F32: =IF(C32=" "," ",G32+H32+I32+Q32) -> 32744.292 | G32: =IF(C32=" "," ",$D$4/$D$3) -> 8333.3333 | H32: =IF(C32=" "," ",E31*$D$5*(C32-C31)/365) -> 24410.959 | I32: =IF(C32=" "," ",IF($F$7="нет",$D$6*$D$4,($D$4*(1+$D$7))*$D$6)) -> 0 | U32: =IF(B31=$D$3,XIRR($F$19:F31,$C$19:C31)," ")
B33: =IF(C33 =" "," ",B32+1) -> 14 | C33: =IF(B32>=$D$3, " ", EDATE(C32,1)) -> 45292 | D33: =IF(C33=" "," ",(C33-C32)) -> 31 | E33: =IF(C33=" "," ",E32-G33) -> 883333.33 | F33: =IF(C33=" "," ",G33+H33+I33+Q33) -> 33324.429 | G33: =IF(C33=" "," ",$D$4/$D$3) -> 8333.3333 | H33: =IF(C33=" "," ",E32*$D$5*(C33-C32)/365) -> 24991.096 | I33: =IF(C33=" "," ",IF($F$7="нет",$D$6*$D$4,($D$4*(1+$D$7))*$D$6)) -> 0 | U33: =IF(B32=$D$3,XIRR($F$19:F32,$C$19:C32)," ")
B34: =IF(C34 =" "," ",B33+1) -> 15 | C34: =IF(B33>=$D$3, " ", EDATE(C33,1)) -> 45323 | D34: =IF(C34=" "," ",(C34-C33)) -> 31 | E34: =IF(C34=" "," ",E33-G34) -> 875000 | F34: =IF(C34=" "," ",G34+H34+I34+Q34) -> 33090.868 | G34: =IF(C34=" "," ",$D$4/$D$3) -> 8333.3333 | H34: =IF(C34=" "," ",E33*$D$5*(C34-C33)/365) -> 24757.534 | I34: =IF(C34=" "," ",IF($F$7="нет",$D$6*$D$4,($D$4*(1+$D$7))*$D$6)) -> 0 | U34: =IF(B33=$D$3,XIRR($F$19:F33,$C$19:C33)," ")
B35: =IF(C35 =" "," ",B34+1) -> 16 | C35: =IF(B34>=$D$3, " ", EDATE(C34,1)) -> 45352 | D35: =IF(C35=" "," ",(C35-C34)) -> 29 | E35: =IF(C35=" "," ",E34-G35) -> 866666.67 | F35: =IF(C35=" "," ",G35+H35+I35+Q35) -> 31275.114 | G35: =IF(C35=" "," ",$D$4/$D$3) -> 8333.3333 | H35: =IF(C35=" "," ",E34*$D$5*(C35-C34)/365) -> 22941.781 | I35: =IF(C35=" "," ",IF($F$7="нет",$D$6*$D$4,($D$4*(1+$D$7))*$D$6)) -> 0 | U35: =IF(B34=$D$3,XIRR($F$19:F34,$C$19:C34)," ")
B36: =IF(C36 =" "," ",B35+1) -> 17 | C36: =IF(B35>=$D$3, " ", EDATE(C35,1)) -> 45383 | D36: =IF(C36=" "," ",(C36-C35)) -> 31 | E36: =IF(C36=" "," ",E35-G36) -> 858333.33 | F36: =IF(C36=" "," ",G36+H36+I36+Q36) -> 32623.744 | G36: =IF(C36=" "," ",$D$4/$D$3) -> 8333.3333 | H36: =IF(C36=" "," ",E35*$D$5*(C36-C35)/365) -> 24290.411 | I36: =IF(C36=" "," ",IF($F$7="нет",$D$6*$D$4,($D$4*(1+$D$7))*$D$6)) -> 0 | U36: =IF(B35=$D$3,XIRR($F$19:F35,$C$19:C35)," ")
B37: =IF(C37 =" "," ",B36+1) -> 18 | C37: =IF(B36>=$D$3, " ", EDATE(C36,1)) -> 45413 | D37: =IF(C37=" "," ",(C37-C36)) -> 30 | E37: =IF(C37=" "," ",E36-G37) -> 850000 | F37: =IF(C37=" "," ",G37+H37+I37+Q37) -> 31614.155 | G37: =IF(C37=" "," ",$D$4/$D$3) -> 8333.3333 | H37: =IF(C37=" "," ",E36*$D$5*(C37-C36)/365) -> 23280.822 | I37: =IF(C37=" "," ",IF($F$7="нет",$D$6*$D$4,($D$4*(1+$D$7))*$D$6)) -> 0 | U37: =IF(B36=$D$3,XIRR($F$19:F36,$C$19:C36)," ")
B38: =IF(C38 =" "," ",B37+1) -> 19 | C38: =IF(B37>=$D$3, " ", EDATE(C37,1)) -> 45444 | D38: =IF(C38=" "," ",(C38-C37)) -> 31 | E38: =IF(C38=" "," ",E37-G38) -> 841666.67 | F38: =IF(C38=" "," ",G38+H38+I38+Q38) -> 32156.621 | G38: =IF(C38=" "," ",$D$4/$D$3) -> 8333.3333 | H38: =IF(C38=" "," ",E37*$D$5*(C38-C37)/365) -> 23823.288 | I38: =IF(C38=" "," ",IF($F$7="нет",$D$6*$D$4,($D$4*(1+$D$7))*$D$6)) -> 0 | U38: =IF(B37=$D$3,XIRR($F$19:F37,$C$19:C37)," ")
B39: =IF(C39 =" "," ",B38+1) -> 20 | C39: =IF(B38>=$D$3, " ", EDATE(C38,1)) -> 45474 | D39: =IF(C39=" "," ",(C39-C38)) -> 30 | E39: =IF(C39=" "," ",E38-G39) -> 833333.33 | F39: =IF(C39=" "," ",G39+H39+I39+Q39) -> 31162.1 | G39: =IF(C39=" "," ",$D$4/$D$3) -> 8333.3333 | H39: =IF(C39=" "," ",E38*$D$5*(C39-C38)/365) -> 22828.767 | I39: =IF(C39=" "," ",IF($F$7="нет",$D$6*$D$4,($D$4*(1+$D$7))*$D$6)) -> 0 | U39: =IF(B38=$D$3,XIRR($F$19:F38,$C$19:C38)," ")
B40: =IF(C40 =" "," ",B39+1) -> 21 | C40: =IF(B39>=$D$3, " ", EDATE(C39,1)) -> 45505 | D40: =IF(C40=" "," ",(C40-C39)) -> 31 | E40: =IF(C40=" "," ",E39-G40) -> 825000 | F40: =IF(C40=" "," ",G40+H40+I40+Q40) -> 31689.498 | G40: =IF(C40=" "," ",$D$4/$D$3) -> 8333.3333 | H40: =IF(C40=" "," ",E39*$D$5*(C40-C39)/365) -> 23356.164 | I40: =IF(C40=" "," ",IF($F$7="нет",$D$6*$D$4,($D$4*(1+$D$7))*$D$6)) -> 0 | U40: =IF(B39=$D$3,XIRR($F$19:F39,$C$19:C39)," ")
...
